Workbook

Sheet Contents
B3: Suicide and Self-harm Monitoring
B4: National Mortality Database – Suicide (ICD-10 X60–X84, Y87.0)
B5: Published: 1 April 2026
B7: Contents
B8: ='Table NMD 1'!A1 -> Table NMD 1: Suicide by sex, 1907 to 2024
B9: ='Table NMD 2'!A1 -> Table NMD 2: Suicide by sex and 5-year age group, 1968 to 2024
B11: ='Table NMD 3a'!A1 -> Table NMD 3a: Suicide by sex, registration year and state and territory, 1979 to 2024
B12: ='Table NMD 3b'!A1 -> Table NMD 3b: Suicide by sex, year of occurrence and state and territory, 1979 to 2024
B13: ='Table NMD 4a'!A1 -> Table NMD 4a: Suicide by state and territory, and age group, 2001–2005 to 2020–2024
B14: ='Table NMD 4b'!A1 -> Table NMD 4b: Suicide by year of occurence and state and territory, and age group, 2001–2005 to 2020–2024
B16: ='Table NMD 5'!A1 -> Table NMD 5: Suicide by Remoteness area and sex, 2001 to 2024
B17: ='Table NMD 6'!A1 -> Table NMD 6: Suicide by Primary Health Network, 2001 to 2024
B18: ='Table NMD 7'!A1 -> Table NMD 7: Suicide by Statistical Area 4 and sex, 2014–2018 to 2020–2024
B19: ='Table NMD 8'!A1 -> Table NMD 8: Suicide by Statistical Area 3, 2014–2018 to 2020–2024
B21: ='Table NMD 9a'!A1 -> Table NMD 9a: Suicide by Indigenous status and sex, 2011 to 2024
B22: ='Table NMD 9b'!A1 -> Table NMD 9b: Suicide by year of occurrence, Indigenous status, and sex, 2011 to 2024
B23: ='Table NMD 10'!A1 -> Table NMD 10: Suicide by Indigenous status and age group, 2011–2015 to 2020–2024
B24: ='Table NMD 11'!A1 -> Table NMD 11: Suicide by Indigenous status,state and territory, and sex, 2011–2015 to 2020–2024
B25: ='Table NMD 12'!A1 -> Table NMD 12: Suicide by Indigenous status, state and territory, and age group, 2011–2015 to 2020–2024
B27: ='Table NMD 13a'!A1 -> Table NMD 13a: Suicide among children and young people, 2001 to 2024
B28: ='Table NMD 13b'!A1 -> Table NMD 13b: Suicide among children and young people, by year of occurrence, 2001 to 2024
B30: ='Table NMD 14'!A1 -> Table NMD 14: Suicide by mechanism and sex, 1907 to 2024
B31: ='Table NMD 15'!A1 -> Table NMD 15: Suicide by mechanism and socioeconomic area (IRSAD), 2011 to 2024
B33: ='Table NMD 16'!A1 -> Table NMD 16: Deaths of despair: Suicide, alcohol and other drug-related deaths by sex, 1997 to 2024
B34: ='Table NMD 17'!A1 -> Table NMD 17: Suicide and most frequent psychosocial risk factors, by sex and age group, 2017 to 2024
B36: ='Explanatory notes'!A1 -> Explanatory notes

Sheet Explanatory notes
A1: Explanatory notes
A3: Data source
A4: Deaths data is from the Australian Bureau of Statistics (Causes of Death, Australia, 2024 and Intentional self-harm (suicide) deaths, 2024) and the AIHW National Mortality Database..
A5: Cause of Death Unit Record File data are provided to the AIHW by the Registries of Births, Deaths and Marriages and the National Coronial Information System (managed by the Victorian Department of Justice) and include cause of death coded by the Australian Bureau of Statistics (ABS). The data are maintained by the AIHW in the National Mortality Database.
A7: Notes
A8: 1. Information about deaths is collected on death certificates and certified by either a medical practitioner or a coroner. Registration of deaths is compulsory in Australia and is the responsibility of each state and territory Registrar of Births, Deaths and Marriages under jurisdiction-specific legislation. On behalf of the Registrars, deaths data are assembled, coded and published by statistical agencies. These agencies have varied since 1900 and have included state based statistical offices, the Commonwealth Statistician's Office and the Commonwealth Bureau of Census and Statistics, now known as the Australian Bureau of Statistics (ABS). Causes of Death Unit Record File data are provided to the AIHW by the Australian Coordinating Registry on behalf of the jurisdictional Registries of Births, Deaths and Marriages and the National Coronial Information System (managed by the Victorian Department of Justice) and include cause of death coded by the ABS. The data are maintained by the AIHW in the National Mortality Database
A9: 2. Interpret data derived from Victorian coroner referred deaths with caution. Refer to Historical considerations in the Data Quality section of the ABS Causes of Death Methodology for more detail.
A10: 3. Causes of death are coded by the ABS to the International Statistical Classification of Diseases and Related Health Problems (ICD).
A11: 4. Deaths in this workbook are counted according to year of registration of death, except for NMD 3b, 4b, 9b and 13b which are counted according to the year in which the death occurred. Deaths registered up to August 2025 that occurred in earlier years have been included. Interpret year of occurrence data for 2024 with caution as it is expected to increase with further revisions.
A12: 5. Deaths registered between 2006 and 2021 are based on the final version of cause of death data; deaths registered in 2022 are based on revised data; deaths registered in 2023 are based on preliminary revised data, and deaths registered in 2024 are based on preliminary data. Revised and preliminary data are subject to further revision by the ABS. Deaths registered prior to 2006 were not subject to a revisions process.
A13: 6. For data by geographies other than Australia, cells with small values have been randomly assigned to protect the confidentiality of individuals. As a result, some totals will not equal the sum of their components. Cells with a zero value have not been affected by confidentialisation.
A14: 7. For data by state, the state is based on area of usual residence.
... A25: Where to get more information
A26: AIHW life expectancy and deaths webpage | B26: https://www.aihw.gov.au/reports-statistics/health-conditions-disability-deaths/life-expectancy-deaths/overview
A27: AIHW Australia's health | B27: https://www.aihw.gov.au/reports/australias-health/australias-health-2024-in-brief/summary
A28: AIHW data request tool | B28: http://datarequest.aihw.gov.au
A30: Methods
A31: Classification and coding
A32: Data for Suicide (X60–X84, Y87.0) are from the ICD-10 chapter All external causes of morbidity and mortality (V01–Y98).
A33: Suicide deaths by firearms
A34: ICD version and years | B34: ICD codes
A35: ICD-7 1958–1967 | B35: E976
A36: ICD-8 1968–1978 | B36: E955
A37: ICD-9 1979–1996 | B37: E955
A38: ICD-10 1997–present | B38: X72–X75
A40: Suicide deaths by gas
A41: ICD version and years | B41: ICD codes
A42: ICD-7 1958–1967 | B42: E972, E973
A43: ICD-8 1968–1978 | B43: E951, E952
A44: ICD-9 1979–1996 | B44: E951, E952
A45: ICD-10 1997–present | B45: X67
A47: Suicide deaths by hanging
A48: ICD version and years | B48: ICD codes
A49: ICD-7 1958–1967 | B49: E974
A50: ICD-8 1968–1978 | B50: E953
A51: ICD-9 1979–1996 | B51: E953
A52: ICD-10 1997–present | B52: X70
A54: Suicide deaths by poisoning (except gas)
A55: ICD version and years | B55: ICD codes
A56: ICD-7 1958–1967 | B56: E970, E971
A57: ICD-8 1968–1978 | B57: E950
A58: ICD-9 1979–1996 | B58: E950
A59: ICD-10 1997–present | B59: X60–X66, X68–X69
A61: Suicide deaths all
A62: ICD version and years | B62: ICD codes
A63: ICD-7 1958–1967 | B63: E970–E979, E963
A64: ICD-8 1968–1978 | B64: E950–E959
A65: ICD-9 1979–1996 | B65: E950–E959
A66: ICD-10 1997–present | B66: X60–X84, Y87.0
A68: Rates
A69: 1. Rates are expressed as deaths per 100,000 population.
A70: 2. Age-specific and crude rates are based on the most recent version of the Australian estimated resident population as at 30 June of the reference year available to AIHW at the time of preparing these data.
A71: 3. Age-standardised rates are rates standardised to a specific standard age structure to facilitate comparison between populations and over time. In this report, they are directly age-standardised rates adjusted using the Australian standard population, that is, the Australian estimated resident population (ERP) as at 30 June 2001.
A72: 4. Rates based on small numbers are volatile and unreliable. Age-standardised death rates based on less than 20 deaths and crude or age-specific rates based on a very low death count may appear as 'n.p.'.
A73: 5. Rates for Aboriginal and Torres Strait Islander people have been calculated using population estimates and projections for the relevant year based on the 2021 Census (rebased to 2011). Non-Indigenous estimates for the relevant years are based on 2021 Census and have been derived by subtracting Aboriginal and Torres Strait Islander population estimates from the total Australian estimated resident population (ERP).

Sheet Table NMD 1
A1: Table NMD 1: Suicide by sex, 1907 to 2024
A2: Sex | B2: Measure | C2: 1907 | D2: 1908 | E2: 1909 | F2: 1910 | G2: 1911 | H2: 1912 | I2: 1913 | J2: 1914 | K2: 1915 | L2: 1916 | M2: 1917 | N2: 1918 | O2: 1919 | P2: 1920 | Q2: 1921 | R2: 1922 | S2: 1923 | T2: 1924 | U2: 1925 | V2: 1926 | W2: 1927 | X2: 1928 | Y2: 1929 | Z2: 1930 | AA2: 1931 | AB2: 1932 | AC2: 1933 | AD2: 1934 | AE2: 1935 | AF2: 1936 | AG2: 1937 | AH2: 1938 | AI2: 1939 | AJ2: 1940 | AK2: 1941 | AL2: 1942 | AM2: 1943 | AN2: 1944 | AO2: 1945 | AP2: 1946 | AQ2: 1947 | AR2: 1948 | AS2: 1949 | AT2: 1950 | AU2: 1951 | AV2: 1952 | AW2: 1953 | AX2: 1954 | AY2: 1955 | AZ2: 1956 | BA2: 1957 | BB2: 1958 | BC2: 1959 | BD2: 1960 | BE2: 1961 | BF2: 1962 | BG2: 1963 | BH2: 1964 | BI2: 1965 | BJ2: 1966 | BK2: 1967 | BL2: 1968 | BM2: 1969 | BN2: 1970 | BO2: 1971 | BP2: 1972 | BQ2: 1973 | BR2: 1974 | BS2: 1975 | BT2: 1976 | BU2: 1977 | BV2: 1978 | BW2: 1979 | BX2: 1980 | BY2: 1981 | BZ2: 1982 | CA2: 1983 | CB2: 1984 | CC2: 1985 | CD2: 1986 | CE2: 1987 | CF2: 1988 | CG2: 1989 | CH2: 1990 | CI2: 1991 | CJ2: 1992 | CK2: 1993 | CL2: 1994 | CM2: 1995 | CN2: 1996 | CO2: 1997 | CP2: 1998 | CQ2: 1999 | CR2: 2000 | CS2: 2001 | CT2: 2002 | CU2: 2003 | CV2: 2004 | CW2: 2005 | CX2: 2006 | CY2: 2007 | CZ2: 2008 | DA2: 2009 | DB2: 2010 | DC2: 2011 | DD2: 2012 | DE2: 2013 | DF2: 2014 | DG2: 2015 | DH2: 2016 | DI2: 2017 | DJ2: 2018 | DK2: 2019 | DL2: 2020 | DM2: 2021 | DN2: 2022 | DO2: 2023 | DP2: 2024
A3: Males | B3: Age-standardised rate (per 100,000) | C3: 26.694265 | D3: 25.347353 | E3: 25.010777 | F3: 26.719395 | G3: 26.071404 | H3: 27.995992 | I3: 27.996913 | J3: 28.098961 | K3: 29.062544 | L3: 24.975613 | M3: 21.219313 | N3: 21.191652 | O3: 21.370183 | P3: 26.355633 | Q3: 23.799437 | R3: 21.355633 | S3: 21.745575 | T3: 23.282278 | U3: 25.24886 | V3: 24.415377 | W3: 24.359454 | X3: 26.032767 | Y3: 23.85409 | Z3: 29.811501 | AA3: 26.48876 | AB3: 22.309652 | AC3: 22.562128 | AD3: 23.47082 | AE3: 21.996594 | AF3: 21.754291 | AG3: 19.855349 | AH3: 19.520225 | AI3: 20.364503 | AJ3: 18.610279 | AK3: 15.693309 | AL3: 13.931795 | AM3: 12.82597 | AN3: 11.967415 | AO3: 12.789059 | AP3: 16.132097 | AQ3: 17.133364 | AR3: 17.934263 | AS3: 17.775001 | AT3: 16.711891 | AU3: 16.46323 | AV3: 18.656603 | AW3: 18.622697 | AX3: 18.922246 | AY3: 18.073519 | AZ3: 18.609603 | BA3: 20.795828 | BB3: 22.028405 | BC3: 19.485666 | BD3: 17.962066 | BE3: 20.151751 | BF3: 22.510274 | BG3: 24.964694 | BH3: 23.276663 | BI3: 22.334844 | BJ3: 21.257443 | BK3: 23.020759 | BL3: 20.428645 | BM3: 20.329184 | BN3: 20.642159 | BO3: 20.943251 | BP3: 19.289951 | BQ3: 17.952658 | BR3: 18.241194 | BS3: 17.633651 | BT3: 17.966023 | BU3: 18.137791 | BV3: 17.462612 | BW3: 18.174717 | BX3: 18.118688 | BY3: 18.726711 | BZ3: 18.950561 | CA3: 18.594096 | CB3: 18.06271 | CC3: 19.067239 | CD3: 20.245839 | CE3: 23.30122 | CF3: 21.905895 | CG3: 20.554625 | CH3: 21.004965 | CI3: 22.152448 | CJ3: 21.349795 | CK3: 19.665193 | CL3: 21.093427 | CM3: 21.21226 | CN3: 21.615502 | CO3: 23.716 | CP3: 23.35793 | CQ3: 21.734338 | CR3: 20.019379 | CS3: 20.470846 | CT3: 18.984416 | CU3: 17.914424 | CV3: 16.964809 | CW3: 16.662653 | CX3: 16.026471 | CY3: 16.451598 | CZ3: 17.369796 | DA3: 16.529996 | DB3: 17.494787 | DC3: 16.207465 | DD3: 17.027363 | DE3: 16.950009 | DF3: 18.929527 | DG3: 19.732924 | DH3: 18.2 | DI3: 20 | DJ3: 19.6 | DK3: 20.1 | DL3: 18.8 | DM3: 18.6 | DN3: 19.2 | DO3: 18.4 | DP3: 18.3
A4: Females | B4: Age-standardised rate (per 100,000) | C4: 5.2225526 | D4: 4.6663325 | E4: 5.3075624 | F4: 4.935708 | G4: 5.4595906 | H4: 5.9598204 | I4: 6.7097411 | J4: 5.4410025 | K4: 6.1458059 | L4: 5.3257542 | M4: 4.2691815 | N4: 4.3094657 | O4: 5.0908007 | P4: 5.4207142 | Q4: 4.9756697 | R4: 3.8935525 | S4: 4.4418698 | T4: 4.9115584 | U4: 5.2539461 | V4: 5.3120337 | W4: 5.48648 | X4: 5.4117468 | Y4: 5.1353571 | Z4: 5.3375197 | AA4: 4.8957077 | AB4: 5.4508141 | AC4: 5.2482939 | AD4: 6.0809172 | AE4: 6.0015048 | AF4: 5.8091363 | AG4: 4.8440062 | AH4: 5.3361395 | AI4: 5.6116563 | AJ4: 5.5060401 | AK4: 4.8138302 | AL4: 4.7986872 | AM4: 4.2982244 | AN4: 5.1720909 | AO4: 5.0525089 | AP4: 6.5053852 | AQ4: 5.6890429 | AR4: 4.6348263 | AS4: 4.7311627 | AT4: 5.1095135 | AU4: 5.1762631 | AV4: 5.9149543 | AW4: 6.8001233 | AX4: 6.1415848 | AY4: 6.0971864 | AZ4: 6.5881852 | BA4: 7.7236067 | BB4: 6.9059945 | BC4: 6.6482262 | BD4: 7.1324818 | BE4: 7.6333047 | BF4: 9.9760138 | BG4: 12.312248 | BH4: 11.473692 | BI4: 12.456308 | BJ4: 12.245685 | BK4: 12.87561 | BL4: 9.8679963 | BM4: 9.1154496 | BN4: 8.7525472 | BO4: 10.372478 | BP4: 9.3999766 | BQ4: 8.3078944 | BR4: 8.2511342 | BS4: 7.9707631 | BT4: 6.575649 | BU4: 6.97465 | BV4: 7.2636636 | BW4: 7.216113 | BX4: 6.1273034 | BY4: 6.1124579 | BZ4: 6.6564651 | CA4: 5.855702 | CB4: 5.5553882 | CC4: 5.3392604 | CD4: 5.9597151 | CE4: 5.9579705 | CF4: 5.8507864 | CG4: 5.3618237 | CH4: 5.0875138 | CI4: 6.0340796 | CJ4: 5.4525793 | CK4: 4.5033011 | CL4: 4.8390468 | CM4: 5.5240063 | CN4: 5.0769008 | CO4: 6.2353565 | CP4: 5.6590783 | CQ4: 5.1608142 | CR4: 5.2257249 | CS4: 5.3139942 | CT4: 5.0622573 | CU4: 4.7761143 | CV4: 4.2968555 | CW4: 4.32536 | CX4: 4.7070475 | CY4: 4.9815443 | CZ4: 4.7328407 | DA4: 4.9728135 | DB4: 5.0235761 | DC4: 5.0731557 | DD4: 5.638106 | DE4: 5.674347 | DF4: 5.985993 | DG4: 6.324892 | DH4: 6 | DI4: 6.7 | DJ4: 6 | DK4: 6.4 | DL4: 5.9 | DM4: 6.2 | DN4: 6.2 | DO4: 6 | DP4: 5.5
A5: Persons | B5: Age-standardised rate (per 100,000) | C5: 16.897077 | D5: 15.9156 | E5: 15.924692 | F5: 16.638067 | G5: 16.540979 | H5: 17.740636 | I5: 18.049054 | J5: 17.424925 | K5: 18.192453 | L5: 15.668806 | M5: 13.180967 | N5: 13.113674 | O5: 13.495548 | P5: 16.150356 | Q5: 14.704741 | R5: 12.8082 | S5: 13.332684 | T5: 14.315569 | U5: 15.42596 | V5: 15.079887 | W5: 15.137119 | X5: 15.838832 | Y5: 14.711001 | Z5: 17.774605 | AA5: 15.793355 | AB5: 13.967363 | AC5: 14.002804 | AD5: 14.788682 | AE5: 14.001185 | AF5: 13.737964 | AG5: 12.308968 | AH5: 12.352514 | AI5: 12.909599 | AJ5: 11.997551 | AK5: 10.128715 | AL5: 9.2840039 | AM5: 8.4048523 | AN5: 8.4353776 | AO5: 8.7855317 | AP5: 11.152086 | AQ5: 11.230728 | AR5: 11.075658 | AS5: 11.036013 | AT5: 10.691523 | AU5: 10.729937 | AV5: 12.151944 | AW5: 12.509082 | AX5: 12.319427 | AY5: 11.869765 | AZ5: 12.477878 | BA5: 14.095458 | BB5: 14.247864 | BC5: 12.866888 | BD5: 12.404555 | BE5: 13.795942 | BF5: 16.081199 | BG5: 18.426935 | BH5: 17.158907 | BI5: 17.263176 | BJ5: 16.507831 | BK5: 17.713757 | BL5: 14.912091 | BM5: 14.437913 | BN5: 14.49454 | BO5: 15.389407 | BP5: 14.137003 | BQ5: 12.955598 | BR5: 13.034838 | BS5: 12.562975 | BT5: 12.080079 | BU5: 12.378062 | BV5: 12.196159 | BW5: 12.56176 | BX5: 11.927211 | BY5: 12.175014 | BZ5: 12.531695 | CA5: 11.930234 | CB5: 11.593733 | CC5: 12.024086 | CD5: 12.88848 | CE5: 14.338835 | CF5: 13.652583 | CG5: 12.759001 | CH5: 12.8436 | CI5: 13.887799 | CJ5: 13.227907 | CK5: 11.887204 | CL5: 12.787268 | CM5: 13.192907 | CN5: 13.162858 | CO5: 14.774333 | CP5: 14.36616 | CQ5: 13.238778 | CR5: 12.429349 | CS5: 12.742413 | CT5: 11.894706 | CU5: 11.198916 | CV5: 10.478018 | CW5: 10.363343 | CX5: 10.24261 | CY5: 10.608124 | CZ5: 10.947696 | DA5: 10.651016 | DB5: 11.155254 | DC5: 10.540164 | DD5: 11.214762 | DE5: 11.208746 | DF5: 12.341687 | DG5: 12.900405 | DH5: 12 | DI5: 13.2 | DJ5: 12.7 | DK5: 13.2 | DL5: 12.2 | DM5: 12.3 | DN5: 12.6 | DO5: 12.1 | DP5: 11.8
A6: Males | B6: Crude rate (per 100,000) | C6: . . | D6: . . | E6: . . | F6: . . | G6: . . | H6: . . | I6: . . | J6: . . | K6: . . | L6: . . | M6: . . | N6: . . | O6: . . | P6: . . | Q6: . . | R6: . . | S6: . . | T6: . . | U6: . . | V6: . . | W6: . . | X6: . . | Y6: . . | Z6: . . | AA6: . . | AB6: . . | AC6: . . | AD6: . . | AE6: . . | AF6: . . | AG6: . . | AH6: . . | AI6: . . | AJ6: . . | AK6: . . | AL6: . . | AM6: . . | AN6: . . | AO6: . . | AP6: . . | AQ6: . . | AR6: . . | AS6: . . | AT6: . . | AU6: . . | AV6: . . | AW6: . . | AX6: . . | AY6: . . | AZ6: . . | BA6: . . | BB6: . . | BC6: . . | BD6: . . | BE6: . . | BF6: . . | BG6: . . | BH6: . . | BI6: . . | BJ6: . . | BK6: . . | BL6: 16.9 | BM6: 16.6 | BN6: 17.1 | BO6: 17.5 | BP6: 16.2 | BQ6: 15.3 | BR6: 15.6 | BS6: 15.1 | BT6: 15.6 | BU6: 15.9 | BV6: 15.7 | BW6: 16.5 | BX6: 16.3 | BY6: 16.9 | BZ6: 17.4 | CA6: 17 | CB6: 16.8 | CC6: 18.1 | CD6: 19.1 | CE6: 21.8 | CF6: 21 | CG6: 19.8 | CH6: 20.4 | CI6: 21.4 | CJ6: 20.9 | CK6: 19.2 | CL6: 20.6 | CM6: 20.9 | CN6: 21.3 | CO6: 23.4 | CP6: 23.3 | CQ6: 21.4 | CR6: 19.7 | CS6: 20.2 | CT6: 18.8 | CU6: 17.7 | CV6: 16.8 | CW6: 16.5 | CX6: 16 | CY6: 16.4 | CZ6: 17.3 | DA6: 16.5 | DB6: 17.5 | DC6: 16.3 | DD6: 17.1 | DE6: 17 | DF6: 19 | DG6: 19.8 | DH6: 18.3 | DI6: 20.1 | DJ6: 19.7 | DK6: 20.2 | DL6: 19 | DM6: 18.9 | DN6: 19.4 | DO6: 18.7 | DP6: 18.7
A7: Females | B7: Crude rate (per 100,000) | C7: . . | D7: . . | E7: . . | F7: . . | G7: . . | H7: . . | I7: . . | J7: . . | K7: . . | L7: . . | M7: . . | N7: . . | O7: . . | P7: . . | Q7: . . | R7: . . | S7: . . | T7: . . | U7: . . | V7: . . | W7: . . | X7: . . | Y7: . . | Z7: . . | AA7: . . | AB7: . . | AC7: . . | AD7: . . | AE7: . . | AF7: . . | AG7: . . | AH7: . . | AI7: . . | AJ7: . . | AK7: . . | AL7: . . | AM7: . . | AN7: . . | AO7: . . | AP7: . . | AQ7: . . | AR7: . . | AS7: . . | AT7: . . | AU7: . . | AV7: . . | AW7: . . | AX7: . . | AY7: . . | AZ7: . . | BA7: . . | BB7: . . | BC7: . . | BD7: . . | BE7: . . | BF7: . . | BG7: . . | BH7: . . | BI7: . . | BJ7: . . | BK7: . . | BL7: 8.5 | BM7: 7.8 | BN7: 7.6 | BO7: 9 | BP7: 8.2 | BQ7: 7.3 | BR7: 7.2 | BS7: 6.9 | BT7: 5.8 | BU7: 6.2 | BV7: 6.5 | BW7: 6.6 | BX7: 5.5 | BY7: 5.5 | BZ7: 6 | CA7: 5.4 | CB7: 5.2 | CC7: 5 | CD7: 5.6 | CE7: 5.7 | CF7: 5.6 | CG7: 5.2 | CH7: 5 | CI7: 5.9 | CJ7: 5.4 | CK7: 4.5 | CL7: 4.8 | CM7: 5.5 | CN7: 5 | CO7: 6.2 | CP7: 5.7 | CQ7: 5.2 | CR7: 5.2 | CS7: 5.4 | CT7: 5.1 | CU7: 4.8 | CV7: 4.4 | CW7: 4.4 | CX7: 4.8 | CY7: 5.1 | CZ7: 4.8 | DA7: 5.1 | DB7: 5.1 | DC7: 5.2 | DD7: 5.7 | DE7: 5.8 | DF7: 6.1 | DG7: 6.4 | DH7: 6.1 | DI7: 6.8 | DJ7: 6.1 | DK7: 6.5 | DL7: 5.9 | DM7: 6.2 | DN7: 6.4 | DO7: 6.1 | DP7: 5.7
A8: Persons | B8: Crude rate (per 100,000) | C8: . . | D8: . . | E8: . . | F8: . . | G8: . . | H8: . . | I8: . . | J8: . . | K8: . . | L8: . . | M8: . . | N8: . . | O8: . . | P8: . . | Q8: . . | R8: . . | S8: . . | T8: . . | U8: . . | V8: . . | W8: . . | X8: . . | Y8: . . | Z8: . . | AA8: . . | AB8: . . | AC8: . . | AD8: . . | AE8: . . | AF8: . . | AG8: . . | AH8: . . | AI8: . . | AJ8: . . | AK8: . . | AL8: . . | AM8: . . | AN8: . . | AO8: . . | AP8: . . | AQ8: . . | AR8: . . | AS8: . . | AT8: . . | AU8: . . | AV8: . . | AW8: . . | AX8: . . | AY8: . . | AZ8: . . | BA8: . . | BB8: . . | BC8: . . | BD8: . . | BE8: . . | BF8: . . | BG8: . . | BH8: . . | BI8: . . | BJ8: . . | BK8: . . | BL8: 12.7 | BM8: 12.2 | BN8: 12.4 | BO8: 13.3 | BP8: 12.2 | BQ8: 11.3 | BR8: 11.4 | BS8: 11 | BT8: 10.7 | BU8: 11 | BV8: 11.1 | BW8: 11.6 | BX8: 10.9 | BY8: 11.2 | BZ8: 11.7 | CA8: 11.2 | CB8: 11 | CC8: 11.6 | CD8: 12.4 | CE8: 13.8 | CF8: 13.3 | CG8: 12.5 | CH8: 12.7 | CI8: 13.7 | CJ8: 13.1 | CK8: 11.8 | CL8: 12.7 | CM8: 13.2 | CN8: 13.1 | CO8: 14.8 | CP8: 14.4 | CQ8: 13.2 | CR8: 12.4 | CS8: 12.7 | CT8: 11.9 | CU8: 11.2 | CV8: 10.5 | CW8: 10.4 | CX8: 10.4 | CY8: 10.7 | CZ8: 11 | DA8: 10.8 | DB8: 11.3 | DC8: 10.7 | DD8: 11.3 | DE8: 11.4 | DF8: 12.5 | DG8: 13 | DH8: 12.1 | DI8: 13.4 | DJ8: 12.8 | DK8: 13.3 | DL8: 12.4 | DM8: 12.5 | DN8: 12.8 | DO8: 12.4 | DP8: 12.2
A9: Males | B9: Number | C9: 385 | D9: 413 | E9: 398 | F9: 432 | G9: 446 | H9: 514 | I9: 516 | J9: 534 | K9: 537 | L9: 466 | M9: 408 | N9: 408 | O9: 440 | P9: 516 | Q9: 510 | R9: 441 | S9: 492 | T9: 534 | U9: 569 | V9: 583 | W9: 598 | X9: 635 | Y9: 644 | Z9: 791 | AA9: 689 | AB9: 598 | AC9: 633 | AD9: 643 | AE9: 612 | AF9: 611 | AG9: 573 | AH9: 574 | AI9: 602 | AJ9: 568 | AK9: 463 | AL9: 432 | AM9: 376 | AN9: 362 | AO9: 394 | AP9: 513 | AQ9: 546 | AR9: 578 | AS9: 599 | AT9: 567 | AU9: 608 | AV9: 694 | AW9: 698 | AX9: 724 | AY9: 701 | AZ9: 751 | BA9: 844 | BB9: 910 | BC9: 827 | BD9: 778 | BE9: 901 | BF9: 1011 | BG9: 1143 | BH9: 1071 | BI9: 1075 | BJ9: 1017 | BK9: 1125 | BL9: 1022 | BM9: 1025 | BN9: 1076 | BO9: 1150 | BP9: 1085 | BQ9: 1036 | BR9: 1073 | BS9: 1050 | BT9: 1098 | BU9: 1128 | BV9: 1126 | BW9: 1198 | BX9: 1199 | BY9: 1259 | BZ9: 1318 | CA9: 1308 | CB9: 1309 | CC9: 1428 | CD9: 1531 | CE9: 1773 | CF9: 1730 | CG9: 1658 | CH9: 1735 | CI9: 1847 | CJ9: 1820 | CK9: 1687 | CL9: 1830 | CM9: 1873 | CN9: 1931 | CO9: 2145 | CP9: 2150 | CQ9: 2002 | CR9: 1864 | CS9: 1936 | CT9: 1817 | CU9: 1737 | CV9: 1661 | CW9: 1658 | CX9: 1624 | CY9: 1699 | CZ9: 1833 | DA9: 1785 | DB9: 1914 | DC9: 1812 | DD9: 1929 | DE9: 1958 | DF9: 2221 | DG9: 2336 | DH9: 2192 | DI9: 2454 | DJ9: 2438 | DK9: 2546 | DL9: 2416 | DM9: 2416 | DN9: 2507 | DO9: 2479 | DP9: 2529
A10: Females | B10: Number | C10: 76 | D10: 84 | E10: 97 | F10: 84 | G10: 98 | H10: 118 | I10: 131 | J10: 109 | K10: 122 | L10: 111 | M10: 94 | N10: 90 | O10: 106 | P10: 120 | Q10: 111 | R10: 92 | S10: 107 | T10: 119 | U10: 131 | V10: 128 | W10: 142 | X10: 142 | Y10: 141 | Z10: 152 | AA10: 138 | AB10: 156 | AC10: 157 | AD10: 183 | AE10: 179 | AF10: 178 | AG10: 148 | AH10: 169 | AI10: 179 | AJ10: 175 | AK10: 161 | AL10: 162 | AM10: 140 | AN10: 178 | AO10: 173 | AP10: 219 | AQ10: 200 | AR10: 159 | AS10: 174 | AT10: 193 | AU10: 197 | AV10: 225 | AW10: 261 | AX10: 245 | AY10: 245 | AZ10: 270 | BA10: 326 | BB10: 297 | BC10: 288 | BD10: 314 | BE10: 348 | BF10: 458 | BG10: 575 | BH10: 549 | BI10: 610 | BJ10: 607 | BK10: 653 | BL10: 505 | BM10: 477 | BN10: 475 | BO10: 588 | BP10: 540 | BQ10: 492 | BR10: 494 | BS10: 478 | BT10: 406 | BU10: 438 | BV10: 469 | BW10: 479 | BX10: 408 | BY10: 413 | BZ10: 459 | CA10: 418 | CB10: 403 | CC10: 399 | CD10: 451 | CE10: 467 | CF10: 467 | CG10: 438 | CH10: 426 | CI10: 513 | CJ10: 474 | CK10: 394 | CL10: 428 | CM10: 495 | CN10: 462 | CO10: 577 | CP10: 533 | CQ10: 490 | CR10: 503 | CS10: 521 | CT10: 503 | CU10: 477 | CV10: 437 | CW10: 444 | CX10: 494 | CY10: 530 | CZ10: 508 | DA10: 552 | DB10: 566 | DC10: 581 | DD10: 650 | DE10: 671 | DF10: 716 | DG10: 764 | DH10: 747 | DI10: 838 | DJ10: 767 | DK10: 831 | DL10: 768 | DM10: 804 | DN10: 833 | DO10: 821 | DP10: 778
A11: Persons | B11: Number | C11: 461 | D11: 497 | E11: 495 | F11: 516 | G11: 544 | H11: 632 | I11: 647 | J11: 643 | K11: 659 | L11: 577 | M11: 502 | N11: 498 | O11: 546 | P11: 636 | Q11: 621 | R11: 533 | S11: 599 | T11: 653 | U11: 700 | V11: 711 | W11: 740 | X11: 777 | Y11: 785 | Z11: 943 | AA11: 827 | AB11: 754 | AC11: 790 | AD11: 826 | AE11: 791 | AF11: 789 | AG11: 721 | AH11: 743 | AI11: 781 | AJ11: 743 | AK11: 624 | AL11: 594 | AM11: 516 | AN11: 540 | AO11: 567 | AP11: 732 | AQ11: 746 | AR11: 737 | AS11: 773 | AT11: 760 | AU11: 805 | AV11: 919 | AW11: 959 | AX11: 969 | AY11: 946 | AZ11: 1021 | BA11: 1170 | BB11: 1207 | BC11: 1115 | BD11: 1092 | BE11: 1249 | BF11: 1469 | BG11: 1718 | BH11: 1620 | BI11: 1685 | BJ11: 1624 | BK11: 1778 | BL11: 1527 | BM11: 1502 | BN11: 1551 | BO11: 1738 | BP11: 1625 | BQ11: 1528 | BR11: 1567 | BS11: 1528 | BT11: 1504 | BU11: 1566 | BV11: 1595 | BW11: 1677 | BX11: 1607 | BY11: 1672 | BZ11: 1777 | CA11: 1726 | CB11: 1712 | CC11: 1827 | CD11: 1982 | CE11: 2240 | CF11: 2197 | CG11: 2096 | CH11: 2161 | CI11: 2360 | CJ11: 2294 | CK11: 2081 | CL11: 2258 | CM11: 2368 | CN11: 2393 | CO11: 2722 | CP11: 2683 | CQ11: 2492 | CR11: 2367 | CS11: 2457 | CT11: 2320 | CU11: 2214 | CV11: 2098 | CW11: 2102 | CX11: 2118 | CY11: 2229 | CZ11: 2341 | DA11: 2337 | DB11: 2480 | DC11: 2393 | DD11: 2579 | DE11: 2629 | DF11: 2937 | DG11: 3100 | DH11: 2939 | DI11: 3292 | DJ11: 3205 | DK11: 3377 | DL11: 3184 | DM11: 3220 | DN11: 3340 | DO11: 3300 | DP11: 3307
A12: Males | B12: Median age at death (years) | C12: . . | D12: . . | E12: . . | F12: . . | G12: . . | H12: . . | I12: . . | J12: . . | K12: . . | L12: . . | M12: . . | N12: . . | O12: . . | P12: . . | Q12: . . | R12: . . | S12: . . | T12: . . | U12: . . | V12: . . | W12: . . | X12: . . | Y12: . . | Z12: . . | AA12: . . | AB12: . . | AC12: . . | AD12: . . | AE12: . . | AF12: . . | AG12: . . | AH12: . . | AI12: . . | AJ12: . . | AK12: . . | AL12: . . | AM12: . . | AN12: . . | AO12: . . | AP12: . . | AQ12: . . | AR12: . . | AS12: . . | AT12: . . | AU12: . . | AV12: . . | AW12: . . | AX12: . . | AY12: . . | AZ12: . . | BA12: . . | BB12: . . | BC12: . . | BD12: . . | BE12: . . | BF12: . . | BG12: . . | BH12: 46 | BI12: 45 | BJ12: 47 | BK12: 45 | BL12: 46 | BM12: 44 | BN12: 45 | BO12: 44 | BP12: 44 | BQ12: 44 | BR12: 44 | BS12: 43 | BT12: 41.5 | BU12: 42 | BV12: 39 | BW12: 39 | BX12: 39 | BY12: 40 | BZ12: 38 | CA12: 38 | CB12: 38.5 | CC12: 36 | CD12: 38 | CE12: 39 | CF12: 37 | CG12: 36 | CH12: 36 | CI12: 37 | CJ12: 37 | CK12: 37 | CL12: 38 | CM12: 37 | CN12: 38 | CO12: 37 | CP12: 36 | CQ12: 38 | CR12: 39 | CS12: 39 | CT12: 39 | CU12: 40 | CV12: 41 | CW12: 41 | CX12: 43 | CY12: 41 | CZ12: 42 | DA12: 43 | DB12: 43 | DC12: 43 | DD12: 45 | DE12: 44 | DF12: 44 | DG12: 45 | DH12: 43 | DI12: 44 | DJ12: 44 | DK12: 44 | DL12: 44 | DM12: 46 | DN12: 46 | DO12: 46 | DP12: 47
A13: Females | B13: Median age at death (years) | C13: . . | D13: . . | E13: . . | F13: . . | G13: . . | H13: . . | I13: . . | J13: . . | K13: . . | L13: . . | M13: . . | N13: . . | O13: . . | P13: . . | Q13: . . | R13: . . | S13: . . | T13: . . | U13: . . | V13: . . | W13: . . | X13: . . | Y13: . . | Z13: . . | AA13: . . | AB13: . . | AC13: . . | AD13: . . | AE13: . . | AF13: . . | AG13: . . | AH13: . . | AI13: . . | AJ13: . . | AK13: . . | AL13: . . | AM13: . . | AN13: . . | AO13: . . | AP13: . . | AQ13: . . | AR13: . . | AS13: . . | AT13: . . | AU13: . . | AV13: . . | AW13: . . | AX13: . . | AY13: . . | AZ13: . . | BA13: . . | BB13: . . | BC13: . . | BD13: . . | BE13: . . | BF13: . . | BG13: . . | BH13: 47 | BI13: 47 | BJ13: 46 | BK13: 47 | BL13: 47 | BM13: 47 | BN13: 47 | BO13: 45 | BP13: 45 | BQ13: 47 | BR13: 47 | BS13: 46.5 | BT13: 48 | BU13: 46 | BV13: 46 | BW13: 45 | BX13: 41.5 | BY13: 45 | BZ13: 47 | CA13: 47 | CB13: 43 | CC13: 45 | CD13: 43 | CE13: 42 | CF13: 43 | CG13: 44 | CH13: 43 | CI13: 42 | CJ13: 41 | CK13: 41.5 | CL13: 41 | CM13: 41 | CN13: 40 | CO13: 41 | CP13: 39 | CQ13: 40 | CR13: 40 | CS13: 41 | CT13: 43 | CU13: 41 | CV13: 43 | CW13: 44 | CX13: 44 | CY13: 44 | CZ13: 43 | DA13: 44 | DB13: 43 | DC13: 42.5 | DD13: 43 | DE13: 45 | DF13: 43 | DG13: 45 | DH13: 45 | DI13: 46 | DJ13: 45 | DK13: 44 | DL13: 43 | DM13: 43 | DN13: 45 | DO13: 44 | DP13: 45
A14: Persons | B14: Median age at death (years) | C14: . . | D14: . . | E14: . . | F14: . . | G14: . . | H14: . . | I14: . . | J14: . . | K14: . . | L14: . . | M14: . . | N14: . . | O14: . . | P14: . . | Q14: . . | R14: . . | S14: . . | T14: . . | U14: . . | V14: . . | W14: . . | X14: . . | Y14: . . | Z14: . . | AA14: . . | AB14: . . | AC14: . . | AD14: . . | AE14: . . | AF14: . . | AG14: . . | AH14: . . | AI14: . . | AJ14: . . | AK14: . . | AL14: . . | AM14: . . | AN14: . . | AO14: . . | AP14: . . | AQ14: . . | AR14: . . | AS14: . . | AT14: . . | AU14: . . | AV14: . . | AW14: . . | AX14: . . | AY14: . . | AZ14: . . | BA14: . . | BB14: . . | BC14: . . | BD14: . . | BE14: . . | BF14: . . | BG14: . . | BH14: 46 | BI14: 46 | BJ14: 46 | BK14: 46 | BL14: 46 | BM14: 45 | BN14: 46 | BO14: 45 | BP14: 44 | BQ14: 45 | BR14: 45 | BS14: 44 | BT14: 44 | BU14: 43 | BV14: 42 | BW14: 41 | BX14: 40 | BY14: 41 | BZ14: 41 | CA14: 40 | CB14: 39 | CC14: 38 | CD14: 39 | CE14: 40 | CF14: 38 | CG14: 38 | CH14: 37 | CI14: 38 | CJ14: 38 | CK14: 38 | CL14: 38 | CM14: 37 | CN14: 38 | CO14: 38 | CP14: 37 | CQ14: 38 | CR14: 39 | CS14: 39 | CT14: 40 | CU14: 40 | CV14: 41 | CW14: 41 | CX14: 43 | CY14: 42 | CZ14: 42 | DA14: 43 | DB14: 43 | DC14: 43 | DD14: 44 | DE14: 44 | DF14: 44 | DG14: 45 | DH14: 44 | DI14: 44 | DJ14: 45 | DK14: 44 | DL14: 44 | DM14: 45 | DN14: 46 | DO14: 46 | DP14: 46
A15: Rate ratio | B15: Rate ratio (male:female) | C15: 5.1 | D15: 5.4 | E15: 4.7 | F15: 5.4 | G15: 4.8 | H15: 4.7 | I15: 4.2 | J15: 5.2 | K15: 4.7 | L15: 4.7 | M15: 5 | N15: 4.9 | O15: 4.2 | P15: 4.9 | Q15: 4.8 | R15: 5.5 | S15: 4.9 | T15: 4.7 | U15: 4.8 | V15: 4.6 | W15: 4.4 | X15: 4.8 | Y15: 4.6 | Z15: 5.6 | AA15: 5.4 | AB15: 4.1 | AC15: 4.3 | AD15: 3.9 | AE15: 3.7 | AF15: 3.7 | AG15: 4.1 | AH15: 3.7 | AI15: 3.6 | AJ15: 3.4 | AK15: 3.3 | AL15: 2.9 | AM15: 3 | AN15: 2.3 | AO15: 2.5 | AP15: 2.5 | AQ15: 3 | AR15: 3.9 | AS15: 3.8 | AT15: 3.3 | AU15: 3.2 | AV15: 3.2 | AW15: 2.7 | AX15: 3.1 | AY15: 3 | AZ15: 2.8 | BA15: 2.7 | BB15: 3.2 | BC15: 2.9 | BD15: 2.5 | BE15: 2.6 | BF15: 2.3 | BG15: 2 | BH15: 2 | BI15: 1.8 | BJ15: 1.7 | BK15: 1.8 | BL15: 2.1 | BM15: 2.2 | BN15: 2.4 | BO15: 2 | BP15: 2.1 | BQ15: 2.2 | BR15: 2.2 | BS15: 2.2 | BT15: 2.7 | BU15: 2.6 | BV15: 2.4 | BW15: 2.5 | BX15: 3 | BY15: 3.1 | BZ15: 2.8 | CA15: 3.2 | CB15: 3.3 | CC15: 3.6 | CD15: 3.4 | CE15: 3.9 | CF15: 3.7 | CG15: 3.8 | CH15: 4.1 | CI15: 3.7 | CJ15: 3.9 | CK15: 4.4 | CL15: 4.4 | CM15: 3.8 | CN15: 4.3 | CO15: 3.8 | CP15: 4.1 | CQ15: 4.2 | CR15: 3.8 | CS15: 3.9 | CT15: 3.8 | CU15: 3.8 | CV15: 3.9 | CW15: 3.9 | CX15: 3.4 | CY15: 3.3 | CZ15: 3.7 | DA15: 3.3 | DB15: 3.5 | DC15: 3.2 | DD15: 3 | DE15: 3 | DF15: 3.2 | DG15: 3.1 | DH15: 3 | DI15: 3 | DJ15: 3.2 | DK15: 3.1 | DL15: 3.2 | DM15: 3 | DN15: 3.1 | DO15: 3.1 | DP15: 3.3
A16: . . Not applicable
A18: Notes
A19: 1. Deaths are counted according to year the death was registered by the Registries of Births, Deaths and Marriages (RBDM), not necessarily the year in which the death occurred.
A20: 2. Crude rates are per 100,000 population as at 30 June of the same year. Crude rates are available from 1968 onward.
A21: 3. Age-standardised rates are per 100,000 standard population as detailed in the Explanatory notes.
A22: 4. Median age at death is available for years 1964 onward; median age at death is calculated based on the median of age at death in single years.
A23: 5. Rate ratio (male:female): represents the age-standardised death rate for males divided by the age-standardised death rate for females. A ratio of 1 means that males and females have the same death rate; a ratio of greater than 1 means that the rate is higher for males compared with females; a ratio of less than 1 means that the rate is lower for males compared with females.
A24: 6. Deaths registered between 2006 and 2021 are based on the final version of cause of death data; deaths registered in 2022 are based on revised data; deaths registered in 2023 are based on preliminary revised data, and deaths registered in 2024 are based on preliminary data. Revised and preliminary data are subject to further revision by the ABS. Deaths registered prior to 2006 were not subject to a revisions process. Comparisons over time should be done with caution.

Sheet Table NMD 2
A1: Table NMD 2: Suicide by sex and 5-year age group, 1968 to 2024
A2: Sex | B2: Age group | C2: Measure | D2: 1968 | E2: 1969 | F2: 1970 | G2: 1971 | H2: 1972 | I2: 1973 | J2: 1974 | K2: 1975 | L2: 1976 | M2: 1977 | N2: 1978 | O2: 1979 | P2: 1980 | Q2: 1981 | R2: 1982 | S2: 1983 | T2: 1984 | U2: 1985 | V2: 1986 | W2: 1987 | X2: 1988 | Y2: 1989 | Z2: 1990 | AA2: 1991 | AB2: 1992 | AC2: 1993 | AD2: 1994 | AE2: 1995 | AF2: 1996 | AG2: 1997 | AH2: 1998 | AI2: 1999 | AJ2: 2000 | AK2: 2001 | AL2: 2002 | AM2: 2003 | AN2: 2004 | AO2: 2005 | AP2: 2006 | AQ2: 2007 | AR2: 2008 | AS2: 2009 | AT2: 2010 | AU2: 2011 | AV2: 2012 | AW2: 2013 | AX2: 2014 | AY2: 2015 | AZ2: 2016 | BA2: 2017 | BB2: 2018 | BC2: 2019 | BD2: 2020 | BE2: 2021 | BF2: 2022 | BG2: 2023 | BH2: 2024
A3: Males | B3: 0–14 | C3: Age-specific rate (per 100,000) | D3: 0.4 | E3: 0.3 | F3: n.p. | G3: 0.4 | H3: n.p. | I3: n.p. | J3: 0.3 | K3: 0.5 | L3: n.p. | M3: 0.3 | N3: 0.3 | O3: n.p. | P3: n.p. | Q3: n.p. | R3: 0.6 | S3: 0.4 | T3: 0.5 | U3: n.p. | V3: 0.6 | W3: 0.6 | X3: 0.3 | Y3: 0.4 | Z3: 0.3 | AA3: 0.3 | AB3: 0.3 | AC3: n.p. | AD3: n.p. | AE3: 0.3 | AF3: 0.4 | AG3: 0.4 | AH3: 0.3 | AI3: 0.5 | AJ3: 0.3 | AK3: 0.3 | AL3: n.p. | AM3: 0.3 | AN3: 0.3 | AO3: 0.3 | AP3: 0.3 | AQ3: 0.4 | AR3: 0.4 | AS3: 0 | AT3: 0.4 | AU3: 0.3 | AV3: 0.3 | AW3: 0.7 | AX3: 0.3 | AY3: 0.2 | AZ3: 0.5 | BA3: 0.7 | BB3: 0.5 | BC3: 0.4 | BD3: 0.6 | BE3: 0.6 | BF3: 0.3 | BG3: 0.5 | BH3: 0.2
A4: Males | B4: 5–14 | C4: Age-specific rate (per 100,000) | D4: 0.6 | E4: 0.5 | F4: n.p. | G4: 0.6 | H4: n.p. | I4: n.p. | J4: 0.4 | K4: 0.8 | L4: n.p. | M4: 0.5 | N4: 0.5 | O4: n.p. | P4: n.p. | Q4: n.p. | R4: 0.9 | S4: 0.5 | T4: 0.7 | U4: n.p. | V4: 0.9 | W4: 0.9 | X4: 0.5 | Y4: 0.6 | Z4: 0.5 | AA4: 0.5 | AB4: 0.4 | AC4: n.p. | AD4: n.p. | AE4: 0.4 | AF4: 0.5 | AG4: 0.6 | AH4: 0.4 | AI4: 0.7 | AJ4: 0.5 | AK4: 0.4 | AL4: n.p. | AM4: 0.4 | AN4: 0.5 | AO4: 0.5 | AP4: 0.5 | AQ4: 0.6 | AR4: 0.6 | AS4: 0 | AT4: 0.6 | AU4: 0.5 | AV4: 0.4 | AW4: 1.1 | AX4: 0.5 | AY4: 0.3 | AZ4: 0.7 | BA4: 1 | BB4: 0.8 | BC4: 0.6 | BD4: 0.9 | BE4: 0.8 | BF4: 0.5 | BG4: 0.8 | BH4: 0.3
A5: Males | B5: 15–19 | C5: Age-specific rate (per 100,000) | D5: 9 | E5: 5.4 | F5: 8.4 | G5: 13 | H5: 8.3 | I5: 8 | J5: 11.2 | K5: 8.9 | L5: 10.1 | M5: 10.9 | N5: 10.3 | O5: 12.7 | P5: 9.9 | Q5: 10.9 | R5: 10.5 | S5: 9.3 | T5: 10.3 | U5: 16.6 | V5: 13.2 | W5: 17.2 | X5: 21 | Y5: 18.4 | Z5: 17.8 | AA5: 19 | AB5: 18.5 | AC5: 16.8 | AD5: 18.7 | AE5: 15.1 | AF5: 17.5 | AG5: 18.8 | AH5: 17.7 | AI5: 14.7 | AJ5: 13.2 | AK5: 13.9 | AL5: 14.1 | AM5: 12.8 | AN5: 7.6 | AO5: 9.5 | AP5: 11.3 | AQ5: 11.5 | AR5: 9.8 | AS5: 10.2 | AT5: 12.1 | AU5: 10.8 | AV5: 9.6 | AW5: 15.2 | AX5: 12.6 | AY5: 12.4 | AZ5: 13.5 | BA5: 15 | BB5: 17.8 | BC5: 16.4 | BD5: 17.5 | BE5: 13.7 | BF5: 9.7 | BG5: 11.4 | BH5: 9.6
A6: Males | B6: 20–24 | C6: Age-specific rate (per 100,000) | D6: 12.4 | E6: 16.6 | F6: 16.7 | G6: 18.4 | H6: 20 | I6: 21.2 | J6: 20.4 | K6: 18.7 | L6: 20.1 | M6: 20.3 | N6: 25 | O6: 23.7 | P6: 25.3 | Q6: 25.2 | R6: 28 | S6: 27.3 | T6: 26.9 | U6: 31.2 | V6: 29.2 | W6: 31.9 | X6: 35.2 | Y6: 29.7 | Z6: 36.5 | AA6: 34.4 | AB6: 35 | AC6: 32.1 | AD6: 34.6 | AE6: 34.9 | AF6: 33.6 | AG6: 43.1 | AH6: 37.2 | AI6: 32.4 | AJ6: 26.9 | AK6: 27.7 | AL6: 24.5 | AM6: 23.6 | AN6: 20.3 | AO6: 23.1 | AP6: 20.2 | AQ6: 19.8 | AR6: 19.8 | AS6: 16.3 | AT6: 16.4 | AU6: 19.6 | AV6: 17.4 | AW6: 18.5 | AX6: 21.3 | AY6: 22.7 | AZ6: 23.7 | BA6: 22.4 | BB6: 23.8 | BC6: 24.7 | BD6: 25.2 | BE6: 22.2 | BF6: 20.8 | BG6: 18.8 | BH6: 16.5
A7: Males | B7: 25–29 | C7: Age-specific rate (per 100,000) | D7: 15.8 | E7: 21.8 | F7: 20.7 | G7: 19.7 | H7: 17.4 | I7: 15 | J7: 15.8 | K7: 19.8 | L7: 19.7 | M7: 21.1 | N7: 23.8 | O7: 22.6 | P7: 22.8 | Q7: 22.5 | R7: 29.4 | S7: 26.5 | T7: 22.4 | U7: 30.3 | V7: 28.6 | W7: 31 | X7: 29.8 | Y7: 32.3 | Z7: 32.8 | AA7: 29.3 | AB7: 32.6 | AC7: 29.3 | AD7: 30.1 | AE7: 34.3 | AF7: 33.4 | AG7: 40.7 | AH7: 43.2 | AI7: 37.5 | AJ7: 32.8 | AK7: 32.6 | AL7: 31.4 | AM7: 26.6 | AN7: 25.5 | AO7: 22.9 | AP7: 17.8 | AQ7: 22.1 | AR7: 21.7 | AS7: 20.8 | AT7: 17.4 | AU7: 21 | AV7: 19.8 | AW7: 18.7 | AX7: 19.9 | AY7: 22.9 | AZ7: 21.3 | BA7: 24.7 | BB7: 23.4 | BC7: 24.6 | BD7: 23 | BE7: 24.7 | BF7: 24.5 | BG7: 23.6 | BH7: 22.3
A8: Males | B8: 30–34 | C8: Age-specific rate (per 100,000) | D8: 22.3 | E8: 21 | F8: 19.5 | G8: 20.9 | H8: 19.5 | I8: 15.7 | J8: 16.6 | K8: 19.7 | L8: 21.5 | M8: 18.2 | N8: 18.6 | O8: 23.3 | P8: 22.3 | Q8: 21.1 | R8: 20.3 | S8: 21.8 | T8: 25.5 | U8: 22.8 | V8: 28 | W8: 26.5 | X8: 26.7 | Y8: 27.6 | Z8: 25.3 | AA8: 30.4 | AB8: 28.3 | AC8: 28.2 | AD8: 28.5 | AE8: 32.8 | AF8: 31.9 | AG8: 34.8 | AH8: 39.6 | AI8: 33.7 | AJ8: 34.2 | AK8: 36 | AL8: 31 | AM8: 30.4 | AN8: 29.5 | AO8: 27.8 | AP8: 20.8 | AQ8: 24.9 | AR8: 26 | AS8: 22.9 | AT8: 23.1 | AU8: 22.1 | AV8: 22.7 | AW8: 20 | AX8: 27.2 | AY8: 25.4 | AZ8: 27.5 | BA8: 27.7 | BB8: 23.9 | BC8: 26.4 | BD8: 23.6 | BE8: 23.6 | BF8: 25.5 | BG8: 23.4 | BH8: 20
A9: Males | B9: 35–39 | C9: Age-specific rate (per 100,000) | D9: 26.4 | E9: 25.4 | F9: 24.1 | G9: 25.7 | H9: 24.7 | I9: 23.5 | J9: 19.7 | K9: 19.8 | L9: 23.5 | M9: 19.7 | N9: 22.8 | O9: 21.4 | P9: 22 | Q9: 20.8 | R9: 19.7 | S9: 19.2 | T9: 19.1 | U9: 19.5 | V9: 21.7 | W9: 26.9 | X9: 23.9 | Y9: 24.7 | Z9: 26.1 | AA9: 34.2 | AB9: 26.8 | AC9: 22.2 | AD9: 25.1 | AE9: 31 | AF9: 32.3 | AG9: 29.3 | AH9: 36.8 | AI9: 30 | AJ9: 31.4 | AK9: 32.6 | AL9: 30.5 | AM9: 25.7 | AN9: 24.1 | AO9: 22.9 | AP9: 24.7 | AQ9: 27.1 | AR9: 26.2 | AS9: 25.2 | AT9: 28.8 | AU9: 22 | AV9: 26 | AW9: 21.8 | AX9: 25.2 | AY9: 27.9 | AZ9: 25.1 | BA9: 27.7 | BB9: 27.7 | BC9: 28.1 | BD9: 24.2 | BE9: 25.5 | BF9: 24.8 | BG9: 22 | BH9: 25.8
A10: Males | B10: 40–44 | C10: Age-specific rate (per 100,000) | D10: 28 | E10: 32.5 | F10: 27.9 | G10: 24.5 | H10: 27.1 | I10: 26 | J10: 24.2 | K10: 24.7 | L10: 23.9 | M10: 26.6 | N10: 21.4 | O10: 25.5 | P10: 25.6 | Q10: 26.7 | R10: 20.7 | S10: 19.5 | T10: 21.2 | U10: 26 | V10: 25.8 | W10: 29.2 | X10: 28.3 | Y10: 20 | Z10: 24.8 | AA10: 26.4 | AB10: 23 | AC10: 20.5 | AD10: 27.4 | AE10: 24.4 | AF10: 26.6 | AG10: 31.6 | AH10: 29.8 | AI10: 28.9 | AJ10: 29.3 | AK10: 28.4 | AL10: 28 | AM10: 26.1 | AN10: 27.4 | AO10: 26.9 | AP10: 22.2 | AQ10: 22.4 | AR10: 28.5 | AS10: 26 | AT10: 29 | AU10: 23.5 | AV10: 25.8 | AW10: 26.7 | AX10: 31.1 | AY10: 30.8 | AZ10: 27.7 | BA10: 32.3 | BB10: 26 | BC10: 29.5 | BD10: 27.1 | BE10: 23.2 | BF10: 27.9 | BG10: 27.6 | BH10: 28.8
A11: Males | B11: 45–49 | C11: Age-specific rate (per 100,000) | D11: 27.3 | E11: 29.4 | F11: 29.5 | G11: 31.2 | H11: 31.1 | I11: 30.3 | J11: 30.4 | K11: 24.8 | L11: 25.3 | M11: 29.1 | N11: 23.9 | O11: 29 | P11: 24.5 | Q11: 23.9 | R11: 23.7 | S11: 19.1 | T11: 20 | U11: 22.1 | V11: 22.6 | W11: 24.6 | X11: 25.4 | Y11: 24.3 | Z11: 20.9 | AA11: 25.1 | AB11: 27.8 | AC11: 25.9 | AD11: 24.4 | AE11: 24.3 | AF11: 23.2 | AG11: 23.6 | AH11: 25.6 | AI11: 25.1 | AJ11: 23.1 | AK11: 25.5 | AL11: 23.3 | AM11: 27 | AN11: 18.5 | AO11: 24.6 | AP11: 26.4 | AQ11: 21.9 | AR11: 26 | AS11: 25.6 | AT11: 29.1 | AU11: 25.8 | AV11: 27.1 | AW11: 24.3 | AX11: 25.7 | AY11: 32.6 | AZ11: 23.5 | BA11: 33.7 | BB11: 29.5 | BC11: 32.3 | BD11: 25.7 | BE11: 23.6 | BF11: 33.1 | BG11: 28.1 | BH11: 29.1
A12: Males | B12: 50–54 | C12: Age-specific rate (per 100,000) | D12: 29.7 | E12: 26.9 | F12: 39 | G12: 37.4 | H12: 28.6 | I12: 24.3 | J12: 27 | K12: 22.7 | L12: 25.2 | M12: 30.3 | N12: 22.9 | O12: 25.1 | P12: 20.4 | Q12: 25.5 | R12: 19.9 | S12: 23.4 | T12: 25.3 | U12: 20.5 | V12: 23.6 | W12: 31.2 | X12: 23.4 | Y12: 23.4 | Z12: 22.1 | AA12: 27.4 | AB12: 23.3 | AC12: 20.4 | AD12: 25.3 | AE12: 23.5 | AF12: 22.3 | AG12: 25.4 | AH12: 25 | AI12: 24.1 | AJ12: 22 | AK12: 21.6 | AL12: 22.2 | AM12: 17.3 | AN12: 19.3 | AO12: 20.9 | AP12: 21 | AQ12: 21.6 | AR12: 21.3 | AS12: 22.8 | AT12: 22.7 | AU12: 20.3 | AV12: 24.5 | AW12: 24.6 | AX12: 30.1 | AY12: 32 | AZ12: 24.4 | BA12: 22.3 | BB12: 28.1 | BC12: 27.1 | BD12: 26.2 | BE12: 28.1 | BF12: 28.5 | BG12: 27.7 | BH12: 30.2
A13: Males | B13: 55–59 | C13: Age-specific rate (per 100,000) | D13: 41.6 | E13: 24.8 | F13: 34.3 | G13: 27.7 | H13: 30.4 | I13: 24.7 | J13: 23.6 | K13: 25.2 | L13: 23.3 | M13: 18.4 | N13: 23.8 | O13: 23.7 | P13: 25.4 | Q13: 25.1 | R13: 23.8 | S13: 23.5 | T13: 24.6 | U13: 22.1 | V13: 25.5 | W13: 34.4 | X13: 22.4 | Y13: 25.9 | Z13: 26.7 | AA13: 22.9 | AB13: 21.4 | AC13: 21.9 | AD13: 23.2 | AE13: 26.7 | AF13: 22.3 | AG13: 22.7 | AH13: 19.7 | AI13: 21.9 | AJ13: 16.4 | AK13: 20 | AL13: 15.4 | AM13: 15.2 | AN13: 14.9 | AO13: 15.1 | AP13: 18.3 | AQ13: 17.1 | AR13: 20.6 | AS13: 18.6 | AT13: 21 | AU13: 19.8 | AV13: 21.1 | AW13: 21.5 | AX13: 27.1 | AY13: 21.5 | AZ13: 22.4 | BA13: 27.3 | BB13: 29.5 | BC13: 26.5 | BD13: 23.3 | BE13: 26.2 | BF13: 25.7 | BG13: 32.1 | BH13: 29.8
A14: Males | B14: 60–64 | C14: Age-specific rate (per 100,000) | D14: 32.8 | E14: 28.1 | F14: 27.6 | G14: 29.3 | H14: 21.8 | I14: 26.1 | J14: 25.7 | K14: 21.1 | L14: 19.9 | M14: 22.6 | N14: 22.3 | O14: 22.9 | P14: 22.3 | Q14: 23.6 | R14: 25.3 | S14: 25.7 | T14: 23.5 | U14: 21.5 | V14: 23.6 | W14: 24.5 | X14: 25.2 | Y14: 19.7 | Z14: 22.8 | AA14: 19.6 | AB14: 24.8 | AC14: 24.1 | AD14: 23.1 | AE14: 19.6 | AF14: 25 | AG14: 22.2 | AH14: 20.3 | AI14: 19.3 | AJ14: 16.6 | AK14: 18 | AL14: 17.5 | AM14: 15.2 | AN14: 17.3 | AO14: 14.5 | AP14: 16.5 | AQ14: 17.6 | AR14: 15.7 | AS14: 20.2 | AT14: 19.3 | AU14: 16.5 | AV14: 17.6 | AW14: 18.9 | AX14: 21.4 | AY14: 19.7 | AZ14: 21.6 | BA14: 20.8 | BB14: 24 | BC14: 24.2 | BD14: 23.9 | BE14: 22.6 | BF14: 21.8 | BG14: 20.6 | BH14: 25.2
A15: Males | B15: 65–69 | C15: Age-specific rate (per 100,000) | D15: 29 | E15: 37.9 | F15: 28.6 | G15: 31.1 | H15: 31.3 | I15: 31.9 | J15: 29.6 | K15: 27.4 | L15: 28 | M15: 27.6 | N15: 20 | O15: 20.1 | P15: 22.8 | Q15: 28 | R15: 29.7 | S15: 27.4 | T15: 25.7 | U15: 21.3 | V15: 23.3 | W15: 23.3 | X15: 24.3 | Y15: 23.1 | Z15: 25.2 | AA15: 21.2 | AB15: 25.6 | AC15: 22.5 | AD15: 22.9 | AE15: 18.9 | AF15: 20.3 | AG15: 22.9 | AH15: 26.1 | AI15: 19 | AJ15: 17.3 | AK15: 18.9 | AL15: 18.7 | AM15: 18 | AN15: 19.7 | AO15: 12.6 | AP15: 14.7 | AQ15: 15.4 | AR15: 20 | AS15: 14.9 | AT15: 13.7 | AU15: 17.3 | AV15: 15.2 | AW15: 16.8 | AX15: 16.9 | AY15: 19.2 | AZ15: 16.1 | BA15: 22 | BB15: 16.3 | BC15: 18.1 | BD15: 18.2 | BE15: 19.3 | BF15: 21.1 | BG15: 19.6 | BH15: 19
A16: Males | B16: 70–74 | C16: Age-specific rate (per 100,000) | D16: 37.1 | E16: 34.4 | F16: 35.2 | G16: 35.4 | H16: 26.5 | I16: 29.2 | J16: 32.8 | K16: 31.6 | L16: 34.8 | M16: 32.3 | N16: 25 | O16: 26.1 | P16: 21.2 | Q16: 25 | R16: 25.6 | S16: 32 | T16: 23.1 | U16: 28.8 | V16: 32 | W16: 35.7 | X16: 32.4 | Y16: 32.5 | Z16: 27.5 | AA16: 24.9 | AB16: 29.7 | AC16: 24.4 | AD16: 24.7 | AE16: 20.1 | AF16: 24.7 | AG16: 24.6 | AH16: 17.1 | AI16: 26.3 | AJ16: 21.5 | AK16: 21.2 | AL16: 16.9 | AM16: 21.7 | AN16: 21.5 | AO16: 16.5 | AP16: 19 | AQ16: 14.3 | AR16: 17.9 | AS16: 14.9 | AT16: 16.9 | AU16: 14.6 | AV16: 18.9 | AW16: 17.8 | AX16: 16.8 | AY16: 19.2 | AZ16: 15.1 | BA16: 19.1 | BB16: 17.2 | BC16: 18.3 | BD16: 17.4 | BE16: 19.6 | BF16: 20 | BG16: 18.3 | BH16: 19.8
... A20: Males | B20: Total | C20: Crude rate (per 100,000) | D20: 16.9 | E20: 16.6 | F20: 17.1 | G20: 17.5 | H20: 16.2 | I20: 15.3 | J20: 15.6 | K20: 15.1 | L20: 15.6 | M20: 15.9 | N20: 15.7 | O20: 16.5 | P20: 16.3 | Q20: 16.9 | R20: 17.4 | S20: 17 | T20: 16.8 | U20: 18.1 | V20: 19.1 | W20: 21.8 | X20: 21 | Y20: 19.8 | Z20: 20.4 | AA20: 21.4 | AB20: 20.9 | AC20: 19.2 | AD20: 20.6 | AE20: 20.9 | AF20: 21.3 | AG20: 23.4 | AH20: 23.3 | AI20: 21.4 | AJ20: 19.7 | AK20: 20.2 | AL20: 18.8 | AM20: 17.7 | AN20: 16.8 | AO20: 16.5 | AP20: 16 | AQ20: 16.4 | AR20: 17.3 | AS20: 16.5 | AT20: 17.5 | AU20: 16.3 | AV20: 17.1 | AW20: 17 | AX20: 19 | AY20: 19.8 | AZ20: 18.3 | BA20: 20.1 | BB20: 19.7 | BC20: 20.2 | BD20: 19 | BE20: 18.9 | BF20: 19.4 | BG20: 18.7 | BH20: 18.7
A21: Females | B21: 0–14 | C21: Age-specific rate (per 100,000) | D21: 0 | E21: 0 | F21: n.p. | G21: n.p. | H21: n.p. | I21: 0 | J21: n.p. | K21: n.p. | L21: n.p. | M21: n.p. | N21: 0 | O21: n.p. | P21: n.p. | Q21: n.p. | R21: 0 | S21: n.p. | T21: 0 | U21: n.p. | V21: n.p. | W21: n.p. | X21: n.p. | Y21: n.p. | Z21: 0 | AA21: n.p. | AB21: n.p. | AC21: n.p. | AD21: n.p. | AE21: 0 | AF21: 0.4 | AG21: 0.4 | AH21: n.p. | AI21: 0.4 | AJ21: n.p. | AK21: n.p. | AL21: n.p. | AM21: 0.4 | AN21: n.p. | AO21: n.p. | AP21: n.p. | AQ21: n.p. | AR21: n.p. | AS21: n.p. | AT21: 0.2 | AU21: 0.4 | AV21: 0.5 | AW21: 0.3 | AX21: 0.7 | AY21: 0.4 | AZ21: 0.3 | BA21: 0.4 | BB21: 0.4 | BC21: 0.4 | BD21: 0.5 | BE21: 0.8 | BF21: 0.2 | BG21: 0.6 | BH21: 0.5
A22: Females | B22: 5–14 | C22: Age-specific rate (per 100,000) | D22: 0 | E22: 0 | F22: n.p. | G22: n.p. | H22: n.p. | I22: 0 | J22: n.p. | K22: n.p. | L22: n.p. | M22: n.p. | N22: 0 | O22: n.p. | P22: n.p. | Q22: n.p. | R22: 0 | S22: n.p. | T22: 0 | U22: n.p. | V22: n.p. | W22: n.p. | X22: n.p. | Y22: n.p. | Z22: 0 | AA22: n.p. | AB22: n.p. | AC22: n.p. | AD22: n.p. | AE22: 0 | AF22: 0.6 | AG22: 0.5 | AH22: n.p. | AI22: 0.5 | AJ22: n.p. | AK22: n.p. | AL22: n.p. | AM22: 0.5 | AN22: n.p. | AO22: n.p. | AP22: n.p. | AQ22: n.p. | AR22: n.p. | AS22: n.p. | AT22: 0.4 | AU22: 0.7 | AV22: 0.7 | AW22: 0.4 | AX22: 1.1 | AY22: 0.6 | AZ22: 0.5 | BA22: 0.5 | BB22: 0.7 | BC22: 0.6 | BD22: 0.7 | BE22: 1.1 | BF22: 0.3 | BG22: 0.9 | BH22: 0.8
A23: Females | B23: 15–19 | C23: Age-specific rate (per 100,000) | D23: 1.5 | E23: 3 | F23: 2.6 | G23: 5.2 | H23: 4.4 | I23: 4.6 | J23: 4.4 | K23: 2.5 | L23: 2.6 | M23: 3.2 | N23: 3.8 | O23: 3.6 | P23: 2.3 | Q23: 2.4 | R23: 1.7 | S23: 1.9 | T23: 2.4 | U23: 3.6 | V23: 3 | W23: 6.2 | X23: 3.8 | Y23: 1.9 | Z23: 5 | AA23: 3.2 | AB23: 4.8 | AC23: 3 | AD23: 2.7 | AE23: 4.7 | AF23: 4.2 | AG23: 5.3 | AH23: 5.6 | AI23: 4.3 | AJ23: 6.4 | AK23: 3.8 | AL23: 4.1 | AM23: 3.6 | AN23: 4.8 | AO23: 3.6 | AP23: 4.3 | AQ23: 4.6 | AR23: 3.6 | AS23: 3.9 | AT23: 3.7 | AU23: 5.1 | AV23: 8.3 | AW23: 5.7 | AX23: 5.4 | AY23: 7.9 | AZ23: 5.1 | BA23: 7.1 | BB23: 7 | BC23: 6.6 | BD23: 6.1 | BE23: 7.1 | BF23: 6.5 | BG23: 6.7 | BH23: 4
A24: Females | B24: 20–24 | C24: Age-specific rate (per 100,000) | D24: 6.6 | E24: 5 | F24: 6.9 | G24: 6.8 | H24: 7 | I24: 7.9 | J24: 4.4 | K24: 5.4 | L24: 5.5 | M24: 5.4 | N24: 6.4 | O24: 7.9 | P24: 6.6 | Q24: 6.4 | R24: 4.7 | S24: 4.8 | T24: 6.3 | U24: 6.2 | V24: 7.8 | W24: 5.8 | X24: 5.2 | Y24: 5 | Z24: 3.9 | AA24: 9.4 | AB24: 6.5 | AC24: 5.1 | AD24: 5.7 | AE24: 7.8 | AF24: 4.4 | AG24: 9 | AH24: 7.3 | AI24: 6.9 | AJ24: 5.4 | AK24: 6 | AL24: 4.5 | AM24: 3.8 | AN24: 5.5 | AO24: 4.7 | AP24: 5.5 | AQ24: 4.7 | AR24: 4.7 | AS24: 4.9 | AT24: 7 | AU24: 7.2 | AV24: 6.3 | AW24: 6.7 | AX24: 7.3 | AY24: 6.6 | AZ24: 8 | BA24: 6.8 | BB24: 6.2 | BC24: 8.4 | BD24: 7.1 | BE24: 9.3 | BF24: 9.2 | BG24: 7.1 | BH24: 5.8
A25: Females | B25: 25–29 | C25: Age-specific rate (per 100,000) | D25: 10.1 | E25: 8.4 | F25: 9.1 | G25: 11 | H25: 8.6 | I25: 7.8 | J25: 8.8 | K25: 7 | L25: 4.3 | M25: 6.6 | N25: 7.2 | O25: 7.9 | P25: 7.3 | Q25: 5.9 | R25: 9 | S25: 6.8 | T25: 6.3 | U25: 6.1 | V25: 6.7 | W25: 6.4 | X25: 6.2 | Y25: 6.9 | Z25: 5.9 | AA25: 8 | AB25: 6.1 | AC25: 5.6 | AD25: 6.4 | AE25: 7.2 | AF25: 7 | AG25: 8.2 | AH25: 7.7 | AI25: 7.6 | AJ25: 7.9 | AK25: 7.9 | AL25: 6.9 | AM25: 6.1 | AN25: 4.5 | AO25: 6.4 | AP25: 5.1 | AQ25: 5.8 | AR25: 5 | AS25: 6.4 | AT25: 6.4 | AU25: 5 | AV25: 5.1 | AW25: 5.6 | AX25: 6.5 | AY25: 6.7 | AZ25: 7.5 | BA25: 7.6 | BB25: 6.9 | BC25: 8.5 | BD25: 8.3 | BE25: 7.9 | BF25: 8.5 | BG25: 8.2 | BH25: 9.8
A26: Females | B26: 30–34 | C26: Age-specific rate (per 100,000) | D26: 11.7 | E26: 9.8 | F26: 6.4 | G26: 14.3 | H26: 8.3 | I26: 8.1 | J26: 7.3 | K26: 8.5 | L26: 7.8 | M26: 6.3 | N26: 7.4 | O26: 6.9 | P26: 6.4 | Q26: 5.8 | R26: 5.1 | S26: 6 | T26: 6.8 | U26: 3.2 | V26: 5.8 | W26: 5.7 | X26: 8.2 | Y26: 6.8 | Z26: 8.1 | AA26: 6.7 | AB26: 8 | AC26: 5.5 | AD26: 5.7 | AE26: 6.9 | AF26: 6.5 | AG26: 7.9 | AH26: 7.5 | AI26: 8.6 | AJ26: 6.9 | AK26: 7.2 | AL26: 7.4 | AM26: 9.2 | AN26: 6.3 | AO26: 4.8 | AP26: 5.3 | AQ26: 6.7 | AR26: 7.3 | AS26: 7.2 | AT26: 6.3 | AU26: 5.7 | AV26: 6.9 | AW26: 5.7 | AX26: 7.5 | AY26: 6.7 | AZ26: 8.6 | BA26: 7.6 | BB26: 6.6 | BC26: 6.2 | BD26: 8.2 | BE26: 7 | BF26: 7.8 | BG26: 6.9 | BH26: 7.5
A27: Females | B27: 35–39 | C27: Age-specific rate (per 100,000) | D27: 14.2 | E27: 12.1 | F27: 12.1 | G27: 12.6 | H27: 13.5 | I27: 12.1 | J27: 10.8 | K27: 10.2 | L27: 5.9 | M27: 10 | N27: 9.6 | O27: 8.6 | P27: 9.5 | Q27: 8 | R27: 8.2 | S27: 7.3 | T27: 7.1 | U27: 7.1 | V27: 7.7 | W27: 7.4 | X27: 7.9 | Y27: 5.4 | Z27: 5.3 | AA27: 6.8 | AB27: 6.6 | AC27: 7.7 | AD27: 7.9 | AE27: 7 | AF27: 8.9 | AG27: 8.7 | AH27: 10.3 | AI27: 6.4 | AJ27: 8.9 | AK27: 9 | AL27: 6.5 | AM27: 7.8 | AN27: 5.6 | AO27: 6.9 | AP27: 7.2 | AQ27: 6.6 | AR27: 7.9 | AS27: 7.1 | AT27: 7.3 | AU27: 7.5 | AV27: 8.3 | AW27: 8.2 | AX27: 9.8 | AY27: 8.8 | AZ27: 7.4 | BA27: 7.1 | BB27: 7.5 | BC27: 9.4 | BD27: 7.6 | BE27: 8.2 | BF27: 8.3 | BG27: 7.4 | BH27: 5.7
A28: Females | B28: 40–44 | C28: Age-specific rate (per 100,000) | D28: 13.5 | E28: 14.9 | F28: 11.3 | G28: 15.5 | H28: 17 | I28: 10.6 | J28: 13.8 | K28: 14.8 | L28: 9.1 | M28: 10.8 | N28: 10.3 | O28: 9.8 | P28: 10.1 | Q28: 9.1 | R28: 8.5 | S28: 6.7 | T28: 6.2 | U28: 4.9 | V28: 7.3 | W28: 7.7 | X28: 7 | Y28: 8.1 | Z28: 6.5 | AA28: 8 | AB28: 7.8 | AC28: 4.2 | AD28: 6.7 | AE28: 8.1 | AF28: 6.7 | AG28: 8.4 | AH28: 8.3 | AI28: 7.9 | AJ28: 9 | AK28: 7.2 | AL28: 9.8 | AM28: 5.9 | AN28: 6.5 | AO28: 5.6 | AP28: 7.5 | AQ28: 7.8 | AR28: 6.9 | AS28: 6.4 | AT28: 7 | AU28: 8.1 | AV28: 8.6 | AW28: 9.5 | AX28: 8.2 | AY28: 8.4 | AZ28: 8.2 | BA28: 10.2 | BB28: 9.8 | BC28: 10.3 | BD28: 8.2 | BE28: 8.7 | BF28: 7.4 | BG28: 8.6 | BH28: 7.3
A29: Females | B29: 45–49 | C29: Age-specific rate (per 100,000) | D29: 16.7 | E29: 16.5 | F29: 16.7 | G29: 19.5 | H29: 16.7 | I29: 14.6 | J29: 12.3 | K29: 16.5 | L29: 13.5 | M29: 14.1 | N29: 14.8 | O29: 11.2 | P29: 9.7 | Q29: 11.7 | R29: 11 | S29: 8.8 | T29: 12.4 | U29: 9.8 | V29: 11.2 | W29: 8.5 | X29: 8.3 | Y29: 6.1 | Z29: 7.1 | AA29: 8 | AB29: 6.1 | AC29: 7.5 | AD29: 6.4 | AE29: 7.8 | AF29: 7.8 | AG29: 7 | AH29: 5.1 | AI29: 8.6 | AJ29: 5.1 | AK29: 7.2 | AL29: 7.4 | AM29: 8.1 | AN29: 7.1 | AO29: 6.3 | AP29: 5 | AQ29: 7 | AR29: 7.2 | AS29: 6.1 | AT29: 8.2 | AU29: 7.3 | AV29: 6.6 | AW29: 8.4 | AX29: 7.9 | AY29: 11.3 | AZ29: 8.4 | BA29: 11.1 | BB29: 8.5 | BC29: 7.7 | BD29: 9.7 | BE29: 8.2 | BF29: 9.4 | BG29: 7.6 | BH29: 8.1
A30: Females | B30: 50–54 | C30: Age-specific rate (per 100,000) | D30: 21.3 | E30: 19 | F30: 12.3 | G30: 18.6 | H30: 19.7 | I30: 14.9 | J30: 15.5 | K30: 13.2 | L30: 14.1 | M30: 10.5 | N30: 11.2 | O30: 14.2 | P30: 8.7 | Q30: 11.1 | R30: 14.2 | S30: 10.3 | T30: 8.6 | U30: 7.5 | V30: 10.3 | W30: 8.7 | X30: 8.2 | Y30: 8.2 | Z30: 6.5 | AA30: 7.5 | AB30: 6.8 | AC30: 6.5 | AD30: 6.6 | AE30: 8.6 | AF30: 7.7 | AG30: 9.5 | AH30: 6.8 | AI30: 6.7 | AJ30: 5.3 | AK30: 8.9 | AL30: 6.7 | AM30: 5.5 | AN30: 5.8 | AO30: 5.9 | AP30: 6.8 | AQ30: 8 | AR30: 8.5 | AS30: 9.3 | AT30: 7.5 | AU30: 6.5 | AV30: 9.2 | AW30: 8.9 | AX30: 9.1 | AY30: 10.1 | AZ30: 10.6 | BA30: 11.4 | BB30: 9.3 | BC30: 8.9 | BD30: 6.5 | BE30: 9.3 | BF30: 9.4 | BG30: 10.5 | BH30: 8.3
A31: Females | B31: 55–59 | C31: Age-specific rate (per 100,000) | D31: 14.4 | E31: 14 | F31: 15.7 | G31: 14.2 | H31: 15.2 | I31: 16.4 | J31: 15.9 | K31: 16.6 | L31: 13.4 | M31: 12.9 | N31: 11.6 | O31: 11.8 | P31: 9.7 | Q31: 10.8 | R31: 9.9 | S31: 10.7 | T31: 8.8 | U31: 8.6 | V31: 8.9 | W31: 10.1 | X31: 7.2 | Y31: 8 | Z31: 6.7 | AA31: 11.2 | AB31: 7.6 | AC31: 5.1 | AD31: 6 | AE31: 7.9 | AF31: 5.2 | AG31: 7.6 | AH31: 7 | AI31: 4.4 | AJ31: 6.2 | AK31: 5.7 | AL31: 6.6 | AM31: 6.5 | AN31: 4.1 | AO31: 4.1 | AP31: 6.8 | AQ31: 7.3 | AR31: 6.1 | AS31: 7.4 | AT31: 6.8 | AU31: 7.9 | AV31: 6.5 | AW31: 7 | AX31: 7.9 | AY31: 9.2 | AZ31: 7 | BA31: 9.9 | BB31: 8.6 | BC31: 9.7 | BD31: 6 | BE31: 7.6 | BF31: 7.4 | BG31: 8 | BH31: 7.6
A32: Females | B32: 60–64 | C32: Age-specific rate (per 100,000) | D32: 21.5 | E32: 15.3 | F32: 18.9 | G32: 17.6 | H32: 13.5 | I32: 12.4 | J32: 13 | K32: 9.3 | L32: 10.8 | M32: 12.4 | N32: 12.1 | O32: 13.2 | P32: 5.5 | Q32: 6.8 | R32: 12.4 | S32: 10.5 | T32: 7.6 | U32: 8 | V32: 7.6 | W32: 7.3 | X32: 10.3 | Y32: 8.9 | Z32: 5.7 | AA32: 8.9 | AB32: 6.6 | AC32: 5 | AD32: 6.7 | AE32: 5.3 | AF32: 5.4 | AG32: 6.6 | AH32: 6.2 | AI32: 5.8 | AJ32: 5.6 | AK32: 4.9 | AL32: 5 | AM32: 5.1 | AN32: 3.8 | AO32: 5.4 | AP32: 6.1 | AQ32: 7.2 | AR32: 3.8 | AS32: 5.5 | AT32: 5 | AU32: 4.2 | AV32: 6.2 | AW32: 7.5 | AX32: 6.1 | AY32: 5.8 | AZ32: 6 | BA32: 7.9 | BB32: 7 | BC32: 7.4 | BD32: 6.5 | BE32: 5.6 | BF32: 6.8 | BG32: 6.3 | BH32: 7.4
A33: Females | B33: 65–69 | C33: Age-specific rate (per 100,000) | D33: 16.2 | E33: 15 | F33: 11.9 | G33: 13.8 | H33: 9.2 | I33: 8 | J33: 14.6 | K33: 10.4 | L33: 7.3 | M33: 9.7 | N33: 11.3 | O33: 9.8 | P33: 7.4 | Q33: 8.7 | R33: 8.6 | S33: 8.9 | T33: 6.9 | U33: 7.2 | V33: 7.6 | W33: 9.8 | X33: 7 | Y33: 10.5 | Z33: 7.7 | AA33: 5.7 | AB33: 6.8 | AC33: 5.6 | AD33: 4 | AE33: 6.5 | AF33: 4.2 | AG33: 7.1 | AH33: 5.8 | AI33: 4.9 | AJ33: 5.8 | AK33: 3.8 | AL33: 4.3 | AM33: 5.5 | AN33: 4.6 | AO33: 5.2 | AP33: 4.9 | AQ33: 4.7 | AR33: 3.8 | AS33: 5.1 | AT33: 3.3 | AU33: 3.5 | AV33: 4.3 | AW33: 5 | AX33: 5.9 | AY33: 4.6 | AZ33: 4.8 | BA33: 5.8 | BB33: 6.3 | BC33: 4.7 | BD33: 4.7 | BE33: 4.7 | BF33: 4.6 | BG33: 5.4 | BH33: 5.1
A34: Females | B34: 70–74 | C34: Age-specific rate (per 100,000) | D34: 7.4 | E34: 10.5 | F34: 17.7 | G34: 16.3 | H34: 12 | I34: 16.2 | J34: 9.2 | K34: 9.7 | L34: 9 | M34: 6.2 | N34: 8.9 | O34: 12 | P34: 6.5 | Q34: 7.5 | R34: 12.4 | S34: 8.3 | T34: 5.9 | U34: 8.1 | V34: 7.6 | W34: 9 | X34: 7.8 | Y34: 8.3 | Z34: 8.1 | AA34: 7.8 | AB34: 7.2 | AC34: 6.3 | AD34: 5.7 | AE34: 4.4 | AF34: 7.1 | AG34: 6.7 | AH34: 6.4 | AI34: 3.6 | AJ34: 6.3 | AK34: 6 | AL34: 4.5 | AM34: 4 | AN34: 3.7 | AO34: 5.6 | AP34: 7.1 | AQ34: 4.5 | AR34: 6.2 | AS34: 4 | AT34: 4.4 | AU34: 5.9 | AV34: 4.7 | AW34: 5.8 | AX34: 6.7 | AY34: 6.5 | AZ34: 5.3 | BA34: 7 | BB34: 4.8 | BC34: 4.6 | BD34: 5.6 | BE34: 5.1 | BF34: 6.7 | BG34: 5.6 | BH34: 6
... A38: Females | B38: Total | C38: Crude rate (per 100,000) | D38: 8.5 | E38: 7.8 | F38: 7.6 | G38: 9 | H38: 8.2 | I38: 7.3 | J38: 7.2 | K38: 6.9 | L38: 5.8 | M38: 6.2 | N38: 6.5 | O38: 6.6 | P38: 5.5 | Q38: 5.5 | R38: 6 | S38: 5.4 | T38: 5.2 | U38: 5 | V38: 5.6 | W38: 5.7 | X38: 5.6 | Y38: 5.2 | Z38: 5 | AA38: 5.9 | AB38: 5.4 | AC38: 4.5 | AD38: 4.8 | AE38: 5.5 | AF38: 5 | AG38: 6.2 | AH38: 5.7 | AI38: 5.2 | AJ38: 5.2 | AK38: 5.4 | AL38: 5.1 | AM38: 4.8 | AN38: 4.4 | AO38: 4.4 | AP38: 4.8 | AQ38: 5.1 | AR38: 4.8 | AS38: 5.1 | AT38: 5.1 | AU38: 5.2 | AV38: 5.7 | AW38: 5.8 | AX38: 6.1 | AY38: 6.4 | AZ38: 6.1 | BA38: 6.8 | BB38: 6.1 | BC38: 6.5 | BD38: 5.9 | BE38: 6.2 | BF38: 6.4 | BG38: 6.1 | BH38: 5.7
A39: Persons | B39: 0–14 | C39: Age-specific rate (per 100,000) | D39: 0.2 | E39: 0.2 | F39: 0.2 | G39: 0.3 | H39: 0.1 | I39: n.p. | J39: 0.2 | K39: 0.3 | L39: 0.2 | M39: 0.2 | N39: 0.2 | O39: n.p. | P39: 0.2 | Q39: 0.1 | R39: 0.3 | S39: 0.2 | T39: 0.2 | U39: 0.2 | V39: 0.4 | W39: 0.4 | X39: 0.2 | Y39: 0.2 | Z39: 0.2 | AA39: 0.2 | AB39: 0.2 | AC39: 0.1 | AD39: 0.2 | AE39: 0.1 | AF39: 0.4 | AG39: 0.4 | AH39: 0.2 | AI39: 0.4 | AJ39: 0.2 | AK39: 0.3 | AL39: 0.2 | AM39: 0.3 | AN39: 0.2 | AO39: 0.3 | AP39: 0.2 | AQ39: 0.3 | AR39: 0.3 | AS39: n.p. | AT39: 0.3 | AU39: 0.4 | AV39: 0.4 | AW39: 0.5 | AX39: 0.5 | AY39: 0.3 | AZ39: 0.4 | BA39: 0.5 | BB39: 0.5 | BC39: 0.4 | BD39: 0.5 | BE39: 0.7 | BF39: 0.3 | BG39: 0.6 | BH39: 0.4
A40: Persons | B40: 5–14 | C40: Age-specific rate (per 100,000) | D40: 0.3 | E40: 0.3 | F40: 0.3 | G40: 0.4 | H40: 0.2 | I40: n.p. | J40: 0.2 | K40: 0.4 | L40: 0.2 | M40: 0.3 | N40: 0.2 | O40: n.p. | P40: 0.2 | Q40: 0.2 | R40: 0.5 | S40: 0.3 | T40: 0.4 | U40: 0.3 | V40: 0.6 | W40: 0.5 | X40: 0.3 | Y40: 0.4 | Z40: 0.2 | AA40: 0.3 | AB40: 0.3 | AC40: 0.2 | AD40: 0.2 | AE40: 0.2 | AF40: 0.5 | AG40: 0.6 | AH40: 0.3 | AI40: 0.6 | AJ40: 0.3 | AK40: 0.4 | AL40: 0.3 | AM40: 0.5 | AN40: 0.3 | AO40: 0.4 | AP40: 0.3 | AQ40: 0.4 | AR40: 0.4 | AS40: n.p. | AT40: 0.5 | AU40: 0.6 | AV40: 0.6 | AW40: 0.8 | AX40: 0.8 | AY40: 0.4 | AZ40: 0.6 | BA40: 0.8 | BB40: 0.7 | BC40: 0.6 | BD40: 0.8 | BE40: 1 | BF40: 0.4 | BG40: 0.9 | BH40: 0.5
A41: Persons | B41: 15–19 | C41: Age-specific rate (per 100,000) | D41: 5.3 | E41: 4.2 | F41: 5.5 | G41: 9.2 | H41: 6.4 | I41: 6.3 | J41: 7.8 | K41: 5.8 | L41: 6.4 | M41: 7.1 | N41: 7.1 | O41: 8.2 | P41: 6.2 | Q41: 6.7 | R41: 6.2 | S41: 5.7 | T41: 6.4 | U41: 10.3 | V41: 8.2 | W41: 11.8 | X41: 12.6 | Y41: 10.3 | Z41: 11.6 | AA41: 11.3 | AB41: 11.8 | AC41: 10.1 | AD41: 10.9 | AE41: 10.1 | AF41: 11 | AG41: 12.2 | AH41: 11.8 | AI41: 9.6 | AJ41: 9.9 | AK41: 9 | AL41: 9.2 | AM41: 8.3 | AN41: 6.2 | AO41: 6.6 | AP41: 7.9 | AQ41: 8.2 | AR41: 6.8 | AS41: 7.2 | AT41: 8 | AU41: 8 | AV41: 9 | AW41: 10.6 | AX41: 9.1 | AY41: 10.2 | AZ41: 9.4 | BA41: 11.1 | BB41: 12.6 | BC41: 11.6 | BD41: 12 | BE41: 10.5 | BF41: 8.2 | BG41: 9.1 | BH41: 6.9
A42: Persons | B42: 20–24 | C42: Age-specific rate (per 100,000) | D42: 9.6 | E42: 10.9 | F42: 11.9 | G42: 12.7 | H42: 13.6 | I42: 14.7 | J42: 12.5 | K42: 12.1 | L42: 12.9 | M42: 12.9 | N42: 15.8 | O42: 15.9 | P42: 16.1 | Q42: 15.9 | R42: 16.5 | S42: 16.2 | T42: 16.8 | U42: 18.9 | V42: 18.7 | W42: 19.1 | X42: 20.4 | Y42: 17.5 | Z42: 20.4 | AA42: 22.1 | AB42: 20.9 | AC42: 18.8 | AD42: 20.4 | AE42: 21.6 | AF42: 19.2 | AG42: 26.3 | AH42: 22.4 | AI42: 19.8 | AJ42: 16.3 | AK42: 17 | AL42: 14.7 | AM42: 13.9 | AN42: 13 | AO42: 14.1 | AP42: 13 | AQ42: 12.4 | AR42: 12.4 | AS42: 10.8 | AT42: 11.8 | AU42: 13.5 | AV42: 12 | AW42: 12.7 | AX42: 14.4 | AY42: 14.8 | AZ42: 16 | BA42: 14.8 | BB42: 15.2 | BC42: 16.8 | BD42: 16.4 | BE42: 16 | BF42: 15.2 | BG42: 13.2 | BH42: 11.3
A43: Persons | B43: 25–29 | C43: Age-specific rate (per 100,000) | D43: 13 | E43: 15.4 | F43: 15.1 | G43: 15.5 | H43: 13.2 | I43: 11.5 | J43: 12.4 | K43: 13.5 | L43: 12.1 | M43: 13.9 | N43: 15.6 | O43: 15.3 | P43: 15.1 | Q43: 14.3 | R43: 19.3 | S43: 16.8 | T43: 14.4 | U43: 18.3 | V43: 17.8 | W43: 18.9 | X43: 18.1 | Y43: 19.7 | Z43: 19.5 | AA43: 18.7 | AB43: 19.4 | AC43: 17.5 | AD43: 18.3 | AE43: 20.8 | AF43: 20.2 | AG43: 24.5 | AH43: 25.4 | AI43: 22.5 | AJ43: 20.3 | AK43: 20.2 | AL43: 19.1 | AM43: 16.4 | AN43: 15 | AO43: 14.7 | AP43: 11.5 | AQ43: 14 | AR43: 13.5 | AS43: 13.8 | AT43: 12 | AU43: 13.1 | AV43: 12.5 | AW43: 12.2 | AX43: 13.3 | AY43: 14.8 | AZ43: 14.4 | BA43: 16.2 | BB43: 15.1 | BC43: 16.6 | BD43: 15.7 | BE43: 16.4 | BF43: 16.6 | BG43: 16 | BH43: 16.1
A44: Persons | B44: 30–34 | C44: Age-specific rate (per 100,000) | D44: 17.1 | E44: 15.6 | F44: 13.1 | G44: 17.7 | H44: 14.1 | I44: 12 | J44: 12.1 | K44: 14.3 | L44: 14.9 | M44: 12.4 | N44: 13.1 | O44: 15.3 | P44: 14.5 | Q44: 13.5 | R44: 12.8 | S44: 14 | T44: 16.2 | U44: 13 | V44: 16.9 | W44: 16.1 | X44: 17.4 | Y44: 17.2 | Z44: 16.7 | AA44: 18.6 | AB44: 18.1 | AC44: 16.9 | AD44: 17.1 | AE44: 19.8 | AF44: 19.2 | AG44: 21.3 | AH44: 23.5 | AI44: 21.1 | AJ44: 20.4 | AK44: 21.5 | AL44: 19.1 | AM44: 19.7 | AN44: 17.8 | AO44: 16.2 | AP44: 13 | AQ44: 15.8 | AR44: 16.6 | AS44: 15 | AT44: 14.7 | AU44: 13.9 | AV44: 14.8 | AW44: 12.9 | AX44: 17.4 | AY44: 16 | AZ44: 18 | BA44: 17.6 | BB44: 15.2 | BC44: 16.2 | BD44: 15.8 | BE44: 15.2 | BF44: 16.5 | BG44: 15.1 | BH44: 13.7
A45: Persons | B45: 35–39 | C45: Age-specific rate (per 100,000) | D45: 20.6 | E45: 19 | F45: 18.3 | G45: 19.3 | H45: 19.2 | I45: 18 | J45: 15.3 | K45: 15.1 | L45: 14.9 | M45: 15 | N45: 16.4 | O45: 15.2 | P45: 15.9 | Q45: 14.6 | R45: 14.1 | S45: 13.4 | T45: 13.2 | U45: 13.4 | V45: 14.8 | W45: 17.2 | X45: 15.9 | Y45: 15.1 | Z45: 15.7 | AA45: 20.5 | AB45: 16.7 | AC45: 14.9 | AD45: 16.5 | AE45: 19 | AF45: 20.6 | AG45: 18.9 | AH45: 23.5 | AI45: 18.1 | AJ45: 20.1 | AK45: 20.7 | AL45: 18.4 | AM45: 16.7 | AN45: 14.8 | AO45: 14.8 | AP45: 15.9 | AQ45: 16.8 | AR45: 17 | AS45: 16.1 | AT45: 18 | AU45: 14.7 | AV45: 17.1 | AW45: 15 | AX45: 17.5 | AY45: 18.3 | AZ45: 16.2 | BA45: 17.3 | BB45: 17.6 | BC45: 18.6 | BD45: 15.8 | BE45: 16.8 | BF45: 16.5 | BG45: 14.6 | BH45: 15.7
A46: Persons | B46: 40–44 | C46: Age-specific rate (per 100,000) | D46: 20.9 | E46: 24.1 | F46: 19.9 | G46: 20.2 | H46: 22.2 | I46: 18.6 | J46: 19.2 | K46: 19.9 | L46: 16.7 | M46: 18.9 | N46: 16 | O46: 17.8 | P46: 18 | Q46: 18.1 | R46: 14.8 | S46: 13.3 | T46: 13.9 | U46: 15.7 | V46: 16.8 | W46: 18.7 | X46: 17.9 | Y46: 14.1 | Z46: 15.8 | AA46: 17.3 | AB46: 15.5 | AC46: 12.4 | AD46: 17.1 | AE46: 16.3 | AF46: 16.6 | AG46: 20 | AH46: 19 | AI46: 18.3 | AJ46: 19.1 | AK46: 17.7 | AL46: 18.9 | AM46: 15.9 | AN46: 16.9 | AO46: 16.2 | AP46: 14.8 | AQ46: 15 | AR46: 17.6 | AS46: 16.1 | AT46: 17.9 | AU46: 15.8 | AV46: 17.1 | AW46: 18 | AX46: 19.5 | AY46: 19.5 | AZ46: 17.9 | BA46: 21.2 | BB46: 17.9 | BC46: 19.8 | BD46: 17.5 | BE46: 15.8 | BF46: 17.5 | BG46: 18 | BH46: 18
A47: Persons | B47: 45–49 | C47: Age-specific rate (per 100,000) | D47: 22.1 | E47: 23.1 | F47: 23.2 | G47: 25.4 | H47: 24.1 | I47: 22.7 | J47: 21.6 | K47: 20.8 | L47: 19.6 | M47: 21.8 | N47: 19.5 | O47: 20.4 | P47: 17.3 | Q47: 17.9 | R47: 17.5 | S47: 14.1 | T47: 16.3 | U47: 16.1 | V47: 17.1 | W47: 16.8 | X47: 17.1 | Y47: 15.5 | Z47: 14.2 | AA47: 16.7 | AB47: 17.2 | AC47: 16.9 | AD47: 15.5 | AE47: 16.2 | AF47: 15.6 | AG47: 15.4 | AH47: 15.4 | AI47: 16.8 | AJ47: 14 | AK47: 16.3 | AL47: 15.3 | AM47: 17.5 | AN47: 12.8 | AO47: 15.4 | AP47: 15.6 | AQ47: 14.4 | AR47: 16.5 | AS47: 15.8 | AT47: 18.5 | AU47: 16.5 | AV47: 16.8 | AW47: 16.3 | AX47: 16.7 | AY47: 21.8 | AZ47: 15.8 | BA47: 22.2 | BB47: 18.8 | BC47: 19.8 | BD47: 17.6 | BE47: 15.8 | BF47: 21.2 | BG47: 17.7 | BH47: 18.5
A48: Persons | B48: 50–54 | C48: Age-specific rate (per 100,000) | D48: 25.5 | E48: 23 | F48: 25.6 | G48: 28 | H48: 24.2 | I48: 19.6 | J48: 21.3 | K48: 18 | L48: 19.7 | M48: 20.6 | N48: 17.2 | O48: 19.8 | P48: 14.7 | Q48: 18.5 | R48: 17.1 | S48: 17 | T48: 17.1 | U48: 14.2 | V48: 17.1 | W48: 20.2 | X48: 15.9 | Y48: 16 | Z48: 14.5 | AA48: 17.7 | AB48: 15.3 | AC48: 13.6 | AD48: 16.2 | AE48: 16.2 | AF48: 15.1 | AG48: 17.6 | AH48: 16.1 | AI48: 15.5 | AJ48: 13.8 | AK48: 15.2 | AL48: 14.4 | AM48: 11.4 | AN48: 12.5 | AO48: 13.4 | AP48: 13.9 | AQ48: 14.7 | AR48: 14.9 | AS48: 16 | AT48: 15 | AU48: 13.3 | AV48: 16.8 | AW48: 16.7 | AX48: 19.5 | AY48: 20.9 | AZ48: 17.4 | BA48: 16.8 | BB48: 18.5 | BC48: 17.8 | BD48: 16.2 | BE48: 18.6 | BF48: 18.8 | BG48: 19 | BH48: 19.1
A49: Persons | B49: 55–59 | C49: Age-specific rate (per 100,000) | D49: 28.1 | E49: 19.4 | F49: 25 | G49: 20.9 | H49: 22.8 | I49: 20.5 | J49: 19.7 | K49: 20.8 | L49: 18.3 | M49: 15.6 | N49: 17.7 | O49: 17.7 | P49: 17.5 | Q49: 18 | R49: 16.9 | S49: 17.1 | T49: 16.8 | U49: 15.4 | V49: 17.3 | W49: 22.5 | X49: 14.9 | Y49: 17.1 | Z49: 16.8 | AA49: 17.1 | AB49: 14.6 | AC49: 13.6 | AD49: 14.7 | AE49: 17.4 | AF49: 13.8 | AG49: 15.3 | AH49: 13.4 | AI49: 13.3 | AJ49: 11.4 | AK49: 13 | AL49: 11 | AM49: 10.9 | AN49: 9.5 | AO49: 9.6 | AP49: 12.6 | AQ49: 12.2 | AR49: 13.3 | AS49: 13 | AT49: 13.8 | AU49: 13.8 | AV49: 13.7 | AW49: 14.1 | AX49: 17.4 | AY49: 15.3 | AZ49: 14.6 | BA49: 18.4 | BB49: 18.8 | BC49: 18 | BD49: 14.5 | BE49: 16.8 | BF49: 16.4 | BG49: 19.8 | BH49: 18.5
A50: Persons | B50: 60–64 | C50: Age-specific rate (per 100,000) | D50: 27.1 | E50: 21.6 | F50: 23.2 | G50: 23.2 | H50: 17.5 | I50: 19 | J50: 19.1 | K50: 15 | L50: 15.2 | M50: 17.3 | N50: 17 | O50: 17.8 | P50: 13.5 | Q50: 14.8 | R50: 18.5 | S50: 17.8 | T50: 15.3 | U50: 14.5 | V50: 15.4 | W50: 15.8 | X50: 17.6 | Y50: 14.3 | Z50: 14.2 | AA50: 14.2 | AB50: 15.7 | AC50: 14.5 | AD50: 14.9 | AE50: 12.4 | AF50: 15.1 | AG50: 14.4 | AH50: 13.2 | AI50: 12.6 | AJ50: 11.1 | AK50: 11.5 | AL50: 11.3 | AM50: 10.2 | AN50: 10.6 | AO50: 9.9 | AP50: 11.3 | AQ50: 12.4 | AR50: 9.8 | AS50: 12.9 | AT50: 12.1 | AU50: 10.4 | AV50: 11.8 | AW50: 13.1 | AX50: 13.6 | AY50: 12.6 | AZ50: 13.6 | BA50: 14.2 | BB50: 15.3 | BC50: 15.6 | BD50: 14.9 | BE50: 13.9 | BF50: 14.1 | BG50: 13.3 | BH50: 16
A51: Persons | B51: 65–69 | C51: Age-specific rate (per 100,000) | D51: 22.1 | E51: 25.7 | F51: 19.7 | G51: 22.1 | H51: 19.7 | I51: 19.2 | J51: 21.6 | K51: 18.4 | L51: 16.9 | M51: 18.1 | N51: 15.3 | O51: 14.6 | P51: 14.6 | Q51: 17.7 | R51: 18.4 | S51: 17.5 | T51: 15.6 | U51: 13.7 | V51: 14.9 | W51: 16.1 | X51: 15.1 | Y51: 16.5 | Z51: 16 | AA51: 13.1 | AB51: 15.8 | AC51: 13.7 | AD51: 13.1 | AE51: 12.5 | AF51: 12.1 | AG51: 14.9 | AH51: 15.7 | AI51: 11.8 | AJ51: 11.4 | AK51: 11.2 | AL51: 11.4 | AM51: 11.7 | AN51: 12 | AO51: 8.9 | AP51: 9.7 | AQ51: 10 | AR51: 11.8 | AS51: 9.9 | AT51: 8.5 | AU51: 10.4 | AV51: 9.7 | AW51: 10.8 | AX51: 11.4 | AY51: 11.8 | AZ51: 10.4 | BA51: 13.7 | BB51: 11.2 | BC51: 11.2 | BD51: 11.2 | BE51: 11.7 | BF51: 12.5 | BG51: 12.2 | BH51: 11.8
A52: Persons | B52: 70–74 | C52: Age-specific rate (per 100,000) | D52: 19.8 | E52: 20.5 | F52: 25.1 | G52: 24.4 | H52: 18.3 | I52: 21.9 | J52: 19.6 | K52: 19.4 | L52: 20.4 | M52: 17.8 | N52: 16.1 | O52: 18.2 | P52: 13 | Q52: 15.2 | R52: 18.2 | S52: 18.7 | T52: 13.5 | U52: 17.2 | V52: 18.4 | W52: 20.8 | X52: 18.7 | Y52: 19 | Z52: 16.8 | AA52: 15.5 | AB52: 17.3 | AC52: 14.5 | AD52: 14.3 | AE52: 11.5 | AF52: 15.2 | AG52: 15 | AH52: 11.4 | AI52: 14.3 | AJ52: 13.5 | AK52: 13.2 | AL52: 10.5 | AM52: 12.5 | AN52: 12.2 | AO52: 10.8 | AP52: 12.8 | AQ52: 9.2 | AR52: 11.9 | AS52: 9.3 | AT52: 10.5 | AU52: 10.2 | AV52: 11.7 | AW52: 11.7 | AX52: 11.7 | AY52: 12.7 | AZ52: 10.1 | BA52: 12.9 | BB52: 10.9 | BC52: 11.3 | BD52: 11.3 | BE52: 12.1 | BF52: 13.1 | BG52: 11.7 | BH52: 12.6
... A110: Persons | B110: Total | C110: Number | D110: 1527 | E110: 1502 | F110: 1551 | G110: 1738 | H110: 1625 | I110: 1528 | J110: 1567 | K110: 1528 | L110: 1504 | M110: 1566 | N110: 1595 | O110: 1677 | P110: 1607 | Q110: 1672 | R110: 1777 | S110: 1726 | T110: 1712 | U110: 1827 | V110: 1982 | W110: 2240 | X110: 2197 | Y110: 2096 | Z110: 2161 | AA110: 2360 | AB110: 2294 | AC110: 2081 | AD110: 2258 | AE110: 2368 | AF110: 2393 | AG110: 2722 | AH110: 2683 | AI110: 2492 | AJ110: 2367 | AK110: 2457 | AL110: 2320 | AM110: 2214 | AN110: 2098 | AO110: 2102 | AP110: 2118 | AQ110: 2229 | AR110: 2341 | AS110: 2337 | AT110: 2480 | AU110: 2393 | AV110: 2579 | AW110: 2629 | AX110: 2937 | AY110: 3100 | AZ110: 2939 | BA110: 3292 | BB110: 3205 | BC110: 3377 | BD110: 3184 | BE110: 3220 | BF110: 3340 | BG110: 3300 | BH110: 3307
A111: n.p. not available for publication but included in totals where applicable, unless otherwise indicated.
A113: Notes
A114: 1. Deaths are counted according to year the death was registered by the Registries of Births, Deaths and Marriages (RBDM), not necessarily the year in which the death occurred.
A115: 2. Crude rates are per 100,000 population as at 30 June of the same year.
A116: 3. Age-specific rates are deaths for an age group per 100,000 population of the same age group as at 30 June of the same year.
A117: 4. Crude or age-specific rates based on small numbers are volatile and unreliable and may appear as 'n.p.'.
A118: 5. Deaths registered between 2006 and 2021 are based on the final version of cause of death data; deaths registered in 2022 are based on revised data; deaths registered in 2023 are based on preliminary revised data, and deaths registered in 2024 are based on preliminary data. Revised and preliminary data are subject to further revision by the ABS. Deaths registered prior to 2006 were not subject to a revisions process. Comparisons over time should be done with caution.

Sheet Table NMD 3a
A1: Table NMD 3a: Suicide by sex, registration year and state and territory, 1979 to 2024
A2: Sex | B2: Year | C2: Measure | D2: NSW | E2: Vic | F2: Qld | G2: WA | H2: SA | I2: Tas | J2: ACT | K2: NT | L2: Australia
A3: Males | B3: 1979 | C3: Age-standardised rate (per 100,000) | D3: 17 | E3: 17.7 | F3: 21.5 | G3: 14.5 | H3: 21.6 | I3: 21.1 | J3: n.p. | K3: n.p. | L3: 18.2
A4: Males | B4: 1980 | C4: Age-standardised rate (per 100,000) | D4: 17.3 | E4: 18 | F4: 20.9 | G4: 18 | H4: 17.3 | I4: 18.1 | J4: n.p. | K4: n.p. | L4: 18.1
A5: Males | B5: 1981 | C5: Age-standardised rate (per 100,000) | D5: 17.2 | E5: 17.7 | F5: 21.4 | G5: 18.7 | H5: 19.4 | I5: 30 | J5: n.p. | K5: n.p. | L5: 18.7
A6: Males | B6: 1982 | C6: Age-standardised rate (per 100,000) | D6: 17.7 | E6: 18 | F6: 21.2 | G6: 20.8 | H6: 21.6 | I6: 20.8 | J6: n.p. | K6: n.p. | L6: 19
A7: Males | B7: 1983 | C7: Age-standardised rate (per 100,000) | D7: 16.8 | E7: 19.9 | F7: 19.9 | G7: 17.5 | H7: 16.1 | I7: 28.5 | J7: 24.4 | K7: n.p. | L7: 18.6
A8: Males | B8: 1984 | C8: Age-standardised rate (per 100,000) | D8: 15.3 | E8: 18.4 | F8: 21.5 | G8: 20.9 | H8: 19.1 | I8: 19 | J8: 20.6 | K8: n.p. | L8: 18.1
A9: Males | B9: 1985 | C9: Age-standardised rate (per 100,000) | D9: 19.2 | E9: 17.7 | F9: 21.6 | G9: 19.8 | H9: 15 | I9: 25.6 | J9: 22.1 | K9: n.p. | L9: 19.1
A10: Males | B10: 1986 | C10: Age-standardised rate (per 100,000) | D10: 18.2 | E10: 19.3 | F10: 24.8 | G10: 19.9 | H10: 21.1 | I10: 27.6 | J10: 18.2 | K10: n.p. | L10: 20.2
A11: Males | B11: 1987 | C11: Age-standardised rate (per 100,000) | D11: 20.3 | E11: 25.3 | F11: 26.4 | G11: 22.8 | H11: 22.5 | I11: 28.8 | J11: 24.4 | K11: n.p. | L11: 23.3
A12: Males | B12: 1988 | C12: Age-standardised rate (per 100,000) | D12: 20.7 | E12: 21 | F12: 24.9 | G12: 22.2 | H12: 20.9 | I12: 28.3 | J12: 13.4 | K12: 31.8 | L12: 21.9
A13: Males | B13: 1989 | C13: Age-standardised rate (per 100,000) | D13: 19.4 | E13: 18.8 | F13: 24.6 | G13: 21.1 | H13: 21.2 | I13: 18.6 | J13: 22.6 | K13: 47.2 | L13: 20.6
A14: Males | B14: 1990 | C14: Age-standardised rate (per 100,000) | D14: 19.1 | E14: 18.7 | F14: 24.6 | G14: 21.9 | H14: 23.5 | I14: 27.8 | J14: 23.6 | K14: 31.5 | L14: 21
A15: Males | B15: 1991 | C15: Age-standardised rate (per 100,000) | D15: 21 | E15: 21.8 | F15: 24.7 | G15: 21.3 | H15: 23.7 | I15: 24.4 | J15: 19.7 | K15: n.p. | L15: 22.2
A16: Males | B16: 1992 | C16: Age-standardised rate (per 100,000) | D16: 20.4 | E16: 20.7 | F16: 22.3 | G16: 20.8 | H16: 22.7 | I16: 32.9 | J16: 19.8 | K16: 25 | L16: 21.3
A17: Males | B17: 1993 | C17: Age-standardised rate (per 100,000) | D17: 19.3 | E17: 18.4 | F17: 20.9 | G17: 21 | H17: 18.6 | I17: 29.2 | J17: 13.4 | K17: n.p. | L17: 19.7
A18: Males | B18: 1994 | C18: Age-standardised rate (per 100,000) | D18: 21.5 | E18: 18.3 | F18: 23.8 | G18: 22.2 | H18: 19.6 | I18: 28.3 | J18: 16.3 | K18: n.p. | L18: 21.1
A19: Males | B19: 1995 | C19: Age-standardised rate (per 100,000) | D19: 19.9 | E19: 20 | F19: 25.1 | G19: 20.3 | H19: 22.3 | I19: 21.7 | J19: 23.6 | K19: 23.4 | L19: 21.2
A20: Males | B20: 1996 | C20: Age-standardised rate (per 100,000) | D20: 21.9 | E20: 17.5 | F20: 27.4 | G20: 19.3 | H20: 21.3 | I20: 24.5 | J20: 16.6 | K20: 29.2 | L20: 21.6
A21: Males | B21: 1997 | C21: Age-standardised rate (per 100,000) | D21: 23.2 | E21: 23.7 | F21: 26.2 | G21: 23.2 | H21: 22.3 | I21: 17.9 | J21: 17.7 | K21: 35.7 | L21: 23.7
A22: Males | B22: 1998 | C22: Age-standardised rate (per 100,000) | D22: 22.8 | E22: 19.5 | F22: 26.9 | G22: 25.8 | H22: 27 | I22: 21.7 | J22: 20 | K22: 34.9 | L22: 23.4
A23: Males | B23: 1999 | C23: Age-standardised rate (per 100,000) | D23: 22.2 | E23: 19.4 | F23: 23.3 | G23: 21.2 | H23: 20.9 | I23: 30.5 | J23: 23.7 | K23: 22.6 | L23: 21.7
A24: Males | B24: 2000 | C24: Age-standardised rate (per 100,000) | D24: 18.9 | E24: 16.7 | F24: 24.6 | G24: 21.7 | H24: 21.8 | I24: 17.9 | J24: 15.1 | K24: 32.4 | L24: 20
A25: Males | B25: 2001 | C25: Age-standardised rate (per 100,000) | D25: 19.2 | E25: 17.7 | F25: 23.2 | G25: 22.6 | H25: 22.7 | I25: 23 | J25: 21 | K25: 36.7 | L25: 20.5
A26: Males | B26: 2002 | C26: Age-standardised rate (per 100,000) | D26: 17.1 | E26: 16.4 | F26: 24.2 | G26: 19.6 | H26: 18.7 | I26: 24.3 | J26: 13.8 | K26: 41.4 | L26: 19
A27: Males | B27: 2003 | C27: Age-standardised rate (per 100,000) | D27: 15.7 | E27: 17.1 | F27: 20.4 | G27: 17.4 | H27: 20.6 | I27: 23.7 | J27: 16.4 | K27: 42.4 | L27: 17.9
A28: Males | B28: 2004 | C28: Age-standardised rate (per 100,000) | D28: 14.1 | E28: 16.3 | F28: 20.1 | G28: 15.9 | H28: 18.7 | I28: 30.7 | J28: n.p. | K28: 39.1 | L28: 17
A29: Males | B29: 2005 | C29: Age-standardised rate (per 100,000) | D29: 13.3 | E29: 16 | F29: 18.8 | G29: 16.9 | H29: 23.9 | I29: 22.3 | J29: 14.9 | K29: 36.4 | L29: 16.7
A30: Males | B30: 2006 | C30: Age-standardised rate (per 100,000) | D30: 13.9 | E30: 14.3 | F30: 19.4 | G30: 17.8 | H30: 17.1 | I30: 23.2 | J30: 13.6 | K30: 24.8 | L30: 16
A31: Males | B31: 2007 | C31: Age-standardised rate (per 100,000) | D31: 13.6 | E31: 13.9 | F31: 19.6 | G31: 19.3 | H31: 21.5 | I31: 19.8 | J31: 14.2 | K31: 50 | L31: 16.5
A32: Males | B32: 2008 | C32: Age-standardised rate (per 100,000) | D32: 13.9 | E32: 16.6 | F32: 21.2 | G32: 21.6 | H32: 16.5 | I32: 25.8 | J32: 16.6 | K32: 27.5 | L32: 17.4
A33: Males | B33: 2009 | C33: Age-standardised rate (per 100,000) | D33: 13.4 | E33: 15.8 | F33: 19.5 | G33: 19.3 | H33: 18.5 | I33: 24 | J33: 13.1 | K33: 28.1 | L33: 16.5
A34: Males | B34: 2010 | C34: Age-standardised rate (per 100,000) | D34: 14.7 | E34: 15.6 | F34: 20.4 | G34: 21.7 | H34: 18.6 | I34: 19.6 | J34: 19.2 | K34: 31.6 | L34: 17.5
A35: Males | B35: 2011 | C35: Age-standardised rate (per 100,000) | D35: 12.9 | E35: 14.3 | F35: 19.9 | G35: 19.1 | H35: 20 | I35: 20.2 | J35: 14 | K35: 30.5 | L35: 16.2
A36: Males | B36: 2012 | C36: Age-standardised rate (per 100,000) | D36: 14.5 | E36: 13.9 | F36: 21.2 | G36: 22.2 | H36: 17.9 | I36: 22.2 | J36: n.p. | K36: 31 | L36: 17
A37: Males | B37: 2013 | C37: Age-standardised rate (per 100,000) | D37: 14.1 | E37: 14 | F37: 22.7 | G37: 20.1 | H37: 18 | I37: 21.5 | J37: 14.7 | K37: 18.5 | L37: 16.9
A38: Males | B38: 2014 | C38: Age-standardised rate (per 100,000) | D38: 16.5 | E38: 17.6 | F38: 21.4 | G38: 21.8 | H38: 22.5 | I38: 21.8 | J38: 14.5 | K38: 24.6 | L38: 18.9
A39: Males | B39: 2015 | C39: Age-standardised rate (per 100,000) | D39: 16.8 | E39: 17.4 | F39: 24.9 | G39: 22.9 | H39: 19.3 | I39: 25.7 | J39: 17.9 | K39: 27.2 | L39: 19.7
A40: Males | B40: 2016 | C40: Age-standardised rate (per 100,000) | D40: 16.1 | E40: 15.3 | F40: 22.4 | G40: 21 | H40: 19.5 | I40: 25.5 | J40: 10.8 | K40: 30.7 | L40: 18.2
A41: Males | B41: 2017 | C41: Age-standardised rate (per 100,000) | D41: 18.2 | E41: 16.2 | F41: 25.4 | G41: 24 | H41: 18.6 | I41: 23.7 | J41: 22 | K41: 28.1 | L41: 20
A42: Males | B42: 2018 | C42: Age-standardised rate (per 100,000) | D42: 17.8 | E42: 16.1 | F42: 25.8 | G42: 21.8 | H42: 17.5 | I42: 22.7 | J42: 18 | K42: 31.4 | L42: 19.6
A43: Males | B43: 2019 | C43: Age-standardised rate (per 100,000) | D43: 18.3 | E43: 17 | F43: 24.2 | G43: 22.9 | H43: 22.3 | I43: 25.6 | J43: 19.2 | K43: 28.4 | L43: 20.1
A44: Males | B44: 2020 | C44: Age-standardised rate (per 100,000) | D44: 16.5 | E44: 15.6 | F44: 24 | G44: 21.7 | H44: 20.1 | I44: 25.1 | J44: 16.5 | K44: 25.7 | L44: 18.8
A45: Males | B45: 2021 | C45: Age-standardised rate (per 100,000) | D45: 16.7 | E45: 15.6 | F45: 23.1 | G45: 21.2 | H45: 19.3 | I45: 21 | J45: 21.3 | K45: 22.7 | L45: 18.6
A46: Males | B46: 2022 | C46: Age-standardised rate (per 100,000) | D46: 17.5 | E46: 17.1 | F46: 22.9 | G46: 20.5 | H46: 19.7 | I46: 22.6 | J46: 15.4 | K46: 31.7 | L46: 19.2
A47: Males | B47: 2023 | C47: Age-standardised rate (per 100,000) | D47: 16.8 | E47: 16.3 | F47: 21.5 | G47: 21.8 | H47: 18.5 | I47: 22.9 | J47: 11 | K47: 24.4 | L47: 18.4
A48: Males | B48: 2024 | C48: Age-standardised rate (per 100,000) | D48: 16.7 | E48: 15.8 | F48: 22 | G48: 21.9 | H48: 18.1 | I48: 20.8 | J48: 11.2 | K48: 30.3 | L48: 18.3
A49: Females | B49: 1979 | C49: Age-standardised rate (per 100,000) | D49: 6 | E49: 8.4 | F49: 8.5 | G49: 6.4 | H49: 7.6 | I49: n.p. | J49: n.p. | K49: n.p. | L49: 7.2
A50: Females | B50: 1980 | C50: Age-standardised rate (per 100,000) | D50: 5.9 | E50: 6.4 | F50: 6.6 | G50: 4.6 | H50: 7.6 | I50: n.p. | J50: n.p. | K50: n.p. | L50: 6.1
A51: Females | B51: 1981 | C51: Age-standardised rate (per 100,000) | D51: 5.6 | E51: 6 | F51: 7.9 | G51: 5.1 | H51: 6.8 | I51: n.p. | J51: n.p. | K51: n.p. | L51: 6.1
A52: Females | B52: 1982 | C52: Age-standardised rate (per 100,000) | D52: 6 | E52: 7.6 | F52: 6.3 | G52: 6.8 | H52: 7.3 | I52: n.p. | J52: n.p. | K52: — | L52: 6.7
A53: Females | B53: 1983 | C53: Age-standardised rate (per 100,000) | D53: 5.5 | E53: 7.4 | F53: 4.6 | G53: 5.1 | H53: 5.3 | I53: n.p. | J53: n.p. | K53: — | L53: 5.9
A54: Females | B54: 1984 | C54: Age-standardised rate (per 100,000) | D54: 4.8 | E54: 6.3 | F54: 6.6 | G54: 5.6 | H54: 3.8 | I54: n.p. | J54: n.p. | K54: n.p. | L54: 5.6
A55: Females | B55: 1985 | C55: Age-standardised rate (per 100,000) | D55: 5.3 | E55: 4.2 | F55: 6.8 | G55: 6.5 | H55: 4.6 | I55: n.p. | J55: n.p. | K55: n.p. | L55: 5.3
A56: Females | B56: 1986 | C56: Age-standardised rate (per 100,000) | D56: 5.2 | E56: 7.2 | F56: 6.7 | G56: 4.5 | H56: 5.3 | I56: n.p. | J56: n.p. | K56: n.p. | L56: 6
A57: Females | B57: 1987 | C57: Age-standardised rate (per 100,000) | D57: 4.3 | E57: 7.2 | F57: 7.3 | G57: 6.1 | H57: 6.4 | I57: n.p. | J57: n.p. | K57: n.p. | L57: 6
A58: Females | B58: 1988 | C58: Age-standardised rate (per 100,000) | D58: 5.8 | E58: 5.8 | F58: 6.5 | G58: 5.3 | H58: 5.6 | I58: n.p. | J58: n.p. | K58: n.p. | L58: 5.9
A59: Females | B59: 1989 | C59: Age-standardised rate (per 100,000) | D59: 4.9 | E59: 5.5 | F59: 6 | G59: 3.5 | H59: 7.4 | I59: n.p. | J59: n.p. | K59: n.p. | L59: 5.4
A60: Females | B60: 1990 | C60: Age-standardised rate (per 100,000) | D60: 4.9 | E60: 4.5 | F60: 6 | G60: 5.9 | H60: 5.8 | I60: n.p. | J60: n.p. | K60: n.p. | L60: 5.1
A61: Females | B61: 1991 | C61: Age-standardised rate (per 100,000) | D61: 6 | E61: 6.1 | F61: 5.6 | G61: 5.2 | H61: 8 | I61: n.p. | J61: n.p. | K61: n.p. | L61: 6
A62: Females | B62: 1992 | C62: Age-standardised rate (per 100,000) | D62: 4.9 | E62: 5 | F62: 6.5 | G62: 5.4 | H62: 6.7 | I62: 8.8 | J62: n.p. | K62: n.p. | L62: 5.5
A63: Females | B63: 1993 | C63: Age-standardised rate (per 100,000) | D63: 4.5 | E63: 4.1 | F63: 4.1 | G63: 5.3 | H63: 4.6 | I63: n.p. | J63: n.p. | K63: n.p. | L63: 4.5
A64: Females | B64: 1994 | C64: Age-standardised rate (per 100,000) | D64: 5 | E64: 4.9 | F64: 5.8 | G64: 3.5 | H64: 4 | I64: n.p. | J64: n.p. | K64: n.p. | L64: 4.8
A65: Females | B65: 1995 | C65: Age-standardised rate (per 100,000) | D65: 5.6 | E65: 5.6 | F65: 6.3 | G65: 4.5 | H65: 5.2 | I65: n.p. | J65: n.p. | K65: n.p. | L65: 5.5
A66: Females | B66: 1996 | C66: Age-standardised rate (per 100,000) | D66: 5 | E66: 4.9 | F66: 5.4 | G66: 5.3 | H66: 4.3 | I66: n.p. | J66: n.p. | K66: n.p. | L66: 5.1
A67: Females | B67: 1997 | C67: Age-standardised rate (per 100,000) | D67: 7.1 | E67: 6.1 | F67: 5.9 | G67: 5.5 | H67: 4.6 | I67: n.p. | J67: n.p. | K67: n.p. | L67: 6.2
A68: Females | B68: 1998 | C68: Age-standardised rate (per 100,000) | D68: 4.9 | E68: 5.6 | F68: 7.3 | G68: 5.8 | H68: 5.9 | I68: n.p. | J68: n.p. | K68: n.p. | L68: 5.7
A69: Females | B69: 1999 | C69: Age-standardised rate (per 100,000) | D69: 5.6 | E69: 4.6 | F69: 4.9 | G69: 4.8 | H69: 6 | I69: n.p. | J69: n.p. | K69: n.p. | L69: 5.2
A70: Females | B70: 2000 | C70: Age-standardised rate (per 100,000) | D70: 4.3 | E70: 5.4 | F70: 6.8 | G70: 5.8 | H70: 5 | I70: n.p. | J70: n.p. | K70: n.p. | L70: 5.2
A71: Females | B71: 2001 | C71: Age-standardised rate (per 100,000) | D71: 5.2 | E71: 5.3 | F71: 5.2 | G71: 6 | H71: 5.1 | I71: n.p. | J71: n.p. | K71: n.p. | L71: 5.3
A72: Females | B72: 2002 | C72: Age-standardised rate (per 100,000) | D72: 4.1 | E72: 5.7 | F72: 5.8 | G72: 5.6 | H72: 3.7 | I72: n.p. | J72: n.p. | K72: n.p. | L72: 5.1
A73: Females | B73: 2003 | C73: Age-standardised rate (per 100,000) | D73: 3.9 | E73: 5.3 | F73: 5 | G73: 6 | H73: 5.1 | I73: n.p. | J73: n.p. | K73: n.p. | L73: 4.8
A74: Females | B74: 2004 | C74: Age-standardised rate (per 100,000) | D74: 3.6 | E74: 4.9 | F74: 4.2 | G74: 3.8 | H74: 4.7 | I74: n.p. | J74: n.p. | K74: n.p. | L74: 4.3
A75: Females | B75: 2005 | C75: Age-standardised rate (per 100,000) | D75: 3.3 | E75: 4.3 | F75: 5 | G75: 3.5 | H75: 6.1 | I75: 9.2 | J75: n.p. | K75: n.p. | L75: 4.3
A76: Females | B76: 2006 | C76: Age-standardised rate (per 100,000) | D76: 3.3 | E76: 4.7 | F76: 5.5 | G76: 6.1 | H76: 5.8 | I76: n.p. | J76: n.p. | K76: n.p. | L76: 4.7
A77: Females | B77: 2007 | C77: Age-standardised rate (per 100,000) | D77: 4.3 | E77: 4.4 | F77: 6 | G77: 5.9 | H77: 4.5 | I77: n.p. | J77: n.p. | K77: n.p. | L77: 5
A78: Females | B78: 2008 | C78: Age-standardised rate (per 100,000) | D78: 4 | E78: 4.3 | F78: 5.3 | G78: 5.9 | H78: 5.6 | I78: n.p. | J78: n.p. | K78: n.p. | L78: 4.7
A79: Females | B79: 2009 | C79: Age-standardised rate (per 100,000) | D79: 4.3 | E79: 5.1 | F79: 5 | G79: 5.4 | H79: 5.8 | I79: 7.6 | J79: n.p. | K79: n.p. | L79: 5
A80: Females | B80: 2010 | C80: Age-standardised rate (per 100,000) | D80: 4.2 | E80: 4.6 | F80: 6.6 | G80: 5.4 | H80: 4.7 | I80: n.p. | J80: n.p. | K80: n.p. | L80: 5
A81: Females | B81: 2011 | C81: Age-standardised rate (per 100,000) | D81: 4 | E81: 4.3 | F81: 6.2 | G81: 6.7 | H81: 5.5 | I81: 8.9 | J81: n.p. | K81: n.p. | L81: 5.1
A82: Females | B82: 2012 | C82: Age-standardised rate (per 100,000) | D82: 5.3 | E82: 4.3 | F82: 6.8 | G82: 7.9 | H82: 5.7 | I82: n.p. | J82: n.p. | K82: n.p. | L82: 5.6
A83: Females | B83: 2013 | C83: Age-standardised rate (per 100,000) | D83: 5.1 | E83: 4.7 | F83: 6.7 | G83: 6.8 | H83: 6 | I83: 7.4 | J83: n.p. | K83: n.p. | L83: 5.7
A84: Females | B84: 2014 | C84: Age-standardised rate (per 100,000) | D84: 5.5 | E84: 5 | F84: 6.7 | G84: 7.2 | H84: 6.6 | I84: n.p. | J84: n.p. | K84: 18.7 | L84: 6
A85: Females | B85: 2015 | C85: Age-standardised rate (per 100,000) | D85: 5.3 | E85: 5.3 | F85: 7.5 | G85: 8.4 | H85: 7.5 | I85: n.p. | J85: n.p. | K85: n.p. | L85: 6.3
A86: Females | B86: 2016 | C86: Age-standardised rate (per 100,000) | D86: 5 | E86: 6 | F86: 6.3 | G86: 8 | H86: 6.8 | I86: 9.2 | J86: n.p. | K86: n.p. | L86: 6
A87: Females | B87: 2017 | C87: Age-standardised rate (per 100,000) | D87: 5.2 | E87: 6.3 | F87: 8.1 | G87: 8.3 | H87: 7.3 | I87: n.p. | J87: n.p. | K87: n.p. | L87: 6.7
A88: Females | B88: 2018 | C88: Age-standardised rate (per 100,000) | D88: 5.6 | E88: 5.3 | F88: 6.8 | G88: 7.5 | H88: 6.2 | I88: n.p. | J88: n.p. | K88: n.p. | L88: 6
A89: Females | B89: 2019 | C89: Age-standardised rate (per 100,000) | D89: 5.4 | E89: 5.3 | F89: 7.7 | G89: 8.4 | H89: 5.6 | I89: 12.5 | J89: n.p. | K89: n.p. | L89: 6.4
A90: Females | B90: 2020 | C90: Age-standardised rate (per 100,000) | D90: 5.6 | E90: 4.7 | F90: 6.5 | G90: 6.5 | H90: 5.8 | I90: n.p. | J90: 9.9 | K90: n.p. | L90: 5.9
A91: Females | B91: 2021 | C91: Age-standardised rate (per 100,000) | D91: 5.9 | E91: 4.9 | F91: 7.4 | G91: 7.3 | H91: 5.7 | I91: n.p. | J91: n.p. | K91: n.p. | L91: 6.2
A92: Females | B92: 2022 | C92: Age-standardised rate (per 100,000) | D92: 5.1 | E92: 5.9 | F92: 7.2 | G92: 7.4 | H92: 7 | I92: 6.6 | J92: 8.1 | K92: n.p. | L92: 6.2
A93: Females | B93: 2023 | C93: Age-standardised rate (per 100,000) | D93: 4.6 | E93: 5.9 | F93: 7.2 | G93: 7.6 | H93: 6 | I93: 7.3 | J93: n.p. | K93: n.p. | L93: 6
A94: Females | B94: 2024 | C94: Age-standardised rate (per 100,000) | D94: 4.7 | E94: 5.4 | F94: 6.2 | G94: 5.6 | H94: 6.7 | I94: 7.3 | J94: n.p. | K94: n.p. | L94: 5.5
A95: Persons | B95: 1979 | C95: Age-standardised rate (per 100,000) | D95: 11.312059 | E95: 12.968236 | F95: 14.915595 | G95: 10.445536 | H95: 14.406131 | I95: 14.425036 | J95: n.p. | K95: n.p. | L95: 12.56176
A96: Persons | B96: 1980 | C96: Age-standardised rate (per 100,000) | D96: 11.457511 | E96: 11.935419 | F96: 13.638189 | G96: 11.243064 | H96: 11.971811 | I96: 11.910601 | J96: n.p. | K96: n.p. | L96: 11.927211
A97: Persons | B97: 1981 | C97: Age-standardised rate (per 100,000) | D97: 11.034251 | E97: 11.733373 | F97: 14.430345 | G97: 11.898366 | H97: 12.783171 | I97: 17.055283 | J97: 11.511623 | K97: n.p. | L97: 12.175014
A98: Persons | B98: 1982 | C98: Age-standardised rate (per 100,000) | D98: 11.575335 | E98: 12.514632 | F98: 13.497204 | G98: 13.770008 | H98: 13.816805 | I98: 14.268595 | J98: n.p. | K98: n.p. | L98: 12.531695
A99: Persons | B99: 1983 | C99: Age-standardised rate (per 100,000) | D99: 10.75264 | E99: 13.328047 | F99: 12.142184 | G99: 11.214468 | H99: 10.515497 | I99: 17.087919 | J99: 13.433937 | K99: n.p. | L99: 11.930234
A100: Persons | B100: 1984 | C100: Age-standardised rate (per 100,000) | D100: 9.844236 | E100: 12.026911 | F100: 13.807905 | G100: 13.250781 | H100: 11.262772 | I100: 12.067407 | J100: 14.677783 | K100: n.p. | L100: 11.593733
...

Sheet Table NMD 3b
A1: Table NMD 3b: Suicide by sex, year of occurrence and state and territory, 1979 to 2024
A2: Sex | B2: Year | C2: Measure | D2: NSW | E2: Vic | F2: Qld | G2: WA | H2: SA | I2: Tas | J2: ACT | K2: NT | L2: Australia
A3: Males | B3: 1979 | C3: Age-standardised rate (per 100,000) | D3: 17.3 | E3: 16.5 | F3: 20.6 | G3: 14.4 | H3: 21.9 | I3: 18.9 | J3: n.p. | K3: n.p. | L3: 17.8
A4: Males | B4: 1980 | C4: Age-standardised rate (per 100,000) | D4: 16.9 | E4: 19 | F4: 23.7 | G4: 18.2 | H4: 17.1 | I4: 20.9 | J4: n.p. | K4: n.p. | L4: 18.8
A5: Males | B5: 1981 | C5: Age-standardised rate (per 100,000) | D5: 18 | E5: 18.1 | F5: 20.8 | G5: 19 | H5: 21.1 | I5: 28.1 | J5: n.p. | K5: n.p. | L5: 19.1
A6: Males | B6: 1982 | C6: Age-standardised rate (per 100,000) | D6: 17.5 | E6: 18.4 | F6: 20.8 | G6: 20.3 | H6: 20.6 | I6: 20.9 | J6: n.p. | K6: n.p. | L6: 18.9
A7: Males | B7: 1983 | C7: Age-standardised rate (per 100,000) | D7: 16.7 | E7: 19.2 | F7: 20.1 | G7: 17.8 | H7: 17.5 | I7: 28.8 | J7: 23.8 | K7: n.p. | L7: 18.5
A8: Males | B8: 1984 | C8: Age-standardised rate (per 100,000) | D8: 16.4 | E8: 18.6 | F8: 21.8 | G8: 20.5 | H8: 17.7 | I8: 18.1 | J8: 21.2 | K8: n.p. | L8: 18.5
A9: Males | B9: 1985 | C9: Age-standardised rate (per 100,000) | D9: 18.2 | E9: 18.6 | F9: 21.8 | G9: 20.4 | H9: 16.8 | I9: 27.1 | J9: n.p. | K9: n.p. | L9: 19.2
A10: Males | B10: 1986 | C10: Age-standardised rate (per 100,000) | D10: 18.7 | E10: 21.7 | F10: 24.9 | G10: 20 | H10: 20.1 | I10: 27.4 | J10: 18.8 | K10: n.p. | L10: 21
A11: Males | B11: 1987 | C11: Age-standardised rate (per 100,000) | D11: 21.1 | E11: 21.9 | F11: 26.7 | G11: 22.4 | H11: 21.8 | I11: 28.5 | J11: 24.6 | K11: 26.2 | L11: 22.7
A12: Males | B12: 1988 | C12: Age-standardised rate (per 100,000) | D12: 19.7 | E12: 20.8 | F12: 26.1 | G12: 21.7 | H12: 22.3 | I12: 27.6 | J12: 13.3 | K12: n.p. | L12: 21.6
A13: Males | B13: 1989 | C13: Age-standardised rate (per 100,000) | D13: 19.9 | E13: 17.4 | F13: 23.6 | G13: 21.7 | H13: 21.2 | I13: 19.9 | J13: 23.7 | K13: 42.9 | L13: 20.3
A14: Males | B14: 1990 | C14: Age-standardised rate (per 100,000) | D14: 19.3 | E14: 19.7 | F14: 24.9 | G14: 22.4 | H14: 22.1 | I14: 27.9 | J14: 22.5 | K14: 32.6 | L14: 21.3
A15: Males | B15: 1991 | C15: Age-standardised rate (per 100,000) | D15: 20.4 | E15: 21.2 | F15: 24.4 | G15: 21 | H15: 24.6 | I15: 25.1 | J15: 21.5 | K15: n.p. | L15: 21.8
A16: Males | B16: 1992 | C16: Age-standardised rate (per 100,000) | D16: 20.8 | E16: 19.8 | F16: 22.1 | G16: 19.9 | H16: 21 | I16: 32.2 | J16: 18 | K16: 25 | L16: 20.9
A17: Males | B17: 1993 | C17: Age-standardised rate (per 100,000) | D17: 18.4 | E17: 17.3 | F17: 20.9 | G17: 21.2 | H17: 18.8 | I17: 30.7 | J17: 13.2 | K17: n.p. | L17: 19.2
A18: Males | B18: 1994 | C18: Age-standardised rate (per 100,000) | D18: 22.3 | E18: 18.3 | F18: 24.8 | G18: 22.5 | H18: 19.3 | I18: 25.9 | J18: 18.3 | K18: n.p. | L18: 21.5
A19: Males | B19: 1995 | C19: Age-standardised rate (per 100,000) | D19: 19.3 | E19: 19.8 | F19: 24.9 | G19: 20.9 | H19: 22.3 | I19: 22 | J19: 21.3 | K19: 25.4 | L19: 21
A20: Males | B20: 1996 | C20: Age-standardised rate (per 100,000) | D20: 21.8 | E20: 18.2 | F20: 28.1 | G20: 19.6 | H20: 22.6 | I20: 25.2 | J20: 16.6 | K20: 30.3 | L20: 22.1
A21: Males | B21: 1997 | C21: Age-standardised rate (per 100,000) | D21: 23.8 | E21: 21.4 | F21: 25.8 | G21: 22.7 | H21: 21.1 | I21: 17.1 | J21: 17.7 | K21: 33.5 | L21: 23.1
A22: Males | B22: 1998 | C22: Age-standardised rate (per 100,000) | D22: 22 | E22: 19.4 | F22: 26.2 | G22: 26.5 | H22: 26.8 | I22: 22.1 | J22: 20 | K22: 33.9 | L22: 23
A23: Males | B23: 1999 | C23: Age-standardised rate (per 100,000) | D23: 22 | E23: 19.8 | F23: 22.6 | G23: 21.6 | H23: 21.1 | I23: 30.1 | J23: 24.3 | K23: 24.8 | L23: 21.7
A24: Males | B24: 2000 | C24: Age-standardised rate (per 100,000) | D24: 19.1 | E24: 16.8 | F24: 26.2 | G24: 20.4 | H24: 22.5 | I24: 17.9 | J24: 16.1 | K24: 31.6 | L24: 20.3
A25: Males | B25: 2001 | C25: Age-standardised rate (per 100,000) | D25: 19.6 | E25: 17.7 | F25: 23 | G25: 22.8 | H25: 23.1 | I25: 22.5 | J25: 20.4 | K25: 38.1 | L25: 20.6
A26: Males | B26: 2002 | C26: Age-standardised rate (per 100,000) | D26: 16.9 | E26: 16.4 | F26: 23.8 | G26: 20 | H26: 19 | I26: 25.3 | J26: 17.5 | K26: 42.3 | L26: 19
A27: Males | B27: 2003 | C27: Age-standardised rate (per 100,000) | D27: 15.1 | E27: 16.9 | F27: 19.8 | G27: 16.9 | H27: 19.9 | I27: 24.9 | J27: 14.6 | K27: 39.8 | L27: 17.4
A28: Males | B28: 2004 | C28: Age-standardised rate (per 100,000) | D28: 13.9 | E28: 16.8 | F28: 20 | G28: 16.1 | H28: 19.5 | I28: 28.9 | J28: 15.6 | K28: 44.2 | L28: 17.2
A29: Males | B29: 2005 | C29: Age-standardised rate (per 100,000) | D29: 13.6 | E29: 15.8 | F29: 19.5 | G29: 17.4 | H29: 22.3 | I29: 22.9 | J29: n.p. | K29: 32.1 | L29: 16.7
A30: Males | B30: 2006 | C30: Age-standardised rate (per 100,000) | D30: 13.9 | E30: 14.9 | F30: 19.2 | G30: 18.3 | H30: 16.8 | I30: 22.3 | J30: 15.3 | K30: 27.5 | L30: 16.2
A31: Males | B31: 2007 | C31: Age-standardised rate (per 100,000) | D31: 13.7 | E31: 15.3 | F31: 19.3 | G31: 18.9 | H31: 20.9 | I31: 19.2 | J31: 14.2 | K31: 49.2 | L31: 16.7
A32: Males | B32: 2008 | C32: Age-standardised rate (per 100,000) | D32: 13.6 | E32: 16.6 | F32: 21.2 | G32: 21.6 | H32: 17.4 | I32: 24.9 | J32: 15.1 | K32: 29.6 | L32: 17.4
A33: Males | B33: 2009 | C33: Age-standardised rate (per 100,000) | D33: 13.5 | E33: 16 | F33: 19.1 | G33: 19.4 | H33: 18.7 | I33: 24.3 | J33: 13.8 | K33: 31.6 | L33: 16.7
A34: Males | B34: 2010 | C34: Age-standardised rate (per 100,000) | D34: 14.3 | E34: 14.8 | F34: 20.1 | G34: 21.3 | H34: 18.2 | I34: 19.6 | J34: 20.3 | K34: 29.2 | L34: 17
A35: Males | B35: 2011 | C35: Age-standardised rate (per 100,000) | D35: 13.1 | E35: 13.6 | F35: 22.8 | G35: 19.8 | H35: 20.1 | I35: 21.4 | J35: 12.9 | K35: 30.6 | L35: 16.7
A36: Males | B36: 2012 | C36: Age-standardised rate (per 100,000) | D36: 15.3 | E36: 15.1 | F36: 18.9 | G36: 22.1 | H36: 18 | I36: 21.4 | J36: n.p. | K36: 28.9 | L36: 17.1
A37: Males | B37: 2013 | C37: Age-standardised rate (per 100,000) | D37: 13.8 | E37: 15.2 | F37: 22.5 | G37: 21.2 | H37: 18 | I37: 20.8 | J37: 14.7 | K37: 20 | L37: 17.2
A38: Males | B38: 2014 | C38: Age-standardised rate (per 100,000) | D38: 16.7 | E38: 16.3 | F38: 22.5 | G38: 20.7 | H38: 22.3 | I38: 22 | J38: 15.4 | K38: 25.9 | L38: 18.8
A39: Males | B39: 2015 | C39: Age-standardised rate (per 100,000) | D39: 16.7 | E39: 16.6 | F39: 24.2 | G39: 23.4 | H39: 19.8 | I39: 25.3 | J39: 17.9 | K39: 28 | L39: 19.5
A40: Males | B40: 2016 | C40: Age-standardised rate (per 100,000) | D40: 16.2 | E40: 16 | F40: 22.9 | G40: 20.6 | H40: 19.5 | I40: 26.4 | J40: 11.1 | K40: 28.9 | L40: 18.4
A41: Males | B41: 2017 | C41: Age-standardised rate (per 100,000) | D41: 19.5 | E41: 16 | F41: 26 | G41: 24.4 | H41: 18.5 | I41: 24.3 | J41: 21.4 | K41: 25 | L41: 20.5
A42: Males | B42: 2018 | C42: Age-standardised rate (per 100,000) | D42: 17.2 | E42: 16.7 | F42: 25.1 | G42: 21.6 | H42: 17.9 | I42: 21.3 | J42: 17.6 | K42: 32.8 | L42: 19.4
A43: Males | B43: 2019 | C43: Age-standardised rate (per 100,000) | D43: 18.1 | E43: 16.8 | F43: 23.6 | G43: 23.3 | H43: 21.9 | I43: 25.8 | J43: 20.8 | K43: 29 | L43: 20
A44: Males | B44: 2020 | C44: Age-standardised rate (per 100,000) | D44: 16.3 | E44: 15.4 | F44: 24.4 | G44: 21.7 | H44: 19.8 | I44: 26.9 | J44: 19.3 | K44: 22.9 | L44: 18.8
A45: Males | B45: 2021 | C45: Age-standardised rate (per 100,000) | D45: 16.5 | E45: 15.5 | F45: 23 | G45: 20.4 | H45: 20.8 | I45: 19.6 | J45: 16.3 | K45: 25.1 | L45: 18.4
A46: Males | B46: 2022 | C46: Age-standardised rate (per 100,000) | D46: 17.6 | E46: 16.7 | F46: 23.2 | G46: 20.8 | H46: 20.1 | I46: 22.8 | J46: 17.8 | K46: 35.4 | L46: 19.3
A47: Males | B47: 2023 | C47: Age-standardised rate (per 100,000) | D47: 16.8 | E47: 16.4 | F47: 22 | G47: 23.3 | H47: 17.6 | I47: 23.2 | J47: 9.9 | K47: 24.2 | L47: 18.6
A48: Males | B48: 2024 | C48: Age-standardised rate (per 100,000) | D48: 16.6 | E48: 14 | F48: 20.2 | G48: 18.8 | H48: 16.2 | I48: 18.5 | J48: 9.9 | K48: 23.5 | L48: 16.9
A49: Females | B49: 1979 | C49: Age-standardised rate (per 100,000) | D49: 6.2 | E49: 6.7 | F49: 8 | G49: 6.4 | H49: 7.9 | I49: n.p. | J49: n.p. | K49: n.p. | L49: 6.8
A50: Females | B50: 1980 | C50: Age-standardised rate (per 100,000) | D50: 5.9 | E50: 6.7 | F50: 7 | G50: 4.7 | H50: 7 | I50: n.p. | J50: — | K50: n.p. | L50: 6.2
A51: Females | B51: 1981 | C51: Age-standardised rate (per 100,000) | D51: 5.3 | E51: 7.2 | F51: 8.1 | G51: 5 | H51: 7.4 | I51: n.p. | J51: n.p. | K51: — | L51: 6.4
A52: Females | B52: 1982 | C52: Age-standardised rate (per 100,000) | D52: 6.2 | E52: 6.9 | F52: 6.8 | G52: 6.7 | H52: 6.7 | I52: n.p. | J52: n.p. | K52: — | L52: 6.5
A53: Females | B53: 1983 | C53: Age-standardised rate (per 100,000) | D53: 5.5 | E53: 6.5 | F53: 4.5 | G53: 5.3 | H53: 5.1 | I53: n.p. | J53: n.p. | K53: — | L53: 5.6
A54: Females | B54: 1984 | C54: Age-standardised rate (per 100,000) | D54: 5.3 | E54: 5.5 | F54: 6.6 | G54: 6.3 | H54: 4.3 | I54: n.p. | J54: n.p. | K54: n.p. | L54: 5.6
A55: Females | B55: 1985 | C55: Age-standardised rate (per 100,000) | D55: 4.7 | E55: 6.2 | F55: 6.6 | G55: 6 | H55: 4.9 | I55: n.p. | J55: n.p. | K55: n.p. | L55: 5.7
A56: Females | B56: 1986 | C56: Age-standardised rate (per 100,000) | D56: 5.4 | E56: 7.2 | F56: 7.1 | G56: 4.3 | H56: 6 | I56: n.p. | J56: n.p. | K56: n.p. | L56: 6.1
A57: Females | B57: 1987 | C57: Age-standardised rate (per 100,000) | D57: 4.7 | E57: 5.4 | F57: 6.8 | G57: 6.4 | H57: 6.2 | I57: n.p. | J57: n.p. | K57: n.p. | L57: 5.6
A58: Females | B58: 1988 | C58: Age-standardised rate (per 100,000) | D58: 5.4 | E58: 5.9 | F58: 6.6 | G58: 5.1 | H58: 5.8 | I58: n.p. | J58: n.p. | K58: n.p. | L58: 5.8
A59: Females | B59: 1989 | C59: Age-standardised rate (per 100,000) | D59: 4.9 | E59: 4.9 | F59: 6.5 | G59: 3.5 | H59: 6.1 | I59: n.p. | J59: n.p. | K59: n.p. | L59: 5.2
A60: Females | B60: 1990 | C60: Age-standardised rate (per 100,000) | D60: 5.2 | E60: 5 | F60: 5.5 | G60: 5.8 | H60: 6.7 | I60: n.p. | J60: n.p. | K60: n.p. | L60: 5.3
A61: Females | B61: 1991 | C61: Age-standardised rate (per 100,000) | D61: 5.7 | E61: 5.2 | F61: 5.8 | G61: 5.1 | H61: 7.3 | I61: n.p. | J61: n.p. | K61: n.p. | L61: 5.7
A62: Females | B62: 1992 | C62: Age-standardised rate (per 100,000) | D62: 4.7 | E62: 5.2 | F62: 6.3 | G62: 5.8 | H62: 6.1 | I62: 9.2 | J62: n.p. | K62: n.p. | L62: 5.4
A63: Females | B63: 1993 | C63: Age-standardised rate (per 100,000) | D63: 4.8 | E63: 4 | F63: 4.4 | G63: 5 | H63: 4.7 | I63: n.p. | J63: n.p. | K63: n.p. | L63: 4.6
A64: Females | B64: 1994 | C64: Age-standardised rate (per 100,000) | D64: 4.7 | E64: 4.7 | F64: 5.9 | G64: 3.4 | H64: 4.2 | I64: n.p. | J64: n.p. | K64: n.p. | L64: 4.7
A65: Females | B65: 1995 | C65: Age-standardised rate (per 100,000) | D65: 5.7 | E65: 6 | F65: 6.4 | G65: 4.6 | H65: 4.8 | I65: n.p. | J65: n.p. | K65: n.p. | L65: 5.7
A66: Females | B66: 1996 | C66: Age-standardised rate (per 100,000) | D66: 5.2 | E66: 4.7 | F66: 5 | G66: 5.5 | H66: 4.6 | I66: n.p. | J66: n.p. | K66: n.p. | L66: 5
A67: Females | B67: 1997 | C67: Age-standardised rate (per 100,000) | D67: 7 | E67: 5.6 | F67: 5.7 | G67: 5.7 | H67: 4.6 | I67: n.p. | J67: n.p. | K67: n.p. | L67: 6.1
A68: Females | B68: 1998 | C68: Age-standardised rate (per 100,000) | D68: 4.9 | E68: 5.5 | F68: 7.1 | G68: 5.5 | H68: 6.2 | I68: n.p. | J68: n.p. | K68: n.p. | L68: 5.6
A69: Females | B69: 1999 | C69: Age-standardised rate (per 100,000) | D69: 5.4 | E69: 4.7 | F69: 5.4 | G69: 4.8 | H69: 5.7 | I69: n.p. | J69: n.p. | K69: n.p. | L69: 5.2
A70: Females | B70: 2000 | C70: Age-standardised rate (per 100,000) | D70: 4.4 | E70: 5.3 | F70: 6.5 | G70: 6.1 | H70: 5 | I70: n.p. | J70: n.p. | K70: n.p. | L70: 5.3
A71: Females | B71: 2001 | C71: Age-standardised rate (per 100,000) | D71: 5.1 | E71: 5.2 | F71: 5.6 | G71: 5.8 | H71: 5.5 | I71: n.p. | J71: n.p. | K71: n.p. | L71: 5.3
A72: Females | B72: 2002 | C72: Age-standardised rate (per 100,000) | D72: 4.2 | E72: 6 | F72: 5.5 | G72: 5.5 | H72: 3.8 | I72: n.p. | J72: n.p. | K72: n.p. | L72: 5.1
A73: Females | B73: 2003 | C73: Age-standardised rate (per 100,000) | D73: 3.9 | E73: 5 | F73: 5.1 | G73: 6.2 | H73: 5.3 | I73: n.p. | J73: n.p. | K73: n.p. | L73: 4.7
A74: Females | B74: 2004 | C74: Age-standardised rate (per 100,000) | D74: 3.6 | E74: 5.1 | F74: 4.3 | G74: 3.7 | H74: 4.7 | I74: n.p. | J74: n.p. | K74: n.p. | L74: 4.4
A75: Females | B75: 2005 | C75: Age-standardised rate (per 100,000) | D75: 3.3 | E75: 4.3 | F75: 5.2 | G75: 3.8 | H75: 5.6 | I75: 9.1 | J75: n.p. | K75: n.p. | L75: 4.3
A76: Females | B76: 2006 | C76: Age-standardised rate (per 100,000) | D76: 3.4 | E76: 4.7 | F76: 5.4 | G76: 6.6 | H76: 5.5 | I76: n.p. | J76: n.p. | K76: n.p. | L76: 4.8
A77: Females | B77: 2007 | C77: Age-standardised rate (per 100,000) | D77: 4.3 | E77: 5.1 | F77: 5.9 | G77: 5.4 | H77: 4.8 | I77: n.p. | J77: n.p. | K77: n.p. | L77: 5.1
A78: Females | B78: 2008 | C78: Age-standardised rate (per 100,000) | D78: 4 | E78: 3.9 | F78: 5.1 | G78: 5.9 | H78: 5.8 | I78: n.p. | J78: n.p. | K78: n.p. | L78: 4.6
A79: Females | B79: 2009 | C79: Age-standardised rate (per 100,000) | D79: 4.4 | E79: 5.2 | F79: 5.3 | G79: 5.7 | H79: 5.3 | I79: 7.6 | J79: n.p. | K79: n.p. | L79: 5.1
A80: Females | B80: 2010 | C80: Age-standardised rate (per 100,000) | D80: 4.2 | E80: 4.6 | F80: 6.3 | G80: 5.3 | H80: 4.9 | I80: n.p. | J80: n.p. | K80: n.p. | L80: 5
A81: Females | B81: 2011 | C81: Age-standardised rate (per 100,000) | D81: 4.1 | E81: 4.3 | F81: 7.2 | G81: 6.9 | H81: 5.5 | I81: 9 | J81: n.p. | K81: n.p. | L81: 5.3
A82: Females | B82: 2012 | C82: Age-standardised rate (per 100,000) | D82: 5.5 | E82: 4.5 | F82: 5.6 | G82: 7.9 | H82: 5.7 | I82: n.p. | J82: n.p. | K82: n.p. | L82: 5.5
A83: Females | B83: 2013 | C83: Age-standardised rate (per 100,000) | D83: 5.1 | E83: 5 | F83: 7 | G83: 6.3 | H83: 6.2 | I83: 7.8 | J83: n.p. | K83: n.p. | L83: 5.8
A84: Females | B84: 2014 | C84: Age-standardised rate (per 100,000) | D84: 5.3 | E84: 4.8 | F84: 6.7 | G84: 7.6 | H84: 6.6 | I84: n.p. | J84: n.p. | K84: 19 | L84: 5.9
A85: Females | B85: 2015 | C85: Age-standardised rate (per 100,000) | D85: 5.5 | E85: 5.5 | F85: 7.6 | G85: 8.3 | H85: 7.3 | I85: n.p. | J85: n.p. | K85: n.p. | L85: 6.4
A86: Females | B86: 2016 | C86: Age-standardised rate (per 100,000) | D86: 4.9 | E86: 6.1 | F86: 6.3 | G86: 7.9 | H86: 6.8 | I86: 9.2 | J86: n.p. | K86: n.p. | L86: 6
A87: Females | B87: 2017 | C87: Age-standardised rate (per 100,000) | D87: 5.6 | E87: 5.8 | F87: 8.1 | G87: 8.2 | H87: 7.8 | I87: 7.5 | J87: n.p. | K87: n.p. | L87: 6.7
A88: Females | B88: 2018 | C88: Age-standardised rate (per 100,000) | D88: 5.5 | E88: 5.4 | F88: 7 | G88: 7.8 | H88: 6.1 | I88: n.p. | J88: n.p. | K88: n.p. | L88: 6.1
A89: Females | B89: 2019 | C89: Age-standardised rate (per 100,000) | D89: 5.3 | E89: 5.2 | F89: 7.4 | G89: 8.2 | H89: 5.5 | I89: 11.7 | J89: n.p. | K89: n.p. | L89: 6.3
A90: Females | B90: 2020 | C90: Age-standardised rate (per 100,000) | D90: 5.6 | E90: 4.9 | F90: 6.8 | G90: 7 | H90: 5.5 | I90: n.p. | J90: n.p. | K90: n.p. | L90: 5.9
A91: Females | B91: 2021 | C91: Age-standardised rate (per 100,000) | D91: 5.7 | E91: 5 | F91: 7.2 | G91: 7 | H91: 5.7 | I91: n.p. | J91: n.p. | K91: n.p. | L91: 6.1
A92: Females | B92: 2022 | C92: Age-standardised rate (per 100,000) | D92: 5.1 | E92: 5.6 | F92: 7.1 | G92: 7.2 | H92: 7.6 | I92: 6.9 | J92: n.p. | K92: n.p. | L92: 6.2
A93: Females | B93: 2023 | C93: Age-standardised rate (per 100,000) | D93: 4.7 | E93: 5.8 | F93: 7.4 | G93: 7.8 | H93: 6.2 | I93: 8.3 | J93: n.p. | K93: n.p. | L93: 6.1
A94: Females | B94: 2024 | C94: Age-standardised rate (per 100,000) | D94: 4.9 | E94: 4.8 | F94: 5.7 | G94: 4.9 | H94: 5.6 | I94: n.p. | J94: n.p. | K94: n.p. | L94: 5.1
A95: Persons | B95: 1979 | C95: Age-standardised rate (per 100,000) | D95: 11.518559 | E95: 11.467267 | F95: 14.160759 | G95: 10.511764 | H95: 14.651083 | I95: 13.866197 | J95: 9.9603741 | K95: n.p. | L95: 12.164295
A96: Persons | B96: 1980 | C96: Age-standardised rate (per 100,000) | D96: 11.237552 | E96: 12.501112 | F96: 15.275546 | G96: 11.423182 | H96: 11.623015 | I96: 12.989635 | J96: n.p. | K96: n.p. | L96: 12.270834
A97: Persons | B97: 1981 | C97: Age-standardised rate (per 100,000) | D97: 11.253042 | E97: 12.471332 | F97: 14.174367 | G97: 12.068594 | H97: 13.595544 | I97: 17.288591 | J97: 11.165972 | K97: n.p. | L97: 12.455469
A98: Persons | B98: 1982 | C98: Age-standardised rate (per 100,000) | D98: 11.521506 | E98: 12.39016 | F98: 13.599044 | G98: 13.414007 | H98: 13.315022 | I98: 12.87716 | J98: n.p. | K98: n.p. | L98: 12.423565
A99: Persons | B99: 1983 | C99: Age-standardised rate (per 100,000) | D99: 10.791773 | E99: 12.469354 | F99: 12.150095 | G99: 11.490754 | H99: 11.113199 | I99: 17.714285 | J99: 13.121649 | K99: n.p. | L99: 11.738945
A100: Persons | B100: 1984 | C100: Age-standardised rate (per 100,000) | D100: 10.6223 | E100: 11.802032 | F100: 14.102676 | G100: 13.364196 | H100: 10.828287 | I100: 11.377171 | J100: 15.561472 | K100: n.p. | L100: 11.872251
...

Sheet Table NMD 4a
A1: Table NMD 4a: Suicide by state and territory, and age group, 2001–2005 to 2020–2024
A2: State/territory | B2: Age group | C2: Measure | D2: 2001–2005 | E2: 2002–2006 | F2: 2003–2007 | G2: 2004–2008 | H2: 2005–2009 | I2: 2006–2010 | J2: 2007–2011 | K2: 2008–2012 | L2: 2009–2013 | M2: 2010–2014 | N2: 2011–2015 | O2: 2012–2016 | P2: 2013–2017 | Q2: 2014–2018 | R2: 2015–2019 | S2: 2016–2020 | T2: 2017–2021 | U2: 2018–2022 | V2: 2019–2023 | W2: 2020–2024
A3: NSW | B3: 0–14 | C3: Age-specific rate (per 100,000) | D3: 0.2 | E3: 0.2 | F3: 0.2 | G3: 0.2 | H3: 0.2 | I3: 0.1 | J3: 0.2 | K3: 0.2 | L3: 0.2 | M3: 0.3 | N3: 0.3 | O3: 0.3 | P3: 0.3 | Q3: 0.4 | R3: 0.4 | S3: 0.4 | T3: 0.5 | U3: 0.4 | V3: 0.4 | W3: 0.4
A4: NSW | B4: 5–14 | C4: Age-specific rate (per 100,000) | D4: 0.3 | E4: 0.3 | F4: 0.3 | G4: 0.3 | H4: 0.2 | I4: 0.2 | J4: 0.3 | K4: 0.3 | L4: 0.3 | M4: 0.4 | N4: 0.5 | O4: 0.4 | P4: 0.5 | Q4: 0.6 | R4: 0.6 | S4: 0.6 | T4: 0.7 | U4: 0.6 | V4: 0.6 | W4: 0.6
A5: NSW | B5: 0–24 | C5: Age-specific rate (per 100,000) | D5: 3.7 | E5: 3.5 | F5: 3.2 | G5: 3.1 | H5: 2.9 | I5: 2.9 | J5: 2.8 | K5: 2.9 | L5: 3.1 | M5: 3.5 | N5: 3.8 | O5: 4.2 | P5: 4.5 | Q5: 4.7 | R5: 4.9 | S5: 5.1 | T5: 5 | U5: 4.9 | V5: 4.8 | W5: 4.2
A6: NSW | B6: 5–24 | C6: Age-specific rate (per 100,000) | D6: 4.6 | E6: 4.3 | F6: 4 | G6: 3.8 | H6: 3.6 | I6: 3.6 | J6: 3.5 | K6: 3.6 | L6: 3.9 | M6: 4.4 | N6: 4.8 | O6: 5.2 | P6: 5.6 | Q6: 5.9 | R6: 6.1 | S6: 6.3 | T6: 6.2 | U6: 6 | V6: 5.9 | W6: 5.2
A7: NSW | B7: 15–24 | C7: Age-specific rate (per 100,000) | D7: 8.9 | E7: 8.4 | F7: 7.7 | G7: 7.2 | H7: 6.9 | I7: 6.7 | J7: 6.3 | K7: 6.7 | L7: 7.4 | M7: 8.1 | N7: 8.8 | O7: 9.8 | P7: 10.5 | Q7: 11 | R7: 11.5 | S7: 11.9 | T7: 11.7 | U7: 11.6 | V7: 11.5 | W7: 10
A8: NSW | B8: 25–34 | C8: Age-specific rate (per 100,000) | D8: 14.9 | E8: 13.4 | F8: 12.5 | G8: 11.4 | H8: 11.4 | I8: 11.2 | J8: 11.3 | K8: 11 | L8: 11.3 | M8: 11.2 | N8: 11.8 | O8: 12.2 | P8: 12.7 | Q8: 12.9 | R8: 13.4 | S8: 13.5 | T8: 13.7 | U8: 13.7 | V8: 14.1 | W8: 13.7
A9: NSW | B9: 35–44 | C9: Age-specific rate (per 100,000) | D9: 14.6 | E9: 13.6 | F9: 13 | G9: 13 | H9: 12.8 | I9: 13.6 | J9: 13.6 | K9: 13.8 | L9: 13.7 | M9: 14.2 | N9: 14.2 | O9: 14.9 | P9: 15.1 | Q9: 16 | R9: 16 | S9: 15.5 | T9: 15.3 | U9: 15.2 | V9: 14.5 | W9: 14.3
A10: NSW | B10: 45–54 | C10: Age-specific rate (per 100,000) | D10: 13.2 | E10: 12 | F10: 11.9 | G10: 12.3 | H10: 12.7 | I10: 13.3 | J10: 13.2 | K10: 14 | L10: 13.9 | M10: 14.7 | N10: 15.6 | O10: 16 | P10: 16 | Q10: 16.5 | R10: 16.8 | S10: 16.3 | T10: 16.7 | U10: 16.8 | V10: 16.8 | W10: 16.8
A11: NSW | B11: 55–64 | C11: Age-specific rate (per 100,000) | D11: 9.7 | E11: 9.3 | F11: 9.6 | G11: 9.7 | H11: 10 | I11: 10.4 | J11: 10.4 | K11: 10.7 | L11: 10.9 | M11: 11.9 | N11: 12.1 | O11: 12.7 | P11: 13.5 | Q11: 14.5 | R11: 14.5 | S11: 15 | T11: 15.1 | U11: 15 | V11: 15.1 | W11: 15.7
A12: NSW | B12: 45–64 | C12: Age-specific rate (per 100,000) | D12: 11.7 | E12: 10.8 | F12: 10.9 | G12: 11.2 | H12: 11.5 | I12: 12 | J12: 12 | K12: 12.5 | L12: 12.5 | M12: 13.4 | N12: 14 | O12: 14.5 | P12: 14.9 | Q12: 15.6 | R12: 15.7 | S12: 15.7 | T12: 15.9 | U12: 15.9 | V12: 16 | W12: 16.3
A13: NSW | B13: 65+ | C13: Age-specific rate (per 100,000) | D13: 11 | E13: 10.7 | F13: 10.7 | G13: 10.7 | H13: 10.6 | I13: 10.9 | J13: 10.8 | K13: 11 | L13: 11.2 | M13: 11.6 | N13: 11.6 | O13: 11.7 | P13: 12.2 | Q13: 12.3 | R13: 12.3 | S13: 12.5 | T13: 13 | U13: 12.8 | V13: 12.6 | W13: 12.7
A14: NSW | B14: 65–74 | C14: Age-specific rate (per 100,000) | D14: 10.4 | E14: 10.3 | F14: 10.7 | G14: 10.8 | H14: 10.3 | I14: 10 | J14: 9.8 | K14: 9.7 | L14: 9.5 | M14: 10.2 | N14: 10.7 | O14: 10.5 | P14: 11.1 | Q14: 11.5 | R14: 11.3 | S14: 11.2 | T14: 11.7 | U14: 11.5 | V14: 11.3 | W14: 11.6
... A47: Qld | B47: Total | C47: Age-specific rate (per 100,000) | D47: 12.9 | E47: 12.6 | F47: 12.2 | G47: 12.4 | H47: 12.4 | I47: 12.7 | J47: 12.8 | K47: 13.1 | L47: 13.4 | M47: 13.7 | N47: 14.2 | O47: 14.5 | P47: 15.1 | Q47: 15.4 | R47: 15.7 | S47: 15.5 | T47: 15.7 | U47: 15.4 | V47: 15.2 | W47: 14.9
A48: WA | B48: 0–14 | C48: Age-specific rate (per 100,000) | D48: 0.2 | E48: n.p. | F48: n.p. | G48: 0.2 | H48: n.p. | I48: n.p. | J48: 0.2 | K48: 0.3 | L48: 0.3 | M48: 0.6 | N48: 0.6 | O48: 0.5 | P48: 0.6 | Q48: 0.6 | R48: 0.5 | S48: 0.5 | T48: 0.7 | U48: 0.6 | V48: 0.7 | W48: 0.6
A49: WA | B49: 5–14 | C49: Age-specific rate (per 100,000) | D49: 0.4 | E49: n.p. | F49: n.p. | G49: 0.4 | H49: n.p. | I49: n.p. | J49: 0.3 | K49: 0.5 | L49: 0.5 | M49: 0.9 | N49: 0.9 | O49: 0.8 | P49: 0.9 | Q49: 0.9 | R49: 0.7 | S49: 0.8 | T49: 1.1 | U49: 1 | V49: 1.1 | W49: 0.9
A50: WA | B50: 0–24 | C50: Age-specific rate (per 100,000) | D50: 5.5 | E50: 5.4 | F50: 5.3 | G50: 5.4 | H50: 5.9 | I50: 5.9 | J50: 6.1 | K50: 6.3 | L50: 6.4 | M50: 6.5 | N50: 6.9 | O50: 6.9 | P50: 6.8 | Q50: 6.7 | R50: 6.6 | S50: 6.6 | T50: 6.5 | U50: 6.1 | V50: 6.2 | W50: 5.8
A51: WA | B51: 5–24 | C51: Age-specific rate (per 100,000) | D51: 6.8 | E51: 6.6 | F51: 6.5 | G51: 6.6 | H51: 7.2 | I51: 7.3 | J51: 7.6 | K51: 7.9 | L51: 8 | M51: 8.2 | N51: 8.7 | O51: 8.7 | P51: 8.6 | Q51: 8.5 | R51: 8.3 | S51: 8.3 | T51: 8.1 | U51: 7.6 | V51: 7.7 | W51: 7.2
A52: WA | B52: 15–24 | C52: Age-specific rate (per 100,000) | D52: 13.1 | E52: 12.7 | F52: 12.4 | G52: 12.5 | H52: 13.7 | I52: 13.7 | J52: 14 | K52: 14.5 | L52: 14.7 | M52: 14.8 | N52: 15.8 | O52: 16 | P52: 15.9 | Q52: 16 | R52: 16 | S52: 16.2 | T52: 15.6 | U52: 14.8 | V52: 15 | W52: 14.1
A53: WA | B53: 25–34 | C53: Age-specific rate (per 100,000) | D53: 20.1 | E53: 18.3 | F53: 17.5 | G53: 18.2 | H53: 18.5 | I53: 18.4 | J53: 17.9 | K53: 17.9 | L53: 17 | M53: 17.1 | N53: 17.5 | O53: 18.8 | P53: 19.7 | Q53: 20.7 | R53: 22 | S53: 22.6 | T53: 21.8 | U53: 21.4 | V53: 22 | W53: 21.4
A54: WA | B54: 35–44 | C54: Age-specific rate (per 100,000) | D54: 16.9 | E54: 15.9 | F54: 15.8 | G54: 16.6 | H54: 17 | I54: 18.8 | J54: 19 | K54: 20.4 | L54: 20.6 | M54: 21.5 | N54: 20.7 | O54: 20.8 | P54: 21.7 | Q54: 21.1 | R54: 21.4 | S54: 20.8 | T54: 21.3 | U54: 20 | V54: 20.8 | W54: 20.4
A55: WA | B55: 45–54 | C55: Age-specific rate (per 100,000) | D55: 13.7 | E55: 13.6 | F55: 14.2 | G55: 15.3 | H55: 16.5 | I55: 17.4 | J55: 18.4 | K55: 18.7 | L55: 18.9 | M55: 18.8 | N55: 20.7 | O55: 21 | P55: 21.8 | Q55: 22.4 | R55: 22.5 | S55: 21 | T55: 20.4 | U55: 19.9 | V55: 19.6 | W55: 19.5
A56: WA | B56: 55–64 | C56: Age-specific rate (per 100,000) | D56: 10 | E56: 10.7 | F56: 11.7 | G56: 12.1 | H56: 13 | I56: 14 | J56: 14.2 | K56: 14.9 | L56: 14.8 | M56: 15.2 | N56: 15.1 | O56: 15 | P56: 14.9 | Q56: 16 | R56: 16.7 | S56: 16.9 | T56: 17.4 | U56: 17.1 | V56: 17.1 | W56: 17.3
A57: WA | B57: 45–64 | C57: Age-specific rate (per 100,000) | D57: 12.2 | E57: 12.4 | F57: 13.2 | G57: 14 | H57: 15 | I57: 15.9 | J57: 16.6 | K57: 17 | L57: 17.1 | M57: 17.2 | N57: 18.2 | O57: 18.3 | P57: 18.6 | Q57: 19.5 | R57: 19.8 | S57: 19.1 | T57: 19 | U57: 18.6 | V57: 18.4 | W57: 18.4
A58: WA | B58: 65+ | C58: Age-specific rate (per 100,000) | D58: 11.4 | E58: 11.4 | F58: 11.5 | G58: 12 | H58: 11.6 | I58: 12.9 | J58: 12.7 | K58: 14.2 | L58: 14.1 | M58: 14.6 | N58: 15.1 | O58: 15.6 | P58: 15 | Q58: 15.4 | R58: 14.7 | S58: 13.5 | T58: 13.8 | U58: 13.6 | V58: 13.3 | W58: 13.5
A59: WA | B59: 65–74 | C59: Age-specific rate (per 100,000) | D59: 9 | E59: 9.6 | F59: 9.3 | G59: 10.9 | H59: 10.1 | I59: 11.2 | J59: 11.1 | K59: 12.1 | L59: 11.8 | M59: 12.2 | N59: 12.8 | O59: 13.1 | P59: 13.6 | Q59: 13.2 | R59: 12.8 | S59: 11 | T59: 11.1 | U59: 11.1 | V59: 11.4 | W59: 12.2
A60: WA | B60: 75–84 | C60: Age-specific rate (per 100,000) | D60: 13.2 | E60: 12.2 | F60: 12.9 | G60: 11.9 | H60: 11.4 | I60: 14.5 | J60: 14.5 | K60: 16 | L60: 16.5 | M60: 17.9 | N60: 16.6 | O60: 18 | P60: 15.5 | Q60: 17 | R60: 15.9 | S60: 15.8 | T60: 15.3 | U60: 15.3 | V60: 14 | W60: 13.3
A61: WA | B61: 85+ | C61: Age-specific rate (per 100,000) | D61: 18.4 | E61: 18 | F61: 17.7 | G61: 17.5 | H61: 19.4 | I61: 15.9 | J61: 15.2 | K61: 18.8 | L61: 17.9 | M61: 17.7 | N61: 22.2 | O61: 21.4 | P61: 20.6 | Q61: 21.5 | R61: 21.4 | S61: 20.2 | T61: 23.5 | U61: 22 | V61: 21 | W61: 20.8
A62: WA | B62: Total | C62: Age-specific rate (per 100,000) | D62: 11.6 | E62: 11.2 | F62: 11.3 | G62: 11.8 | H62: 12.3 | I62: 12.9 | J62: 13.1 | K62: 13.7 | L62: 13.6 | M62: 14 | N62: 14.3 | O62: 14.7 | P62: 14.9 | Q62: 15.2 | R62: 15.4 | S62: 15.1 | T62: 15 | U62: 14.5 | V62: 14.6 | W62: 14.4
A63: SA | B63: 0–14 | C63: Age-specific rate (per 100,000) | D63: n.p. | E63: n.p. | F63: n.p. | G63: n.p. | H63: — | I63: — | J63: — | K63: n.p. | L63: n.p. | M63: n.p. | N63: n.p. | O63: 0.3 | P63: 0.3 | Q63: 0.4 | R63: 0.5 | S63: 0.6 | T63: 0.6 | U63: 0.5 | V63: 0.5 | W63: 0.4
A64: SA | B64: 5–14 | C64: Age-specific rate (per 100,000) | D64: n.p. | E64: n.p. | F64: n.p. | G64: n.p. | H64: — | I64: — | J64: — | K64: n.p. | L64: n.p. | M64: n.p. | N64: n.p. | O64: 0.5 | P64: 0.5 | Q64: 0.6 | R64: 0.7 | S64: 0.9 | T64: 0.9 | U64: 0.8 | V64: 0.7 | W64: 0.7
A65: SA | B65: 0–24 | C65: Age-specific rate (per 100,000) | D65: 5.8 | E65: 5.5 | F65: 5.3 | G65: 5.1 | H65: 4.9 | I65: 4.3 | J65: 4.7 | K65: 4.8 | L65: 5.1 | M65: 5.2 | N65: 5.1 | O65: 4.7 | P65: 4.9 | Q65: 4.8 | R65: 5.1 | S65: 5.5 | T65: 5.7 | U65: 5.8 | V65: 5.8 | W65: 5.3
A66: SA | B66: 5–24 | C66: Age-specific rate (per 100,000) | D66: 7.1 | E66: 6.8 | F66: 6.5 | G66: 6.2 | H66: 6 | I66: 5.3 | J66: 5.8 | K66: 5.9 | L66: 6.3 | M66: 6.5 | N66: 6.4 | O66: 5.8 | P66: 6.1 | Q66: 6 | R66: 6.3 | S66: 6.8 | T66: 7.1 | U66: 7.2 | V66: 7.1 | W66: 6.6
A67: SA | B67: 15–24 | C67: Age-specific rate (per 100,000) | D67: 14 | E67: 13.2 | F67: 12.4 | G67: 11.7 | H67: 11.4 | I67: 9.9 | J67: 10.7 | K67: 10.8 | L67: 11.5 | M67: 11.9 | N67: 11.7 | O67: 10.5 | P67: 11.2 | Q67: 10.9 | R67: 11.6 | S67: 12.5 | T67: 13 | U67: 13.4 | V67: 13.4 | W67: 12.4
A68: SA | B68: 25–34 | C68: Age-specific rate (per 100,000) | D68: 19.6 | E68: 18.9 | F68: 20.1 | G68: 18.9 | H68: 18.8 | I68: 16.1 | J68: 16.6 | K68: 15.3 | L68: 15.7 | M68: 15.7 | N68: 17.2 | O68: 17.2 | P68: 18.1 | Q68: 17.7 | R68: 17.6 | S68: 17.4 | T68: 16.6 | U68: 16.9 | V68: 16.5 | W68: 16.5
A69: SA | B69: 35–44 | C69: Age-specific rate (per 100,000) | D69: 20.7 | E69: 19 | F69: 19.9 | G69: 19.7 | H69: 20.7 | I69: 20.8 | J69: 20.8 | K69: 20.1 | L69: 19.8 | M69: 21 | N69: 20.2 | O69: 20.8 | P69: 20.8 | Q69: 20.6 | R69: 19 | S69: 18.7 | T69: 18.4 | U69: 18.7 | V69: 18.8 | W69: 18
A70: SA | B70: 45–54 | C70: Age-specific rate (per 100,000) | D70: 17 | E70: 16.1 | F70: 16 | G70: 15.9 | H70: 15.7 | I70: 15.1 | J70: 15.8 | K70: 16.9 | L70: 17 | M70: 18.4 | N70: 19.7 | O70: 20.4 | P70: 20 | Q70: 20.4 | R70: 20.2 | S70: 20 | T70: 19.1 | U70: 19 | V70: 19.6 | W70: 19.4
A71: SA | B71: 55–64 | C71: Age-specific rate (per 100,000) | D71: 10.3 | E71: 10.9 | F71: 12 | G71: 12.8 | H71: 12.9 | I71: 13.5 | J71: 14.4 | K71: 13.2 | L71: 13.6 | M71: 14.1 | N71: 14 | O71: 13.5 | P71: 14.1 | Q71: 14.2 | R71: 15.3 | S71: 14.3 | T71: 14.4 | U71: 14.3 | V71: 14.8 | W71: 15.2
A72: SA | B72: 45–64 | C72: Age-specific rate (per 100,000) | D72: 14.1 | E72: 13.8 | F72: 14.2 | G72: 14.5 | H72: 14.4 | I72: 14.3 | J72: 15.2 | K72: 15.2 | L72: 15.4 | M72: 16.4 | N72: 17 | O72: 17.1 | P72: 17.2 | Q72: 17.4 | R72: 17.8 | S72: 17.2 | T72: 16.8 | U72: 16.6 | V72: 17.2 | W72: 17.3
A73: SA | B73: 65+ | C73: Age-specific rate (per 100,000) | D73: 12.3 | E73: 12.9 | F73: 13.4 | G73: 12.4 | H73: 11.7 | I73: 11.7 | J73: 10.5 | K73: 10.7 | L73: 11.2 | M73: 11.9 | N73: 12.6 | O73: 13 | P73: 12.9 | Q73: 13.1 | R73: 12.9 | S73: 12.3 | T73: 12.9 | U73: 12.6 | V73: 12.7 | W73: 12.5
A74: SA | B74: 65–74 | C74: Age-specific rate (per 100,000) | D74: 12 | E74: 12.5 | F74: 12.8 | G74: 11.1 | H74: 10.4 | I74: 10.8 | J74: 9.7 | K74: 9.8 | L74: 10.4 | M74: 11.4 | N74: 12.1 | O74: 12.3 | P74: 13.1 | Q74: 12.8 | R74: 12.1 | S74: 11.6 | T74: 12.7 | U74: 12.1 | V74: 12.8 | W74: 13.4
A75: SA | B75: 75–84 | C75: Age-specific rate (per 100,000) | D75: 12.4 | E75: 12.8 | F75: 13.8 | G75: 13.5 | H75: 13.3 | I75: 12.8 | J75: 12.1 | K75: 12.6 | L75: 12.1 | M75: 11.6 | N75: 11.8 | O75: 11.8 | P75: 10.4 | Q75: 11.8 | R75: 11.4 | S75: 11.5 | T75: 12.1 | U75: 12.1 | V75: 11.2 | W75: 10.3
A76: SA | B76: 85+ | C76: Age-specific rate (per 100,000) | D76: 12.7 | E76: 14.6 | F76: 14.6 | G76: 13.8 | H76: 12.5 | I76: 11.9 | J76: 9.7 | K76: 9.3 | L76: 11.6 | M76: 14.2 | N76: 16.2 | O76: 17.6 | P76: 17.2 | Q76: 16.8 | R76: 19 | S76: 16.5 | T76: 15.4 | U76: 15.7 | V76: 16.2 | W76: 14.2
A77: SA | B77: Total | C77: Age-specific rate (per 100,000) | D77: 12.9 | E77: 12.5 | F77: 12.8 | G77: 12.5 | H77: 12.4 | I77: 11.9 | J77: 12.1 | K77: 11.9 | L77: 12.1 | M77: 12.7 | N77: 13.1 | O77: 13 | P77: 13.3 | Q77: 13.2 | R77: 13.2 | S77: 13 | T77: 12.9 | U77: 12.9 | V77: 13.1 | W77: 12.8
A78: Tas | B78: 0–14 | C78: Age-specific rate (per 100,000) | D78: n.p. | E78: n.p. | F78: — | G78: — | H78: — | I78: n.p. | J78: n.p. | K78: n.p. | L78: n.p. | M78: 1.3 | N78: n.p. | O78: n.p. | P78: n.p. | Q78: n.p. | R78: — | S78: n.p. | T78: n.p. | U78: n.p. | V78: 1 | W78: 1.3
A79: Tas | B79: 5–14 | C79: Age-specific rate (per 100,000) | D79: n.p. | E79: n.p. | F79: — | G79: — | H79: — | I79: n.p. | J79: n.p. | K79: n.p. | L79: n.p. | M79: 1.9 | N79: n.p. | O79: n.p. | P79: n.p. | Q79: n.p. | R79: — | S79: n.p. | T79: n.p. | U79: n.p. | V79: 1.5 | W79: 1.8
A80: Tas | B80: 0–24 | C80: Age-specific rate (per 100,000) | D80: 4.5 | E80: 5.1 | F80: 4.3 | G80: 4 | H80: 4 | I80: 3.9 | J80: 4 | K80: 5 | L80: 5.9 | M80: 6.2 | N80: 6.8 | O80: 6.5 | P80: 6.2 | Q80: 6 | R80: 5.7 | S80: 5.5 | T80: 5.3 | U80: 4.9 | V80: 4.9 | W80: 4.7
A81: Tas | B81: 5–24 | C81: Age-specific rate (per 100,000) | D81: 5.5 | E81: 6.3 | F81: 5.3 | G81: 4.9 | H81: 4.9 | I81: 4.9 | J81: 5 | K81: 6.3 | L81: 7.4 | M81: 7.8 | N81: 8.5 | O81: 8 | P81: 7.7 | Q81: 7.4 | R81: 7 | S81: 6.8 | T81: 6.5 | U81: 6 | V81: 6 | W81: 5.8
A82: Tas | B82: 15–24 | C82: Age-specific rate (per 100,000) | D82: 11.1 | E82: 12.5 | F82: 10.9 | G82: 9.9 | H82: 9.8 | I82: 9.1 | J82: 9.4 | K82: 11.4 | L82: 13.3 | M82: 13.5 | N82: 15.5 | O82: 14.7 | P82: 14.4 | Q82: 14.2 | R82: 14 | S82: 12.7 | T82: 12.1 | U82: 11.1 | V82: 10.8 | W82: 9.9
A83: Tas | B83: 25–34 | C83: Age-specific rate (per 100,000) | D83: 30.4 | E83: 27.9 | F83: 26.8 | G83: 28.6 | H83: 26.1 | I83: 24.3 | J83: 22.9 | K83: 20.2 | L83: 16.3 | M83: 14.5 | N83: 14.7 | O83: 15 | P83: 16.6 | Q83: 16.8 | R83: 18.2 | S83: 18.1 | T83: 17.4 | U83: 16.6 | V83: 17.2 | W83: 15.9
A84: Tas | B84: 35–44 | C84: Age-specific rate (per 100,000) | D84: 24.4 | E84: 23.6 | F84: 23.8 | G84: 22.4 | H84: 19.7 | I84: 19.8 | J84: 20.5 | K84: 20.9 | L84: 21.9 | M84: 22.3 | N84: 23 | O84: 24.1 | P84: 24.6 | Q84: 26.4 | R84: 27.7 | S84: 26.3 | T84: 26 | U84: 26.1 | V84: 23.5 | W84: 23.5
A85: Tas | B85: 45–54 | C85: Age-specific rate (per 100,000) | D85: 16.7 | E85: 19 | F85: 19.6 | G85: 21.9 | H85: 22.6 | I85: 21.7 | J85: 20.9 | K85: 21.4 | L85: 21.5 | M85: 19.9 | N85: 19.8 | O85: 21.9 | P85: 21.8 | Q85: 19.4 | R85: 23.4 | S85: 23.9 | T85: 21.5 | U85: 21.2 | V85: 23.7 | W85: 21.8
A86: Tas | B86: 55–64 | C86: Age-specific rate (per 100,000) | D86: 16.9 | E86: 19.5 | F86: 20.5 | G86: 18.8 | H86: 19.2 | I86: 17.6 | J86: 15.4 | K86: 15.1 | L86: 15.6 | M86: 16.4 | N86: 18.8 | O86: 20.6 | P86: 19.7 | Q86: 20.3 | R86: 19.9 | S86: 19.6 | T86: 18 | U86: 18.9 | V86: 18.6 | W86: 17.7
A87: Tas | B87: 45–64 | C87: Age-specific rate (per 100,000) | D87: 16.8 | E87: 19.2 | F87: 20 | G87: 20.5 | H87: 21.1 | I87: 19.8 | J87: 18.3 | K87: 18.4 | L87: 18.7 | M87: 18.2 | N87: 19.3 | O87: 21.2 | P87: 20.8 | Q87: 19.8 | R87: 21.6 | S87: 21.7 | T87: 19.7 | U87: 20 | V87: 21 | W87: 19.6
A88: Tas | B88: 65+ | C88: Age-specific rate (per 100,000) | D88: 15.1 | E88: 14 | F88: 13.1 | G88: 13.4 | H88: 13.7 | I88: 13.6 | J88: 15.8 | K88: 15.5 | L88: 14.8 | M88: 13.6 | N88: 14.5 | O88: 15.1 | P88: 16.3 | Q88: 17.3 | R88: 19.6 | S88: 19.5 | T88: 19 | U88: 19.2 | V88: 19 | W88: 16.8
A89: Tas | B89: 65–74 | C89: Age-specific rate (per 100,000) | D89: 12.2 | E89: 10.9 | F89: 10.2 | G89: 10.6 | H89: 10.3 | I89: 9.9 | J89: 10 | K89: 10.9 | L89: 9.2 | M89: 8.7 | N89: 10.7 | O89: 12.9 | P89: 13.2 | Q89: 15.2 | R89: 17.3 | S89: 17.6 | T89: 19 | U89: 19.1 | V89: 18 | W89: 17
A90: Tas | B90: 75–84 | C90: Age-specific rate (per 100,000) | D90: 17.6 | E90: 14.7 | F90: 16.1 | G90: 15.1 | H90: 14.2 | I90: 14.9 | J90: 18.6 | K90: 17.7 | L90: 19.9 | M90: 17.3 | N90: 17.7 | O90: 16.6 | P90: 20.5 | Q90: 19.3 | R90: 21.9 | S90: 20.5 | T90: 18.2 | U90: 17.3 | V90: 19.3 | W90: 16.5
A91: Tas | B91: 85+ | C91: Age-specific rate (per 100,000) | D91: 21.1 | E91: 26 | F91: 17.4 | G91: 21.2 | H91: 27 | I91: 25.9 | J91: 33.6 | K91: 30.3 | L91: 27.2 | M91: 26.6 | N91: 24.3 | O91: 21.8 | P91: 21.2 | Q91: 22.4 | R91: 25.4 | S91: 26.8 | T91: 21.2 | U91: 25.5 | V91: 23.2 | W91: 16.4
A92: Tas | B92: Total | C92: Age-specific rate (per 100,000) | D92: 15.3 | E92: 15.4 | F92: 15.2 | G92: 15.2 | H92: 14.8 | I92: 14.2 | J92: 14.1 | K92: 14.2 | L92: 14.2 | M92: 13.8 | N92: 14.5 | O92: 15.2 | P92: 15.5 | Q92: 15.6 | R92: 16.7 | S92: 16.6 | T92: 15.8 | U92: 15.8 | V92: 15.9 | W92: 14.9
A93: ACT | B93: 0–14 | C93: Age-specific rate (per 100,000) | D93: — | E93: — | F93: — | G93: n.p. | H93: n.p. | I93: n.p. | J93: n.p. | K93: n.p. | L93: — | M93: n.p. | N93: n.p. | O93: n.p. | P93: n.p. | Q93: n.p. | R93: n.p. | S93: n.p. | T93: n.p. | U93: n.p. | V93: n.p. | W93: n.p.
A94: ACT | B94: 5–14 | C94: Age-specific rate (per 100,000) | D94: — | E94: — | F94: — | G94: n.p. | H94: n.p. | I94: n.p. | J94: n.p. | K94: n.p. | L94: — | M94: n.p. | N94: n.p. | O94: n.p. | P94: n.p. | Q94: n.p. | R94: n.p. | S94: n.p. | T94: n.p. | U94: n.p. | V94: n.p. | W94: n.p.
A95: ACT | B95: 0–24 | C95: Age-specific rate (per 100,000) | D95: 4.4 | E95: 4.3 | F95: 4.3 | G95: 3.9 | H95: 3.9 | I95: 3.3 | J95: 3.1 | K95: 3.2 | L95: 2.9 | M95: 3.3 | N95: 4.4 | O95: 4.2 | P95: 5.5 | Q95: 6.4 | R95: 6.8 | S95: 7.1 | T95: 8.1 | U95: 7.1 | V95: 5.7 | W95: 4.7
A96: ACT | B96: 5–24 | C96: Age-specific rate (per 100,000) | D96: 5.3 | E96: 5.2 | F96: 5.2 | G96: 4.8 | H96: 4.7 | I96: 4.1 | J96: 3.8 | K96: 4 | L96: 3.6 | M96: 4.1 | N96: 5.5 | O96: 5.3 | P96: 6.9 | Q96: 8.2 | R96: 8.6 | S96: 8.8 | T96: 10.1 | U96: 8.8 | V96: 7 | W96: 5.8
A97: ACT | B97: 15–24 | C97: Age-specific rate (per 100,000) | D97: 9.8 | E97: 9.3 | F97: 9.3 | G97: 8.1 | H97: 7.9 | I97: 6.8 | J97: 6.3 | K97: 6.5 | L97: 6.2 | M97: 6.9 | N97: 9.4 | O97: 9.1 | P97: 11.9 | Q97: 13.9 | R97: 15.1 | S97: 15.7 | T97: 17.9 | U97: 16.3 | V97: 13.1 | W97: 10.8
A98: ACT | B98: 25–34 | C98: Age-specific rate (per 100,000) | D98: 18.3 | E98: 15.6 | F98: 16.6 | G98: 14.6 | H98: 13.8 | I98: 13.1 | J98: 12.8 | K98: 10.4 | L98: 9.7 | M98: 8.4 | N98: 6.9 | O98: 6 | P98: 6.8 | Q98: 8.1 | R98: 9.1 | S98: 10.7 | T98: 12.6 | U98: 13.1 | V98: 13.5 | W98: 13.3
A99: ACT | B99: 35–44 | C99: Age-specific rate (per 100,000) | D99: 16 | E99: 13.6 | F99: 12.9 | G99: 14.7 | H99: 14.5 | I99: 16.2 | J99: 15.6 | K99: 15 | L99: 14.1 | M99: 16.3 | N99: 16.4 | O99: 15.1 | P99: 18.7 | Q99: 16.7 | R99: 17.5 | S99: 17 | T99: 20.7 | U99: 20.3 | V99: 19.7 | W99: 17.4
A100: ACT | B100: 45–54 | C100: Age-specific rate (per 100,000) | D100: 13.3 | E100: 13.2 | F100: 12.8 | G100: 12.7 | H100: 11.4 | I100: 12.6 | J100: 12.1 | K100: 11.6 | L100: 11.9 | M100: 13.1 | N100: 12.6 | O100: 12.5 | P100: 13.2 | Q100: 13.4 | R100: 12.3 | S100: 13.3 | T100: 14.1 | U100: 15.3 | V100: 15.1 | W100: 15.4
A101: ACT | B101: 55–64 | C101: Age-specific rate (per 100,000) | D101: 7.1 | E101: 6.2 | F101: 7.7 | G101: 8.6 | H101: 11.6 | I101: 11.8 | J101: 12 | K101: 12.3 | L101: 12.2 | M101: 11.1 | N101: 12 | O101: 10.9 | P101: 13.2 | Q101: 14.4 | R101: 13.7 | S101: 13 | T101: 15.1 | U101: 12.5 | V101: 13.9 | W101: 15.3
A102: ACT | B102: 45–64 | C102: Age-specific rate (per 100,000) | D102: 10.5 | E102: 10.4 | F102: 10.7 | G102: 11 | H102: 11.7 | I102: 12.5 | J102: 12.1 | K102: 11.9 | L102: 12 | M102: 12.2 | N102: 12.3 | O102: 11.8 | P102: 13.2 | Q102: 13.8 | R102: 12.9 | S102: 13.2 | T102: 14.6 | U102: 14 | V102: 14.6 | W102: 15.3
A103: ACT | B103: 65+ | C103: Age-specific rate (per 100,000) | D103: 8.9 | E103: 8.7 | F103: 10.3 | G103: 10.6 | H103: 12 | I103: 12.2 | J103: 14 | K103: 12.3 | L103: 14.4 | M103: 12.6 | N103: 12 | O103: 13.2 | P103: 14.7 | Q103: 14.9 | R103: 16.6 | S103: 16.3 | T103: 15 | U103: 14.4 | V103: 11.6 | W103: 9.7
A104: ACT | B104: 65–74 | C104: Age-specific rate (per 100,000) | D104: 11.1 | E104: 8.4 | F104: 7 | G104: 7.9 | H104: 8.6 | I104: 9.3 | J104: 8.9 | K104: 9.5 | L104: 12.6 | M104: 10.8 | N104: 11 | O104: 11.2 | P104: 11.4 | Q104: 10.2 | R104: 12.4 | S104: 11.3 | T104: 12.1 | U104: 12.9 | V104: 10.4 | W104: 8.7
A105: ACT | B105: 75–84 | C105: Age-specific rate (per 100,000) | D105: n.p. | E105: n.p. | F105: 9.4 | G105: 9.2 | H105: 12.6 | I105: 14.3 | J105: 22.8 | K105: 19 | L105: 18.6 | M105: 14.7 | N105: 12.7 | O105: 12.2 | P105: 16.2 | Q105: 18.3 | R105: 20.1 | S105: 20.5 | T105: 14.6 | U105: 11.4 | V105: 9.6 | W105: 6.9
A106: ACT | B106: 85+ | C106: Age-specific rate (per 100,000) | D106: n.p. | E106: n.p. | F106: 31.3 | G106: 29.5 | H106: 27.1 | I106: n.p. | J106: n.p. | K106: n.p. | L106: n.p. | M106: n.p. | N106: n.p. | O106: 25.2 | P106: 27.7 | Q106: 30.1 | R106: 29.3 | S106: 32 | T106: 31.1 | U106: 29.9 | V106: 23 | W106: 22
A107: ACT | B107: Total | C107: Age-specific rate (per 100,000) | D107: 10.3 | E107: 9.4 | F107: 9.7 | G107: 9.6 | H107: 9.7 | I107: 9.9 | J107: 9.8 | K107: 9.2 | L107: 9.1 | M107: 9.2 | N107: 9.3 | O107: 8.9 | P107: 10.5 | Q107: 11 | R107: 11.4 | S107: 11.7 | T107: 13.1 | U107: 12.6 | V107: 11.9 | W107: 11.2
A108: NT | B108: 0–14 | C108: Age-specific rate (per 100,000) | D108: n.p. | E108: n.p. | F108: n.p. | G108: n.p. | H108: n.p. | I108: 1.9 | J108: 1.9 | K108: n.p. | L108: 1.9 | M108: 2.6 | N108: 2.2 | O108: 2.6 | P108: 2.6 | Q108: 2.2 | R108: n.p. | S108: 2.2 | T108: n.p. | U108: n.p. | V108: n.p. | W108: n.p.
A109: NT | B109: 5–14 | C109: Age-specific rate (per 100,000) | D109: n.p. | E109: n.p. | F109: n.p. | G109: n.p. | H109: n.p. | I109: 2.9 | J109: 2.9 | K109: n.p. | L109: 2.9 | M109: 4.1 | N109: 3.5 | O109: 4.1 | P109: 4.1 | Q109: 3.5 | R109: n.p. | S109: 3.4 | T109: n.p. | U109: n.p. | V109: n.p. | W109: n.p.
A110: NT | B110: 0–24 | C110: Age-specific rate (per 100,000) | D110: 16.3 | E110: 15.8 | F110: 18.1 | G110: 17 | H110: 16 | I110: 15 | J110: 16.5 | K110: 15.5 | L110: 16.6 | M110: 18.1 | N110: 18.1 | O110: 16.5 | P110: 16.9 | Q110: 16.8 | R110: 16.8 | S110: 17.1 | T110: 18.6 | U110: 18.2 | V110: 17.4 | W110: 16.7
A111: NT | B111: 5–24 | C111: Age-specific rate (per 100,000) | D111: 20.8 | E111: 20.1 | F111: 23 | G111: 21.6 | H111: 20.3 | I111: 18.9 | J111: 20.9 | K111: 19.7 | L111: 21 | M111: 23 | N111: 23.1 | O111: 21.1 | P111: 21.6 | Q111: 21.6 | R111: 21.5 | S111: 21.8 | T111: 23.6 | U111: 23 | V111: 22 | W111: 21
A112: NT | B112: 15–24 | C112: Age-specific rate (per 100,000) | D112: 41.5 | E112: 40.2 | F112: 44.9 | G112: 41.6 | H112: 38.2 | I112: 34.6 | J112: 38.1 | K112: 36 | L112: 38.3 | M112: 41 | N112: 41.6 | O112: 37.7 | P112: 38.9 | Q112: 40.1 | R112: 41.7 | S112: 41.2 | T112: 46.3 | U112: 45.4 | V112: 44 | W112: 42
A113: NT | B113: 25–34 | C113: Age-specific rate (per 100,000) | D113: 38.7 | E113: 34.8 | F113: 30.3 | G113: 28.7 | H113: 25.4 | I113: 24.9 | J113: 25.4 | K113: 26.7 | L113: 25.3 | M113: 28.3 | N113: 25.5 | O113: 24.5 | P113: 24.4 | Q113: 25.2 | R113: 22.1 | S113: 23.7 | T113: 24.4 | U113: 21.5 | V113: 24.6 | W113: 28.1
A114: NT | B114: 35–44 | C114: Age-specific rate (per 100,000) | D114: 28.3 | E114: 27.8 | F114: 27.5 | G114: 27.8 | H114: 24 | I114: 27.1 | J114: 26.5 | K114: 22.9 | L114: 19.5 | M114: 19.8 | N114: 17.3 | O114: 20.1 | P114: 19.5 | Q114: 20.6 | R114: 20.5 | S114: 20.9 | T114: 18.2 | U114: 20.2 | V114: 22.1 | W114: 19.6
A115: NT | B115: 45–54 | C115: Age-specific rate (per 100,000) | D115: 19.4 | E115: 21.3 | F115: 18.7 | G115: 19.6 | H115: 18.5 | I115: 14.7 | J115: 14.4 | K115: 16.9 | L115: 17.4 | M115: 20.4 | N115: 24.5 | O115: 26.8 | P115: 24.7 | Q115: 26.8 | R115: 26.8 | S115: 26.5 | T115: 24.3 | U115: 25.2 | V115: 22.1 | W115: 21.6
A116: NT | B116: 55–64 | C116: Age-specific rate (per 100,000) | D116: 19.8 | E116: 17.4 | F116: 15.2 | G116: 12.1 | H116: 8.5 | I116: 10.1 | J116: 9.6 | K116: 8.3 | L116: 7.2 | M116: 7.9 | N116: 8.6 | O116: 9.3 | P116: 10.9 | Q116: 14.8 | R116: 14.5 | S116: 13.6 | T116: 15.2 | U116: 16.5 | V116: 14.1 | W116: 16.4
A117: NT | B117: 45–64 | C117: Age-specific rate (per 100,000) | D117: 19.5 | E117: 19.8 | F117: 17.3 | G117: 16.7 | H117: 14.6 | I117: 12.9 | J117: 12.5 | K117: 13.4 | L117: 13.1 | M117: 15.1 | N117: 17.8 | O117: 19.4 | P117: 18.8 | Q117: 21.7 | R117: 21.5 | S117: 20.9 | T117: 20.3 | U117: 21.3 | V117: 18.5 | W117: 19.3
A118: NT | B118: 65+ | C118: Age-specific rate (per 100,000) | D118: 32.4 | E118: 28.8 | F118: 31.7 | G118: 28.9 | H118: 34.8 | I118: 31.3 | J118: 29.7 | K118: 21.4 | L118: 18.7 | M118: 11.6 | N118: 12.2 | O118: 12.9 | P118: 16 | Q118: 17.7 | R118: 18.1 | S118: 17.2 | T118: 17.5 | U118: 16.6 | V118: 14.8 | W118: 12.5
A119: NT | B119: 65–74 | C119: Age-specific rate (per 100,000) | D119: 40.5 | E119: 35.4 | F119: 26.5 | G119: 26.9 | H119: 36 | I119: 28.6 | J119: 24.4 | K119: 23 | L119: 17.3 | M119: 10 | N119: 9.4 | O119: 10.6 | P119: 15.3 | Q119: 18.1 | R119: 16 | S119: 16.8 | T119: 17.6 | U119: 13.9 | V119: 10.6 | W119: 10.5
A120: NT | B120: 75–84 | C120: Age-specific rate (per 100,000) | D120: n.p. | E120: n.p. | F120: 53.2 | G120: 40.7 | H120: 39.5 | I120: 47.1 | J120: 52.9 | K120: n.p. | L120: n.p. | M120: n.p. | N120: n.p. | O120: n.p. | P120: n.p. | Q120: n.p. | R120: 24.3 | S120: n.p. | T120: n.p. | U120: 20.1 | V120: 22.5 | W120: 17
A121: NT | B121: 85+ | C121: Age-specific rate (per 100,000) | D121: — | E121: — | F121: — | G121: — | H121: — | I121: — | J121: — | K121: — | L121: — | M121: — | N121: — | O121: — | P121: — | Q121: — | R121: n.p. | S121: n.p. | T121: n.p. | U121: n.p. | V121: n.p. | W121: n.p.
A122: NT | B122: Total | C122: Age-specific rate (per 100,000) | D122: 23.6 | E122: 22.5 | F122: 22.1 | G122: 21.2 | H122: 19.5 | I122: 18.9 | J122: 19.4 | K122: 18.5 | L122: 17.9 | M122: 19.2 | N122: 18.9 | O122: 19 | P122: 19.1 | Q122: 20.2 | R122: 19.6 | S122: 19.8 | T122: 20 | U122: 19.7 | V122: 19.5 | W122: 19.5
A123: Australia | B123: 0–14 | C123: Age-specific rate (per 100,000) | D123: 0.2 | E123: 0.2 | F123: 0.3 | G123: 0.2 | H123: 0.2 | I123: 0.2 | J123: 0.3 | K123: 0.3 | L123: 0.3 | M123: 0.4 | N123: 0.4 | O123: 0.4 | P123: 0.4 | Q123: 0.4 | R123: 0.4 | S123: 0.5 | T123: 0.5 | U123: 0.5 | V123: 0.5 | W123: 0.5
A124: Australia | B124: 5–14 | C124: Age-specific rate (per 100,000) | D124: 0.4 | E124: 0.3 | F124: 0.4 | G124: 0.4 | H124: 0.3 | I124: 0.3 | J124: 0.4 | K124: 0.4 | L124: 0.5 | M124: 0.6 | N124: 0.6 | O124: 0.6 | P124: 0.7 | Q124: 0.7 | R124: 0.6 | S124: 0.7 | T124: 0.8 | U124: 0.7 | V124: 0.7 | W124: 0.7
A125: Australia | B125: 0–24 | C125: Age-specific rate (per 100,000) | D125: 4.7 | E125: 4.5 | F125: 4.4 | G125: 4.4 | H125: 4.3 | I125: 4.3 | J125: 4.3 | K125: 4.4 | L125: 4.6 | M125: 4.9 | N125: 5 | O125: 5.2 | P125: 5.4 | Q125: 5.6 | R125: 5.7 | S125: 5.9 | T125: 5.9 | U125: 5.7 | V125: 5.6 | W125: 5.2
A126: Australia | B126: 5–24 | C126: Age-specific rate (per 100,000) | D126: 5.8 | E126: 5.6 | F126: 5.5 | G126: 5.4 | H126: 5.3 | I126: 5.3 | J126: 5.4 | K126: 5.5 | L126: 5.7 | M126: 6.1 | N126: 6.3 | O126: 6.5 | P126: 6.8 | Q126: 7 | R126: 7.2 | S126: 7.3 | T126: 7.3 | U126: 7.1 | V126: 7 | W126: 6.4
A127: Australia | B127: 15–24 | C127: Age-specific rate (per 100,000) | D127: 11.2 | E127: 10.7 | F127: 10.4 | G127: 10.1 | H127: 10 | I127: 9.9 | J127: 9.9 | K127: 10 | L127: 10.5 | M127: 11 | N127: 11.5 | O127: 12 | P127: 12.5 | Q127: 12.9 | R127: 13.4 | S127: 13.7 | T127: 13.6 | U127: 13.6 | V127: 13.5 | W127: 12.2
A128: Australia | B128: 25–34 | C128: Age-specific rate (per 100,000) | D128: 18 | E128: 16.3 | F128: 15.5 | G128: 15 | H128: 14.6 | I128: 14.1 | J128: 14.2 | K128: 13.9 | L128: 13.5 | M128: 13.7 | N128: 14.1 | O128: 14.6 | P128: 15.3 | Q128: 15.8 | R128: 16 | S128: 16 | T128: 15.8 | U128: 15.8 | V128: 16.3 | W128: 16.1
A129: Australia | B129: 35–44 | C129: Age-specific rate (per 100,000) | D129: 17.1 | E129: 16.4 | F129: 15.8 | G129: 16 | H129: 16 | I129: 16.5 | J129: 16.5 | K129: 16.7 | L129: 16.6 | M129: 17 | N129: 17.2 | O129: 17.6 | P129: 18.1 | Q129: 18.4 | R129: 18.5 | S129: 18 | T129: 17.8 | U129: 17.3 | V129: 17.1 | W129: 16.7
A130: Australia | B130: 45–54 | C130: Age-specific rate (per 100,000) | D130: 14.5 | E130: 14.3 | F130: 14.2 | G130: 14.5 | H130: 15.1 | I130: 15.5 | J130: 15.5 | K130: 16 | L130: 16.2 | M130: 16.6 | N130: 17.5 | O130: 17.9 | P130: 18.5 | Q130: 18.9 | R130: 19 | S130: 18.1 | T130: 18.3 | U130: 18.3 | V130: 18.3 | W130: 18.3
A131: Australia | B131: 55–64 | C131: Age-specific rate (per 100,000) | D131: 10.7 | E131: 10.7 | F131: 11 | G131: 11.2 | H131: 11.8 | I131: 12.3 | J131: 12.4 | K131: 12.5 | L131: 12.8 | M131: 13.5 | N131: 13.7 | O131: 14.1 | P131: 14.8 | Q131: 15.5 | R131: 15.7 | S131: 15.9 | T131: 16 | U131: 15.7 | V131: 15.7 | W131: 15.9
A132: Australia | B132: 45–64 | C132: Age-specific rate (per 100,000) | D132: 12.9 | E132: 12.7 | F132: 12.8 | G132: 13 | H132: 13.6 | I132: 14.1 | J132: 14.1 | K132: 14.4 | L132: 14.6 | M132: 15.2 | N132: 15.8 | O132: 16.1 | P132: 16.8 | Q132: 17.3 | R132: 17.4 | S132: 17 | T132: 17.2 | U132: 17 | V132: 17 | W132: 17.1
...

Sheet Table NMD 4b
A1: Table NMD 4b: Suicide by year of occurence and state and territory, and age group, 2001–2005 to 2020–2024
A2: State/territory | B2: Age group | C2: Measure | D2: 2001–2005 | E2: 2002–2006 | F2: 2003–2007 | G2: 2004–2008 | H2: 2005–2009 | I2: 2006–2010 | J2: 2007–2011 | K2: 2008–2012 | L2: 2009–2013 | M2: 2010–2014 | N2: 2011–2015 | O2: 2012–2016 | P2: 2013–2017 | Q2: 2014–2018 | R2: 2015–2019 | S2: 2016–2020 | T2: 2017–2021 | U2: 2018–2022 | V2: 2019–2023 | W2: 2020–2024
A3: NSW | B3: 0–14 | C3: Age-specific rate (per 100,000) | D3: 0.2 | E3: 0.2 | F3: 0.2 | G3: 0.2 | H3: 0.1 | I3: 0.1 | J3: 0.2 | K3: 0.2 | L3: 0.2 | M3: 0.3 | N3: 0.3 | O3: 0.3 | P3: 0.3 | Q3: 0.4 | R3: 0.4 | S3: 0.4 | T3: 0.5 | U3: 0.4 | V3: 0.4 | W3: 0.4
A4: NSW | B4: 5–14 | C4: Age-specific rate (per 100,000) | D4: 0.3 | E4: 0.3 | F4: 0.3 | G4: 0.3 | H4: 0.2 | I4: 0.2 | J4: 0.3 | K4: 0.3 | L4: 0.3 | M4: 0.4 | N4: 0.4 | O4: 0.4 | P4: 0.5 | Q4: 0.6 | R4: 0.6 | S4: 0.6 | T4: 0.7 | U4: 0.6 | V4: 0.6 | W4: 0.5
A5: NSW | B5: 0–24 | C5: Age-specific rate (per 100,000) | D5: 3.7 | E5: 3.5 | F5: 3.2 | G5: 3.1 | H5: 2.9 | I5: 2.8 | J5: 2.7 | K5: 3 | L5: 3.2 | M5: 3.5 | N5: 3.9 | O5: 4.2 | P5: 4.6 | Q5: 4.8 | R5: 5 | S5: 5.1 | T5: 5 | U5: 4.8 | V5: 4.7 | W5: 4.1
A6: NSW | B6: 5–24 | C6: Age-specific rate (per 100,000) | D6: 4.6 | E6: 4.3 | F6: 4 | G6: 3.8 | H6: 3.6 | I6: 3.5 | J6: 3.4 | K6: 3.7 | L6: 4 | M6: 4.4 | N6: 4.9 | O6: 5.3 | P6: 5.7 | Q6: 6 | R6: 6.2 | S6: 6.3 | T6: 6.2 | U6: 5.9 | V6: 5.8 | W6: 5.1
A7: NSW | B7: 15–24 | C7: Age-specific rate (per 100,000) | D7: 8.8 | E7: 8.3 | F7: 7.6 | G7: 7.2 | H7: 6.8 | I7: 6.6 | J7: 6.3 | K7: 6.8 | L7: 7.5 | M7: 8.2 | N7: 9 | O7: 10 | P7: 10.7 | Q7: 11.2 | R7: 11.7 | S7: 11.8 | T7: 11.6 | U7: 11.3 | V7: 11.3 | W7: 9.8
A8: NSW | B8: 25–34 | C8: Age-specific rate (per 100,000) | D8: 14.9 | E8: 13.5 | F8: 12.4 | G8: 11.5 | H8: 11.4 | I8: 11.1 | J8: 11.1 | K8: 11.2 | L8: 11.3 | M8: 11.4 | N8: 11.9 | O8: 12.4 | P8: 12.8 | Q8: 13 | R8: 13.4 | S8: 13.6 | T8: 13.7 | U8: 13.6 | V8: 13.9 | W8: 13.7
A9: NSW | B9: 35–44 | C9: Age-specific rate (per 100,000) | D9: 14.5 | E9: 13.5 | F9: 13 | G9: 12.9 | H9: 12.9 | I9: 13.5 | J9: 13.5 | K9: 13.8 | L9: 13.8 | M9: 14.3 | N9: 14.3 | O9: 15 | P9: 15.4 | Q9: 16.1 | R9: 16 | S9: 15.5 | T9: 15.4 | U9: 15 | V9: 14.5 | W9: 14.4
A10: NSW | B10: 45–54 | C10: Age-specific rate (per 100,000) | D10: 13.2 | E10: 11.9 | F10: 11.9 | G10: 12.3 | H10: 12.8 | I10: 13.3 | J10: 13.3 | K10: 14.2 | L10: 14 | M10: 14.9 | N10: 15.8 | O10: 16.1 | P10: 16.2 | Q10: 16.6 | R10: 16.8 | S10: 16.3 | T10: 16.7 | U10: 16.4 | V10: 16.8 | W10: 16.7
A11: NSW | B11: 55–64 | C11: Age-specific rate (per 100,000) | D11: 9.6 | E11: 9.3 | F11: 9.7 | G11: 9.8 | H11: 10.3 | I11: 10.4 | J11: 10.5 | K11: 10.8 | L11: 11.1 | M11: 11.8 | N11: 12.3 | O11: 12.8 | P11: 13.7 | Q11: 14.6 | R11: 14.7 | S11: 15.1 | T11: 15.1 | U11: 15.1 | V11: 15.1 | W11: 15.7
A12: NSW | B12: 45–64 | C12: Age-specific rate (per 100,000) | D12: 11.7 | E12: 10.8 | F12: 10.9 | G12: 11.2 | H12: 11.7 | I12: 12 | J12: 12.1 | K12: 12.6 | L12: 12.7 | M12: 13.5 | N12: 14.1 | O12: 14.5 | P12: 15 | Q12: 15.7 | R12: 15.8 | S12: 15.7 | T12: 15.9 | U12: 15.8 | V12: 16 | W12: 16.2
A13: NSW | B13: 65+ | C13: Age-specific rate (per 100,000) | D13: 11.1 | E13: 10.7 | F13: 10.6 | G13: 10.8 | H13: 10.7 | I13: 10.9 | J13: 10.9 | K13: 11 | L13: 11.3 | M13: 11.6 | N13: 11.7 | O13: 11.6 | P13: 12.5 | Q13: 12.5 | R13: 12.4 | S13: 12.5 | T13: 13.1 | U13: 12.6 | V13: 12.4 | W13: 12.7
A14: NSW | B14: 65–74 | C14: Age-specific rate (per 100,000) | D14: 10.3 | E14: 10.3 | F14: 10.8 | G14: 10.8 | H14: 10.4 | I14: 10.1 | J14: 9.9 | K14: 9.5 | L14: 9.7 | M14: 10.3 | N14: 10.8 | O14: 10.6 | P14: 11.5 | Q14: 11.6 | R14: 11.4 | S14: 11.3 | T14: 11.8 | U14: 11.3 | V14: 11.1 | W14: 11.6
... A47: Qld | B47: Total | C47: Age-specific rate (per 100,000) | D47: 12.9 | E47: 12.5 | F47: 12.2 | G47: 12.4 | H47: 12.4 | I47: 12.5 | J47: 13 | K47: 13 | L47: 13.4 | M47: 13.8 | N47: 14.3 | O47: 14.3 | P47: 15.2 | Q47: 15.5 | R47: 15.6 | S47: 15.6 | T47: 15.7 | U47: 15.3 | V47: 15.3 | W47: 14.7
A48: WA | B48: 0–14 | C48: Age-specific rate (per 100,000) | D48: 0.2 | E48: n.p. | F48: 0.2 | G48: 0.2 | H48: n.p. | I48: n.p. | J48: 0.2 | K48: 0.3 | L48: 0.3 | M48: 0.6 | N48: 0.6 | O48: 0.5 | P48: 0.6 | Q48: 0.6 | R48: 0.5 | S48: 0.5 | T48: 0.7 | U48: 0.6 | V48: 0.7 | W48: 0.6
A49: WA | B49: 5–14 | C49: Age-specific rate (per 100,000) | D49: 0.4 | E49: n.p. | F49: 0.4 | G49: 0.4 | H49: n.p. | I49: n.p. | J49: 0.3 | K49: 0.4 | L49: 0.5 | M49: 0.9 | N49: 0.9 | O49: 0.8 | P49: 0.9 | Q49: 0.9 | R49: 0.7 | S49: 0.8 | T49: 1.1 | U49: 1 | V49: 1.1 | W49: 0.9
A50: WA | B50: 0–24 | C50: Age-specific rate (per 100,000) | D50: 5.7 | E50: 5.5 | F50: 5.3 | G50: 5.5 | H50: 5.9 | I50: 5.8 | J50: 6 | K50: 6.3 | L50: 6.4 | M50: 6.5 | N50: 7 | O50: 6.9 | P50: 6.7 | Q50: 6.6 | R50: 6.5 | S50: 6.5 | T50: 6.4 | U50: 6.1 | V50: 6.3 | W50: 5.7
A51: WA | B51: 5–24 | C51: Age-specific rate (per 100,000) | D51: 6.9 | E51: 6.7 | F51: 6.5 | G51: 6.7 | H51: 7.2 | I51: 7.1 | J51: 7.5 | K51: 7.9 | L51: 8 | M51: 8.2 | N51: 8.8 | O51: 8.7 | P51: 8.4 | Q51: 8.3 | R51: 8.3 | S51: 8.3 | T51: 8.1 | U51: 7.7 | V51: 7.8 | W51: 7.2
A52: WA | B52: 15–24 | C52: Age-specific rate (per 100,000) | D52: 13.4 | E52: 13 | F52: 12.4 | G52: 12.7 | H52: 13.7 | I52: 13.4 | J52: 13.8 | K52: 14.5 | L52: 14.7 | M52: 14.8 | N52: 15.9 | O52: 16 | P52: 15.6 | Q52: 15.7 | R52: 15.9 | S52: 16.1 | T52: 15.4 | U52: 14.9 | V52: 15.3 | W52: 13.9
A53: WA | B53: 25–34 | C53: Age-specific rate (per 100,000) | D53: 20 | E53: 18.8 | F53: 17.7 | G53: 18.2 | H53: 19.1 | I53: 18.5 | J53: 17.5 | K53: 18 | L53: 17.2 | M53: 17.2 | N53: 17.5 | O53: 18.9 | P53: 19.8 | Q53: 20.6 | R53: 22.1 | S53: 22.8 | T53: 21.9 | U53: 21.4 | V53: 22 | W53: 20.9
A54: WA | B54: 35–44 | C54: Age-specific rate (per 100,000) | D54: 17.1 | E54: 16 | F54: 15.9 | G54: 16.6 | H54: 17.2 | I54: 18.7 | J54: 19.2 | K54: 20.5 | L54: 20.7 | M54: 21.5 | N54: 21 | O54: 20.7 | P54: 21.7 | Q54: 21.3 | R54: 21.6 | S54: 20.8 | T54: 21.2 | U54: 19.8 | V54: 20.9 | W54: 19.8
A55: WA | B55: 45–54 | C55: Age-specific rate (per 100,000) | D55: 13.7 | E55: 13.7 | F55: 14.1 | G55: 15.7 | H55: 16.5 | I55: 17.6 | J55: 18.4 | K55: 19.1 | L55: 19.2 | M55: 19 | N55: 20.9 | O55: 21.3 | P55: 21.8 | Q55: 22.2 | R55: 22.5 | S55: 20.9 | T55: 20.4 | U55: 19.8 | V55: 20.1 | W55: 19.1
A56: WA | B56: 55–64 | C56: Age-specific rate (per 100,000) | D56: 9.9 | E56: 10.8 | F56: 12 | G56: 12.1 | H56: 13.1 | I56: 14 | J56: 14.5 | K56: 14.7 | L56: 14.7 | M56: 15.3 | N56: 15.1 | O56: 14.9 | P56: 15.1 | Q56: 16.4 | R56: 16.6 | S56: 17.3 | T56: 17.4 | U56: 16.9 | V56: 17.1 | W56: 17.1
A57: WA | B57: 45–64 | C57: Age-specific rate (per 100,000) | D57: 12.2 | E57: 12.5 | F57: 13.2 | G57: 14.2 | H57: 15 | I57: 16 | J57: 16.6 | K57: 17.2 | L57: 17.2 | M57: 17.3 | N57: 18.3 | O57: 18.4 | P57: 18.8 | Q57: 19.6 | R57: 19.8 | S57: 19.2 | T57: 19 | U57: 18.4 | V57: 18.7 | W57: 18.1
A58: WA | B58: 65+ | C58: Age-specific rate (per 100,000) | D58: 11.5 | E58: 11.6 | F58: 11.6 | G58: 12.2 | H58: 11.8 | I58: 12.9 | J58: 12.9 | K58: 14 | L58: 14.4 | M58: 14.6 | N58: 15.2 | O58: 15.3 | P58: 15.2 | Q58: 15.2 | R58: 14.9 | S58: 13.8 | T58: 14 | U58: 13.8 | V58: 13.4 | W58: 13.4
A59: WA | B59: 65–74 | C59: Age-specific rate (per 100,000) | D59: 9 | E59: 9.7 | F59: 9.5 | G59: 10.9 | H59: 10.2 | I59: 11.3 | J59: 11.1 | K59: 11.8 | L59: 12.3 | M59: 12.2 | N59: 12.7 | O59: 13.1 | P59: 13.7 | Q59: 12.8 | R59: 12.9 | S59: 11.2 | T59: 11.4 | U59: 11.4 | V59: 11.7 | W59: 11.9
A60: WA | B60: 75–84 | C60: Age-specific rate (per 100,000) | D60: 13.5 | E60: 12.7 | F60: 12.9 | G60: 12.4 | H60: 11.7 | I60: 14.3 | J60: 14.7 | K60: 16 | L60: 16.7 | M60: 17.7 | N60: 17.1 | O60: 17.4 | P60: 15.7 | Q60: 16.8 | R60: 16.1 | S60: 15.8 | T60: 15.3 | U60: 15.3 | V60: 14.1 | W60: 13.1
A61: WA | B61: 85+ | C61: Age-specific rate (per 100,000) | D61: 18.4 | E61: 18 | F61: 17.7 | G61: 17.5 | H61: 19.4 | I61: 15.9 | J61: 16.5 | K61: 18.8 | L61: 17.9 | M61: 17.7 | N61: 22.2 | O61: 20.3 | P61: 21.1 | Q61: 22.4 | R61: 21.4 | S61: 21.1 | T61: 23.5 | U61: 22 | V61: 20.2 | W61: 20.8
A62: WA | B62: Total | C62: Age-specific rate (per 100,000) | D62: 11.7 | E62: 11.4 | F62: 11.3 | G62: 11.9 | H62: 12.4 | I62: 12.9 | J62: 13.1 | K62: 13.8 | L62: 13.8 | M62: 14 | N62: 14.4 | O62: 14.6 | P62: 14.9 | Q62: 15.2 | R62: 15.5 | S62: 15.2 | T62: 15 | U62: 14.5 | V62: 14.8 | W62: 14.2
A63: SA | B63: 0–14 | C63: Age-specific rate (per 100,000) | D63: n.p. | E63: n.p. | F63: n.p. | G63: n.p. | H63: — | I63: — | J63: — | K63: n.p. | L63: n.p. | M63: n.p. | N63: n.p. | O63: 0.3 | P63: 0.3 | Q63: 0.4 | R63: 0.5 | S63: 0.6 | T63: 0.6 | U63: 0.5 | V63: 0.5 | W63: 0.4
A64: SA | B64: 5–14 | C64: Age-specific rate (per 100,000) | D64: n.p. | E64: n.p. | F64: n.p. | G64: n.p. | H64: — | I64: — | J64: — | K64: n.p. | L64: n.p. | M64: n.p. | N64: n.p. | O64: 0.5 | P64: 0.5 | Q64: 0.6 | R64: 0.7 | S64: 0.9 | T64: 1 | U64: 0.8 | V64: 0.7 | W64: 0.7
A65: SA | B65: 0–24 | C65: Age-specific rate (per 100,000) | D65: 5.9 | E65: 5.5 | F65: 5.3 | G65: 5 | H65: 4.8 | I65: 4.2 | J65: 4.6 | K65: 4.8 | L65: 5 | M65: 5.1 | N65: 5.1 | O65: 4.7 | P65: 4.8 | Q65: 4.9 | R65: 5.2 | S65: 5.5 | T65: 5.8 | U65: 5.9 | V65: 5.8 | W65: 5.3
A66: SA | B66: 5–24 | C66: Age-specific rate (per 100,000) | D66: 7.2 | E66: 6.7 | F66: 6.4 | G66: 6.1 | H66: 5.9 | I66: 5.2 | J66: 5.7 | K66: 6 | L66: 6.2 | M66: 6.4 | N66: 6.4 | O66: 5.8 | P66: 6 | Q66: 6.1 | R66: 6.4 | S66: 6.8 | T66: 7.1 | U66: 7.2 | V66: 7.1 | W66: 6.5
A67: SA | B67: 15–24 | C67: Age-specific rate (per 100,000) | D67: 14.1 | E67: 12.9 | F67: 12.4 | G67: 11.7 | H67: 11.3 | I67: 9.9 | J67: 10.7 | K67: 11 | L67: 11.3 | M67: 11.6 | N67: 11.7 | O67: 10.5 | P67: 10.9 | Q67: 11.1 | R67: 11.8 | S67: 12.3 | T67: 13 | U67: 13.6 | V67: 13.5 | W67: 12.2
A68: SA | B68: 25–34 | C68: Age-specific rate (per 100,000) | D68: 19.6 | E68: 18.4 | F68: 19.6 | G68: 18.4 | H68: 18.3 | I68: 16.2 | J68: 16.7 | K68: 15.5 | L68: 15.4 | M68: 15.8 | N68: 17 | O68: 17.4 | P68: 18.1 | Q68: 18 | R68: 17.6 | S68: 17.5 | T68: 16.7 | U68: 17.2 | V68: 16.9 | W68: 16.1
A69: SA | B69: 35–44 | C69: Age-specific rate (per 100,000) | D69: 20.6 | E69: 18.9 | F69: 19.1 | G69: 19.5 | H69: 20.8 | I69: 20.8 | J69: 21.1 | K69: 20.2 | L69: 20.3 | M69: 20.7 | N69: 20.2 | O69: 20.4 | P69: 20.9 | Q69: 20.5 | R69: 18.9 | S69: 18.5 | T69: 18.6 | U69: 19 | V69: 18.6 | W69: 17.9
A70: SA | B70: 45–54 | C70: Age-specific rate (per 100,000) | D70: 16.8 | E70: 15.7 | F70: 15.6 | G70: 16.1 | H70: 15.4 | I70: 15.2 | J70: 15.9 | K70: 17.1 | L70: 16.9 | M70: 18.5 | N70: 19.8 | O70: 20.5 | P70: 20.5 | Q70: 20.6 | R70: 20.3 | S70: 19.8 | T70: 19.5 | U70: 19 | V70: 19.6 | W70: 18.9
A71: SA | B71: 55–64 | C71: Age-specific rate (per 100,000) | D71: 10.4 | E71: 10.8 | F71: 11.9 | G71: 12.5 | H71: 12.9 | I71: 13.5 | J71: 14.6 | K71: 13.2 | L71: 13.9 | M71: 13.8 | N71: 14 | O71: 13.2 | P71: 14.3 | Q71: 14.1 | R71: 15.4 | S71: 14.6 | T71: 14.6 | U71: 14.6 | V71: 15.3 | W71: 15.1
A72: SA | B72: 45–64 | C72: Age-specific rate (per 100,000) | D72: 14 | E72: 13.5 | F72: 14 | G72: 14.5 | H72: 14.3 | I72: 14.4 | J72: 15.3 | K72: 15.3 | L72: 15.5 | M72: 16.3 | N72: 17 | O72: 17 | P72: 17.4 | Q72: 17.4 | R72: 17.9 | S72: 17.3 | T72: 17.1 | U72: 16.8 | V72: 17.4 | W72: 17
A73: SA | B73: 65+ | C73: Age-specific rate (per 100,000) | D73: 12.1 | E73: 12.7 | F73: 13.2 | G73: 12.3 | H73: 11.7 | I73: 11.7 | J73: 10.4 | K73: 10.7 | L73: 11 | M73: 11.8 | N73: 12.5 | O73: 13.3 | P73: 13.2 | Q73: 13.3 | R73: 13 | S73: 12.3 | T73: 12.6 | U73: 12.6 | V73: 12.7 | W73: 12.4
A74: SA | B74: 65–74 | C74: Age-specific rate (per 100,000) | D74: 11.7 | E74: 12.5 | F74: 12.4 | G74: 11 | H74: 10.4 | I74: 10.6 | J74: 9.5 | K74: 9.8 | L74: 10.3 | M74: 11.5 | N74: 12.1 | O74: 12.7 | P74: 13.4 | Q74: 13.3 | R74: 12.1 | S74: 11.6 | T74: 12.5 | U74: 11.9 | V74: 12.5 | W74: 13.3
A75: SA | B75: 75–84 | C75: Age-specific rate (per 100,000) | D75: 12.4 | E75: 12.6 | F75: 13.8 | G75: 13.5 | H75: 13 | I75: 13 | J75: 11.9 | K75: 12.6 | L75: 11.7 | M75: 11.4 | N75: 11.5 | O75: 12.3 | P75: 10.8 | Q75: 11.8 | R75: 11.6 | S75: 11.7 | T75: 11.7 | U75: 11.9 | V75: 11.3 | W75: 10.1
A76: SA | B76: 85+ | C76: Age-specific rate (per 100,000) | D76: 12.7 | E76: 13.9 | F76: 14.6 | G76: 13.8 | H76: 13.1 | I76: 11.9 | J76: 9.7 | K76: 9.3 | L76: 12.1 | M76: 13.7 | N76: 16.2 | O76: 17.6 | P76: 17.2 | Q76: 16.8 | R76: 19 | S76: 16.5 | T76: 15.4 | U76: 17 | V76: 16.2 | W76: 14.2
A77: SA | B77: Total | C77: Age-specific rate (per 100,000) | D77: 12.8 | E77: 12.2 | F77: 12.5 | G77: 12.4 | H77: 12.3 | I77: 11.9 | J77: 12.2 | K77: 12 | L77: 12.1 | M77: 12.6 | N77: 13 | O77: 13.1 | P77: 13.3 | Q77: 13.3 | R77: 13.2 | S77: 13 | T77: 13 | U77: 13.1 | V77: 13.2 | W77: 12.7
A78: Tas | B78: 0–14 | C78: Age-specific rate (per 100,000) | D78: n.p. | E78: n.p. | F78: — | G78: — | H78: — | I78: n.p. | J78: n.p. | K78: n.p. | L78: n.p. | M78: 1.3 | N78: n.p. | O78: n.p. | P78: n.p. | Q78: n.p. | R78: — | S78: n.p. | T78: n.p. | U78: n.p. | V78: 1 | W78: 1.3
A79: Tas | B79: 5–14 | C79: Age-specific rate (per 100,000) | D79: n.p. | E79: n.p. | F79: — | G79: — | H79: — | I79: n.p. | J79: n.p. | K79: n.p. | L79: n.p. | M79: 1.9 | N79: n.p. | O79: n.p. | P79: n.p. | Q79: n.p. | R79: — | S79: n.p. | T79: n.p. | U79: n.p. | V79: 1.5 | W79: 1.8
A80: Tas | B80: 0–24 | C80: Age-specific rate (per 100,000) | D80: 4.4 | E80: 4.8 | F80: 4.2 | G80: 3.8 | H80: 3.8 | I80: 3.9 | J80: 4.2 | K80: 5 | L80: 6 | M80: 6.2 | N80: 6.9 | O80: 6.6 | P80: 6.5 | Q80: 5.9 | R80: 5.6 | S80: 5.3 | T80: 4.9 | U80: 4.7 | V80: 4.9 | W80: 4.8
A81: Tas | B81: 5–24 | C81: Age-specific rate (per 100,000) | D81: 5.4 | E81: 6 | F81: 5.2 | G81: 4.7 | H81: 4.7 | I81: 4.9 | J81: 5.2 | K81: 6.3 | L81: 7.5 | M81: 7.8 | N81: 8.6 | O81: 8.2 | P81: 8 | Q81: 7.3 | R81: 6.9 | S81: 6.5 | T81: 6 | U81: 5.7 | V81: 6 | W81: 5.9
A82: Tas | B82: 15–24 | C82: Age-specific rate (per 100,000) | D82: 10.7 | E82: 11.9 | F82: 10.6 | G82: 9.6 | H82: 9.5 | I82: 9.1 | J82: 9.7 | K82: 11.4 | L82: 13.6 | M82: 13.5 | N82: 15.8 | O82: 15 | P82: 15 | Q82: 13.9 | R82: 13.7 | S82: 12.1 | T82: 11.2 | U82: 10.4 | V82: 10.8 | W82: 10.2
A83: Tas | B83: 25–34 | C83: Age-specific rate (per 100,000) | D83: 30.4 | E83: 27.5 | F83: 26.1 | G83: 27.6 | H83: 25.8 | I83: 23.2 | J83: 23.3 | K83: 20.2 | L83: 16.3 | M83: 14.8 | N83: 15.1 | O83: 14.7 | P83: 16.6 | Q83: 17.1 | R83: 18.5 | S83: 18.1 | T83: 17.1 | U83: 16 | V83: 17.2 | W83: 15.2
A84: Tas | B84: 35–44 | C84: Age-specific rate (per 100,000) | D84: 24.4 | E84: 24.2 | F84: 23.5 | G84: 22.1 | H84: 19.4 | I84: 19.8 | J84: 19.9 | K84: 20.6 | L84: 21.6 | M84: 21.7 | N84: 22.1 | O84: 23.8 | P84: 24.9 | Q84: 26.4 | R84: 27.7 | S84: 27.6 | T84: 26.4 | U84: 25.8 | V84: 23.8 | W84: 23.5
A85: Tas | B85: 45–54 | C85: Age-specific rate (per 100,000) | D85: 16.7 | E85: 19.3 | F85: 19.6 | G85: 21.9 | H85: 22.4 | I85: 22.2 | J85: 20.9 | K85: 21.6 | L85: 21.5 | M85: 20.1 | N85: 19.2 | O85: 21.6 | P85: 21.5 | Q85: 19.9 | R85: 23.1 | S85: 24.2 | T85: 21.8 | U85: 21.8 | V85: 24 | W85: 21.5
A86: Tas | B86: 55–64 | C86: Age-specific rate (per 100,000) | D86: 18 | E86: 19.8 | F86: 20.9 | G86: 18.5 | H86: 19.5 | I86: 17 | J86: 15.7 | K86: 15.1 | L86: 15.3 | M86: 16.1 | N86: 18.6 | O86: 20 | P86: 19.7 | Q86: 20.3 | R86: 20.2 | S86: 19.6 | T86: 18.2 | U86: 18.9 | V86: 18.9 | W86: 17.4
A87: Tas | B87: 45–64 | C87: Age-specific rate (per 100,000) | D87: 17.3 | E87: 19.5 | F87: 20.2 | G87: 20.3 | H87: 21.1 | I87: 19.8 | J87: 18.4 | K87: 18.5 | L87: 18.5 | M87: 18.2 | N87: 18.9 | O87: 20.8 | P87: 20.6 | Q87: 20.1 | R87: 21.5 | S87: 21.9 | T87: 19.9 | U87: 20.2 | V87: 21.3 | W87: 19.4
A88: Tas | B88: 65+ | C88: Age-specific rate (per 100,000) | D88: 14.8 | E88: 13.7 | F88: 12.8 | G88: 12.9 | H88: 13.4 | I88: 13.6 | J88: 16 | K88: 15.5 | L88: 15.8 | M88: 13.6 | N88: 14.5 | O88: 14.9 | P88: 16.5 | Q88: 16.4 | R88: 19.6 | S88: 19.9 | T88: 19 | U88: 19.2 | V88: 19.3 | W88: 16.8
A89: Tas | B89: 65–74 | C89: Age-specific rate (per 100,000) | D89: 11.7 | E89: 10.4 | F89: 9.7 | G89: 10 | H89: 9.8 | I89: 9.9 | J89: 10 | K89: 10.9 | L89: 10.5 | M89: 8.7 | N89: 10.7 | O89: 12.9 | P89: 13.5 | Q89: 14.1 | R89: 17.3 | S89: 17.9 | T89: 19 | U89: 18.7 | V89: 18.3 | W89: 17
A90: Tas | B90: 75–84 | C90: Age-specific rate (per 100,000) | D90: 17.6 | E90: 14.7 | F90: 16.1 | G90: 14.3 | H90: 14.2 | I90: 14.9 | J90: 19.4 | K90: 17.7 | L90: 19.9 | M90: 17.3 | N90: 17.7 | O90: 15.9 | P90: 20.5 | Q90: 19.3 | R90: 21.9 | S90: 20.5 | T90: 18.2 | U90: 17.9 | V90: 19.3 | W90: 16.5
A91: Tas | B91: 85+ | C91: Age-specific rate (per 100,000) | D91: 21.1 | E91: 26 | F91: 17.4 | G91: 21.2 | H91: 27 | I91: 25.9 | J91: 33.6 | K91: 30.3 | L91: 29.1 | M91: 26.6 | N91: 24.3 | O91: 21.8 | P91: 21.2 | Q91: 20.7 | R91: 25.4 | S91: 28.4 | T91: 21.2 | U91: 25.5 | V91: 24.7 | W91: 16.4
A92: Tas | B92: Total | C92: Age-specific rate (per 100,000) | D92: 15.3 | E92: 15.4 | F92: 15 | G92: 14.9 | H92: 14.6 | I92: 14.1 | J92: 14.2 | K92: 14.2 | L92: 14.3 | M92: 13.7 | N92: 14.4 | O92: 15 | P92: 15.6 | Q92: 15.5 | R92: 16.7 | S92: 16.8 | T92: 15.7 | U92: 15.7 | V92: 16 | W92: 14.7
A93: ACT | B93: 0–14 | C93: Age-specific rate (per 100,000) | D93: — | E93: — | F93: — | G93: n.p. | H93: n.p. | I93: n.p. | J93: n.p. | K93: n.p. | L93: — | M93: n.p. | N93: n.p. | O93: n.p. | P93: n.p. | Q93: n.p. | R93: n.p. | S93: n.p. | T93: n.p. | U93: n.p. | V93: n.p. | W93: n.p.
A94: ACT | B94: 5–14 | C94: Age-specific rate (per 100,000) | D94: — | E94: — | F94: — | G94: n.p. | H94: n.p. | I94: n.p. | J94: n.p. | K94: n.p. | L94: — | M94: n.p. | N94: n.p. | O94: n.p. | P94: n.p. | Q94: n.p. | R94: n.p. | S94: n.p. | T94: n.p. | U94: n.p. | V94: n.p. | W94: n.p.
A95: ACT | B95: 0–24 | C95: Age-specific rate (per 100,000) | D95: 4.1 | E95: 4.3 | F95: 4.3 | G95: 3.8 | H95: 3.9 | I95: 3.3 | J95: 3.1 | K95: 3.2 | L95: 2.9 | M95: 3.5 | N95: 4.4 | O95: 4.2 | P95: 5.5 | Q95: 6.6 | R95: 7 | S95: 7.2 | T95: 8.1 | U95: 7.1 | V95: 5.5 | W95: 4.4
A96: ACT | B96: 5–24 | C96: Age-specific rate (per 100,000) | D96: 4.9 | E96: 5.2 | F96: 5.2 | G96: 4.6 | H96: 4.7 | I96: 4.1 | J96: 3.8 | K96: 4 | L96: 3.6 | M96: 4.3 | N96: 5.5 | O96: 5.3 | P96: 6.9 | Q96: 8.3 | R96: 8.8 | S96: 9 | T96: 10.1 | U96: 8.8 | V96: 6.8 | W96: 5.4
A97: ACT | B97: 15–24 | C97: Age-specific rate (per 100,000) | D97: 9 | E97: 9.3 | F97: 9.3 | G97: 7.7 | H97: 7.9 | I97: 6.8 | J97: 6.3 | K97: 6.5 | L97: 6.2 | M97: 7.2 | N97: 9.4 | O97: 9.1 | P97: 11.9 | Q97: 14.3 | R97: 15.5 | S97: 16 | T97: 17.9 | U97: 16.3 | V97: 12.8 | W97: 10.1
A98: ACT | B98: 25–34 | C98: Age-specific rate (per 100,000) | D98: 18.3 | E98: 17.1 | F98: 15.1 | G98: 14.6 | H98: 12.7 | I98: 13.1 | J98: 11.7 | K98: 10 | L98: 9.7 | M98: 8.1 | N98: 6.6 | O98: 5.7 | P98: 6.8 | Q98: 7.8 | R98: 9.6 | S98: 11 | T98: 13.1 | U98: 12.8 | V98: 13.8 | W98: 12.6
A99: ACT | B99: 35–44 | C99: Age-specific rate (per 100,000) | D99: 15.6 | E99: 13.6 | F99: 12.4 | G99: 14.3 | H99: 12.9 | I99: 16.2 | J99: 15.6 | K99: 15.4 | L99: 14.1 | M99: 16.6 | N99: 16.4 | O99: 16.2 | P99: 18 | Q99: 17 | R99: 17.5 | S99: 18.6 | T99: 19.8 | U99: 20.9 | V99: 20 | W99: 16.8
A100: ACT | B100: 45–54 | C100: Age-specific rate (per 100,000) | D100: 12.8 | E100: 13.2 | F100: 12.4 | G100: 12.3 | H100: 10.5 | I100: 12.6 | J100: 12.1 | K100: 11.6 | L100: 12.3 | M100: 13.1 | N100: 13.4 | O100: 13.3 | P100: 13.2 | Q100: 13.4 | R100: 12.3 | S100: 13.3 | T100: 13.4 | U100: 16.4 | V100: 14.8 | W100: 15.4
A101: ACT | B101: 55–64 | C101: Age-specific rate (per 100,000) | D101: 7.1 | E101: 6.2 | F101: 7.7 | G101: 8 | H101: 11 | I101: 12.3 | J101: 12 | K101: 12.3 | L101: 12.2 | M101: 11.1 | N101: 11.5 | O101: 11.4 | P101: 13.2 | Q101: 14.4 | R101: 14.6 | S101: 14 | T101: 15.1 | U101: 13 | V101: 13.9 | W101: 14.4
A102: ACT | B102: 45–64 | C102: Age-specific rate (per 100,000) | D102: 10.5 | E102: 10.4 | F102: 10.4 | G102: 10.5 | H102: 10.7 | I102: 12.5 | J102: 12.1 | K102: 11.9 | L102: 12.3 | M102: 12.2 | N102: 12.5 | O102: 12.4 | P102: 13.2 | Q102: 13.8 | R102: 13.4 | S102: 13.6 | T102: 14.2 | U102: 14.8 | V102: 14.4 | W102: 14.9
A103: ACT | B103: 65+ | C103: Age-specific rate (per 100,000) | D103: 8.9 | E103: 8 | F103: 9.7 | G103: 10 | H103: 10.2 | I103: 13.3 | J103: 14.5 | K103: 12.3 | L103: 14.4 | M103: 12.6 | N103: 11.5 | O103: 13.2 | P103: 15.1 | Q103: 14.9 | R103: 17 | S103: 16.3 | T103: 14.7 | U103: 14.1 | V103: 11.6 | W103: 9.3
A104: ACT | B104: 65–74 | C104: Age-specific rate (per 100,000) | D104: 11.1 | E104: 8.4 | F104: 5.8 | G104: 7.9 | H104: 6.5 | I104: 9.3 | J104: 9.9 | K104: 9.5 | L104: 12.6 | M104: 10.8 | N104: 11 | O104: 11.2 | P104: 12.1 | Q104: 10.2 | R104: 12.4 | S104: 11.9 | T104: 11.5 | U104: 12.3 | V104: 10.4 | W104: 8.7
A105: ACT | B105: 75–84 | C105: Age-specific rate (per 100,000) | D105: n.p. | E105: n.p. | F105: 9.4 | G105: 9.2 | H105: 12.6 | I105: 17.8 | J105: 22.8 | K105: 19 | L105: 18.6 | M105: 14.7 | N105: 11.1 | O105: 12.2 | P105: 16.2 | Q105: 18.3 | R105: 20.1 | S105: 19.2 | T105: 14.6 | U105: 11.4 | V105: 9.6 | W105: 6.9
A106: ACT | B106: 85+ | C106: Age-specific rate (per 100,000) | D106: n.p. | E106: n.p. | F106: 31.3 | G106: n.p. | H106: n.p. | I106: n.p. | J106: n.p. | K106: n.p. | L106: n.p. | M106: n.p. | N106: n.p. | O106: 25.2 | P106: 27.7 | Q106: 30.1 | R106: 32.6 | S106: 32 | T106: 31.1 | U106: 29.9 | V106: 23 | W106: 19.3
A107: ACT | B107: Total | C107: Age-specific rate (per 100,000) | D107: 10.1 | E107: 9.5 | F107: 9.2 | G107: 9.3 | H107: 8.9 | I107: 10 | J107: 9.7 | K107: 9.2 | L107: 9.1 | M107: 9.2 | N107: 9.2 | O107: 9.2 | P107: 10.5 | Q107: 11 | R107: 11.7 | S107: 12.1 | T107: 12.9 | U107: 12.8 | V107: 11.9 | W107: 10.7
A108: NT | B108: 0–14 | C108: Age-specific rate (per 100,000) | D108: n.p. | E108: n.p. | F108: n.p. | G108: n.p. | H108: n.p. | I108: 2.3 | J108: 1.9 | K108: 1.9 | L108: 2.7 | M108: 2.6 | N108: 2.2 | O108: 2.3 | P108: 2.3 | Q108: n.p. | R108: n.p. | S108: 1.9 | T108: n.p. | U108: n.p. | V108: n.p. | W108: n.p.
A109: NT | B109: 5–14 | C109: Age-specific rate (per 100,000) | D109: n.p. | E109: n.p. | F109: n.p. | G109: n.p. | H109: n.p. | I109: 3.5 | J109: 2.9 | K109: 2.9 | L109: 4.1 | M109: 4.1 | N109: 3.5 | O109: 3.5 | P109: 3.5 | Q109: n.p. | R109: n.p. | S109: 2.9 | T109: n.p. | U109: n.p. | V109: n.p. | W109: n.p.
A110: NT | B110: 0–24 | C110: Age-specific rate (per 100,000) | D110: 16.8 | E110: 16.8 | F110: 18.3 | G110: 18.5 | H110: 16.5 | I110: 15.4 | J110: 16.3 | K110: 15.5 | L110: 16.1 | M110: 17.8 | N110: 17.6 | O110: 16.5 | P110: 17.5 | Q110: 17.5 | R110: 16.8 | S110: 17.8 | T110: 18.9 | U110: 19.2 | V110: 17.9 | W110: 16.9
A111: NT | B111: 5–24 | C111: Age-specific rate (per 100,000) | D111: 21.4 | E111: 21.4 | F111: 23.3 | G111: 23.4 | H111: 20.9 | I111: 19.5 | J111: 20.6 | K111: 19.7 | L111: 20.4 | M111: 22.7 | N111: 22.5 | O111: 21.1 | P111: 22.5 | Q111: 22.5 | R111: 21.5 | S111: 22.7 | T111: 23.9 | U111: 24.2 | V111: 22.6 | W111: 21.3
A112: NT | B112: 15–24 | C112: Age-specific rate (per 100,000) | D112: 42.8 | E112: 42.1 | F112: 45.5 | G112: 45.3 | H112: 39.4 | I112: 35.2 | J112: 37.5 | K112: 35.4 | L112: 36.1 | M112: 40.5 | N112: 40.5 | O112: 38.2 | P112: 41.2 | Q112: 43.1 | R112: 41.7 | S112: 43.7 | T112: 46.9 | U112: 47.9 | V112: 45.2 | W112: 42.6
A113: NT | B113: 25–34 | C113: Age-specific rate (per 100,000) | D113: 39.2 | E113: 35.3 | F113: 29.7 | G113: 29.3 | H113: 26 | I113: 26.5 | J113: 26.9 | K113: 27.7 | L113: 26.8 | M113: 28.3 | N113: 25.9 | O113: 24.1 | P113: 23.2 | Q113: 23.5 | R113: 22.5 | S113: 22 | T113: 23.5 | U113: 23.3 | V113: 25.1 | W113: 25.6
A114: NT | B114: 35–44 | C114: Age-specific rate (per 100,000) | D114: 28.3 | E114: 27.8 | F114: 28.1 | G114: 26.6 | H114: 25.2 | I114: 27.7 | J114: 25.9 | K114: 22.4 | L114: 21.1 | M114: 19.3 | N114: 18.4 | O114: 20.1 | P114: 19.5 | Q114: 20.1 | R114: 21 | S114: 18.7 | T114: 18.7 | U114: 20.7 | V114: 21.6 | W114: 18
A115: NT | B115: 45–54 | C115: Age-specific rate (per 100,000) | D115: 19.4 | E115: 20.5 | F115: 19.4 | G115: 20.3 | H115: 17.8 | I115: 15.3 | J115: 16.4 | K115: 17.6 | L115: 19.4 | M115: 22.3 | N115: 25.2 | O115: 25.5 | P115: 24.1 | Q115: 24.3 | R115: 24.4 | S115: 25.3 | T115: 23.7 | U115: 25.2 | V115: 22.7 | W115: 21.6
A116: NT | B116: 55–64 | C116: Age-specific rate (per 100,000) | D116: 19.8 | E116: 17.4 | F116: 15.2 | G116: 12.1 | H116: 9.5 | I116: 10.1 | J116: 9.6 | K116: 9.2 | L116: 8.1 | M116: 8.8 | N116: 8.6 | O116: 9.3 | P116: 10.9 | Q116: 14 | R116: 13.7 | S116: 14.4 | T116: 16 | U116: 15.7 | V116: 15.7 | W116: 15.7
A117: NT | B117: 45–64 | C117: Age-specific rate (per 100,000) | D117: 19.5 | E117: 19.4 | F117: 17.8 | G117: 17.1 | H117: 14.6 | I117: 13.3 | J117: 13.6 | K117: 14.1 | L117: 14.6 | M117: 16.6 | N117: 18.2 | O117: 18.7 | P117: 18.5 | Q117: 19.9 | R117: 19.8 | S117: 20.6 | T117: 20.3 | U117: 21 | V117: 19.6 | W117: 18.9
A118: NT | B118: 65+ | C118: Age-specific rate (per 100,000) | D118: 29.9 | E118: 28.8 | F118: 29.4 | G118: 28.9 | H118: 34.8 | I118: 31.3 | J118: 29.7 | K118: 21.4 | L118: 18.7 | M118: 13 | N118: 12.2 | O118: 14.2 | P118: 16 | Q118: 17.7 | R118: 18.1 | S118: 17.2 | T118: 16.5 | U118: 17.5 | V118: 14.8 | W118: 11.6
A119: NT | B119: 65–74 | C119: Age-specific rate (per 100,000) | D119: 36.8 | E119: 35.4 | F119: 23.2 | G119: 26.9 | H119: 36 | I119: 28.6 | J119: 24.4 | K119: 23 | L119: 17.3 | M119: 10 | N119: 9.4 | O119: 12.4 | P119: 15.3 | Q119: 18.1 | R119: 17.6 | S119: 16.8 | T119: 16.1 | U119: 13.9 | V119: 10.6 | W119: 9.2
A120: NT | B120: 75–84 | C120: Age-specific rate (per 100,000) | D120: n.p. | E120: n.p. | F120: 53.2 | G120: 40.7 | H120: 39.5 | I120: 47.1 | J120: 52.9 | K120: n.p. | L120: n.p. | M120: n.p. | N120: n.p. | O120: n.p. | P120: n.p. | Q120: n.p. | R120: n.p. | S120: n.p. | T120: n.p. | U120: 24.2 | V120: 22.5 | W120: 17
A121: NT | B121: 85+ | C121: Age-specific rate (per 100,000) | D121: — | E121: — | F121: — | G121: — | H121: — | I121: — | J121: — | K121: — | L121: — | M121: — | N121: — | O121: — | P121: — | Q121: — | R121: n.p. | S121: n.p. | T121: n.p. | U121: n.p. | V121: n.p. | W121: n.p.
A122: NT | B122: Total | C122: Age-specific rate (per 100,000) | D122: 23.8 | E122: 22.9 | F122: 22.2 | G122: 21.8 | H122: 19.9 | I122: 19.6 | J122: 19.7 | K122: 18.7 | L122: 18.6 | M122: 19.4 | N122: 19.1 | O122: 18.9 | P122: 19 | Q122: 19.6 | R122: 19.3 | S122: 19.3 | T122: 19.9 | U122: 20.5 | V122: 19.9 | W122: 18.7
A123: Australia | B123: 0–14 | C123: Age-specific rate (per 100,000) | D123: 0.2 | E123: 0.2 | F123: 0.3 | G123: 0.2 | H123: 0.2 | I123: 0.2 | J123: 0.3 | K123: 0.3 | L123: 0.3 | M123: 0.4 | N123: 0.4 | O123: 0.4 | P123: 0.4 | Q123: 0.4 | R123: 0.4 | S123: 0.5 | T123: 0.5 | U123: 0.5 | V123: 0.5 | W123: 0.5
A124: Australia | B124: 5–14 | C124: Age-specific rate (per 100,000) | D124: 0.3 | E124: 0.4 | F124: 0.4 | G124: 0.4 | H124: 0.3 | I124: 0.4 | J124: 0.4 | K124: 0.4 | L124: 0.5 | M124: 0.6 | N124: 0.6 | O124: 0.6 | P124: 0.7 | Q124: 0.7 | R124: 0.7 | S124: 0.7 | T124: 0.8 | U124: 0.7 | V124: 0.7 | W124: 0.7
A125: Australia | B125: 0–24 | C125: Age-specific rate (per 100,000) | D125: 4.7 | E125: 4.5 | F125: 4.4 | G125: 4.4 | H125: 4.3 | I125: 4.2 | J125: 4.3 | K125: 4.4 | L125: 4.6 | M125: 4.8 | N125: 5.1 | O125: 5.2 | P125: 5.4 | Q125: 5.6 | R125: 5.8 | S125: 5.9 | T125: 5.8 | U125: 5.7 | V125: 5.6 | W125: 5.1
A126: Australia | B126: 5–24 | C126: Age-specific rate (per 100,000) | D126: 5.8 | E126: 5.5 | F126: 5.5 | G126: 5.4 | H126: 5.3 | I126: 5.3 | J126: 5.4 | K126: 5.5 | L126: 5.8 | M126: 6.1 | N126: 6.4 | O126: 6.6 | P126: 6.8 | Q126: 7 | R126: 7.2 | S126: 7.3 | T126: 7.3 | U126: 7 | V126: 6.9 | W126: 6.3
A127: Australia | B127: 15–24 | C127: Age-specific rate (per 100,000) | D127: 11.2 | E127: 10.7 | F127: 10.4 | G127: 10.2 | H127: 10 | I127: 9.7 | J127: 9.8 | K127: 10.1 | L127: 10.5 | M127: 11 | N127: 11.7 | O127: 12.1 | P127: 12.6 | Q127: 13.1 | R127: 13.5 | S127: 13.7 | T127: 13.6 | U127: 13.4 | V127: 13.3 | W127: 12
A128: Australia | B128: 25–34 | C128: Age-specific rate (per 100,000) | D128: 18 | E128: 16.4 | F128: 15.5 | G128: 15 | H128: 14.7 | I128: 14.1 | J128: 14.1 | K128: 14 | L128: 13.7 | M128: 13.7 | N128: 14.1 | O128: 14.7 | P128: 15.3 | Q128: 15.8 | R128: 16 | S128: 16.1 | T128: 15.8 | U128: 15.7 | V128: 16.2 | W128: 15.9
A129: Australia | B129: 35–44 | C129: Age-specific rate (per 100,000) | D129: 17.1 | E129: 16.4 | F129: 15.9 | G129: 16.1 | H129: 16.1 | I129: 16.5 | J129: 16.6 | K129: 16.7 | L129: 16.7 | M129: 17 | N129: 17.3 | O129: 17.6 | P129: 18.2 | Q129: 18.4 | R129: 18.5 | S129: 18 | T129: 17.8 | U129: 17.3 | V129: 17.2 | W129: 16.5
A130: Australia | B130: 45–54 | C130: Age-specific rate (per 100,000) | D130: 14.6 | E130: 14.3 | F130: 14.3 | G130: 14.7 | H130: 15.1 | I130: 15.6 | J130: 15.7 | K130: 16.1 | L130: 16.3 | M130: 16.8 | N130: 17.6 | O130: 17.9 | P130: 18.6 | Q130: 18.8 | R130: 18.9 | S130: 18.1 | T130: 18.3 | U130: 18.1 | V130: 18.4 | W130: 18
A131: Australia | B131: 55–64 | C131: Age-specific rate (per 100,000) | D131: 10.6 | E131: 10.8 | F131: 11.1 | G131: 11.3 | H131: 11.9 | I131: 12.4 | J131: 12.5 | K131: 12.5 | L131: 13 | M131: 13.5 | N131: 13.8 | O131: 14.1 | P131: 15 | Q131: 15.6 | R131: 15.8 | S131: 16 | T131: 16 | U131: 15.7 | V131: 15.7 | W131: 15.7
A132: Australia | B132: 45–64 | C132: Age-specific rate (per 100,000) | D132: 12.9 | E132: 12.8 | F132: 12.9 | G132: 13.2 | H132: 13.7 | I132: 14.2 | J132: 14.2 | K132: 14.5 | L132: 14.7 | M132: 15.3 | N132: 15.9 | O132: 16.1 | P132: 16.9 | Q132: 17.3 | R132: 17.4 | S132: 17.1 | T132: 17.2 | U132: 17 | V132: 17.1 | W132: 16.9
...

Sheet Table NMD 5
A1: Table NMD 5: Suicide by Remoteness area and sex, 2001 to 2024
A2: Remoteness area | B2: Sex | C2: Measure | D2: 2001 | E2: 2002 | F2: 2003 | G2: 2004 | H2: 2005 | I2: 2006 | J2: 2007 | K2: 2008 | L2: 2009 | M2: 2010 | N2: 2011 | O2: 2012 | P2: 2013 | Q2: 2014 | R2: 2015 | S2: 2016 | T2: 2017 | U2: 2018 | V2: 2019 | W2: 2020 | X2: 2021 | Y2: 2022 | Z2: 2023 | AA2: 2024
A3: Major Cities | B3: Males | C3: Age-standardised rate (per 100,000) | D3: 18.6 | E3: 16.7 | F3: 16.4 | G3: 15.1 | H3: 15.1 | I3: 14.3 | J3: 14.8 | K3: 15.9 | L3: 14.9 | M3: 15.5 | N3: 14.3 | O3: 14.7 | P3: 14.7 | Q3: 15.9 | R3: 17.2 | S3: 15.1 | T3: 17.3 | U3: 16.5 | V3: 16.8 | W3: 15.9 | X3: 15.2 | Y3: 16.1 | Z3: 15.4 | AA3: 15.2
A4: Inner Regional | B4: Males | C4: Age-standardised rate (per 100,000) | D4: 22.4 | E4: 21.6 | F4: 20 | G4: 18.7 | H4: 18.3 | I4: 17.6 | J4: 17.9 | K4: 20.1 | L4: 19.4 | M4: 21 | N4: 19.4 | O4: 22.6 | P4: 20.1 | Q4: 25.6 | R4: 23.9 | S4: 24.7 | T4: 25.6 | U4: 24.8 | V4: 27 | W4: 24.2 | X4: 25.9 | Y4: 26.1 | Z4: 25 | AA4: 24.9
A5: Outer Regional | B5: Males | C5: Age-standardised rate (per 100,000) | D5: 25.4 | E5: 24.8 | F5: 22.6 | G5: 22.4 | H5: 22.5 | I5: 19.8 | J5: 22.3 | K5: 21.7 | L5: 21.1 | M5: 21.5 | N5: 20.9 | O5: 20.3 | P5: 23.8 | Q5: 27.4 | R5: 30.2 | S5: 28.3 | T5: 30.1 | U5: 29.9 | V5: 31.7 | W5: 30.8 | X5: 29.2 | Y5: 26.1 | Z5: 27.1 | AA5: 28.7
A6: Remote | B6: Males | C6: Age-standardised rate (per 100,000) | D6: 22.7 | E6: 33.3 | F6: 22.3 | G6: 27.8 | H6: 25 | I6: 34.4 | J6: 27.6 | K6: 18.7 | L6: 16.9 | M6: 31.5 | N6: 32.1 | O6: 28.5 | P6: 29.4 | Q6: 27.3 | R6: 30.9 | S6: 20.8 | T6: 27.9 | U6: 33.4 | V6: 26.3 | W6: 24 | X6: 33.3 | Y6: 40 | Z6: 33 | AA6: 39.2
A7: Very Remote | B7: Males | C7: Age-standardised rate (per 100,000) | D7: 44.8 | E7: 33.4 | F7: 30 | G7: 49.1 | H7: 29.5 | I7: 38.1 | J7: 48 | K7: 35.2 | L7: 38.8 | M7: 30 | N7: 30 | O7: 34 | P7: 28.5 | Q7: 32.1 | R7: 27.9 | S7: 37.2 | T7: 34.3 | U7: 30.1 | V7: 35 | W7: 30.2 | X7: 36.1 | Y7: 32.7 | Z7: 33.7 | AA7: 39.6
A8: Total Australia | B8: Males | C8: Age-standardised rate (per 100,000) | D8: 20.470846 | E8: 18.984416 | F8: 17.914424 | G8: 16.964809 | H8: 16.662653 | I8: 16.026471 | J8: 16.451598 | K8: 17.369796 | L8: 16.529996 | M8: 17.494787 | N8: 16.207465 | O8: 17.027363 | P8: 16.950009 | Q8: 18.929527 | R8: 19.732924 | S8: 18.2 | T8: 20 | U8: 19.6 | V8: 20.1 | W8: 18.8 | X8: 18.6 | Y8: 19.2 | Z8: 18.4 | AA8: 18.3
A9: Major Cities | B9: Females | C9: Age-standardised rate (per 100,000) | D9: 5.2 | E9: 4.8 | F9: 5 | G9: 4.2 | H9: 4 | I9: 4.5 | J9: 4.9 | K9: 4.6 | L9: 4.9 | M9: 4.8 | N9: 4.9 | O9: 5.2 | P9: 5.5 | Q9: 5.8 | R9: 5.9 | S9: 5.4 | T9: 6.3 | U9: 5.9 | V9: 5.7 | W9: 5.3 | X9: 5.5 | Y9: 5.8 | Z9: 5.4 | AA9: 4.8
A10: Inner Regional | B10: Females | C10: Age-standardised rate (per 100,000) | D10: 5.6 | E10: 5.5 | F10: 4.7 | G10: 4.7 | H10: 4.9 | I10: 5.4 | J10: 5.3 | K10: 4.2 | L10: 5.4 | M10: 4.7 | N10: 4.7 | O10: 6.6 | P10: 4.8 | Q10: 5.8 | R10: 6.9 | S10: 7.5 | T10: 6.8 | U10: 6.2 | V10: 7.4 | W10: 6.4 | X10: 7.6 | Y10: 7.2 | Z10: 7.6 | AA10: 6.6
A11: Outer Regional | B11: Females | C11: Age-standardised rate (per 100,000) | D11: 5.9 | E11: 5.6 | F11: 3.8 | G11: 4.2 | H11: 5.4 | I11: 4.3 | J11: 4.7 | K11: 6 | L11: 4.5 | M11: 6.8 | N11: 5.4 | O11: 5.9 | P11: 6.3 | Q11: 4.8 | R11: 7.5 | S11: 7 | T11: 7.8 | U11: 5.9 | V11: 8.6 | W11: 7.3 | X11: 8.3 | Y11: 6.7 | Z11: 8.3 | AA11: 8.9
A12: Remote | B12: Females | C12: Age-standardised rate (per 100,000) | D12: n.p. | E12: n.p. | F12: n.p. | G12: n.p. | H12: n.p. | I12: n.p. | J12: n.p. | K12: n.p. | L12: n.p. | M12: n.p. | N12: n.p. | O12: n.p. | P12: n.p. | Q12: n.p. | R12: n.p. | S12: n.p. | T12: n.p. | U12: n.p. | V12: n.p. | W12: n.p. | X12: n.p. | Y12: n.p. | Z12: n.p. | AA12: n.p.
A13: Very Remote | B13: Females | C13: Age-standardised rate (per 100,000) | D13: n.p. | E13: n.p. | F13: n.p. | G13: n.p. | H13: n.p. | I13: n.p. | J13: n.p. | K13: n.p. | L13: n.p. | M13: n.p. | N13: n.p. | O13: n.p. | P13: n.p. | Q13: n.p. | R13: n.p. | S13: n.p. | T13: n.p. | U13: n.p. | V13: n.p. | W13: n.p. | X13: n.p. | Y13: n.p. | Z13: n.p. | AA13: n.p.
A14: Total Australia | B14: Females | C14: Age-standardised rate (per 100,000) | D14: 5.3139942 | E14: 5.0622573 | F14: 4.7761143 | G14: 4.2968555 | H14: 4.32536 | I14: 4.7070475 | J14: 4.9815443 | K14: 4.7328407 | L14: 4.9728135 | M14: 5.0235761 | N14: 5.0731557 | O14: 5.638106 | P14: 5.674347 | Q14: 5.985993 | R14: 6.324892 | S14: 6 | T14: 6.7 | U14: 6 | V14: 6.4 | W14: 5.9 | X14: 6.2 | Y14: 6.2 | Z14: 6 | AA14: 5.5
A15: Major Cities | B15: Persons | C15: Age-standardised rate (per 100,000) | D15: 11.7 | E15: 10.6 | F15: 10.5 | G15: 9.5 | H15: 9.4 | I15: 9.2 | J15: 9.7 | K15: 10.1 | L15: 9.8 | M15: 10.1 | N15: 9.5 | O15: 9.8 | P15: 10 | Q15: 10.8 | R15: 11.4 | S15: 10.2 | T15: 11.7 | U15: 11.1 | V15: 11.2 | W15: 10.5 | X15: 10.2 | Y15: 10.9 | Z15: 10.3 | AA15: 9.9
A16: Inner Regional | B16: Persons | C16: Age-standardised rate (per 100,000) | D16: 13.8 | E16: 13.4 | F16: 12.2 | G16: 11.5 | H16: 11.5 | I16: 11.4 | J16: 11.5 | K16: 12 | L16: 12.3 | M16: 12.7 | N16: 11.9 | O16: 14.5 | P16: 12.3 | Q16: 15.5 | R16: 15.2 | S16: 15.9 | T16: 16.1 | U16: 15.3 | V16: 17.1 | W16: 15.2 | X16: 16.6 | Y16: 16.5 | Z16: 16.1 | AA16: 15.6
A17: Outer Regional | B17: Persons | C17: Age-standardised rate (per 100,000) | D17: 15.6 | E17: 15.3 | F17: 13.2 | G17: 13.3 | H17: 14 | I17: 12.1 | J17: 13.6 | K17: 13.9 | L17: 12.9 | M17: 14.1 | N17: 13.2 | O17: 13.2 | P17: 15.2 | Q17: 16.2 | R17: 18.9 | S17: 17.7 | T17: 19 | U17: 17.9 | V17: 20.1 | W17: 19.1 | X17: 18.8 | Y17: 16.5 | Z17: 17.8 | AA17: 18.8
A18: Remote | B18: Persons | C18: Age-standardised rate (per 100,000) | D18: 14.2 | E18: 20.5 | F18: 12.6 | G18: 16.8 | H18: 16.5 | I18: 21.1 | J18: 16.8 | K18: 11.9 | L18: 10.6 | M18: 19.6 | N18: 21.2 | O18: 19.7 | P18: 21.9 | Q18: 19.3 | R18: 21.4 | S18: 14.2 | T18: 17.5 | U18: 20.4 | V18: 18 | W18: 17.8 | X18: 21.5 | Y18: 24 | Z18: 20.3 | AA18: 23.6
A19: Very Remote | B19: Persons | C19: Age-standardised rate (per 100,000) | D19: 27.3 | E19: 21.7 | F19: 17.6 | G19: 28.2 | H19: 18.6 | I19: 22.7 | J19: 29.1 | K19: 24.5 | L19: 24.8 | M19: 20.5 | N19: 22.9 | O19: 25.8 | P19: 21.1 | Q19: 26.1 | R19: 18.9 | S19: 29.1 | T19: 25.8 | U19: 20.7 | V19: 28.4 | W19: 23.8 | X19: 23.9 | Y19: 24.5 | Z19: 21.5 | AA19: 25.4
A20: Total Australia | B20: Persons | C20: Age-standardised rate (per 100,000) | D20: 12.742413 | E20: 11.894706 | F20: 11.198916 | G20: 10.478018 | H20: 10.363343 | I20: 10.24261 | J20: 10.608124 | K20: 10.947696 | L20: 10.651016 | M20: 11.155254 | N20: 10.540164 | O20: 11.214762 | P20: 11.208746 | Q20: 12.341687 | R20: 12.900405 | S20: 12 | T20: 13.2 | U20: 12.7 | V20: 13.2 | W20: 12.2 | X20: 12.3 | Y20: 12.6 | Z20: 12.1 | AA20: 11.8
A21: Major Cities | B21: Males | C21: Crude rate (per 100,000) | D21: 18.7 | E21: 16.8 | F21: 16.4 | G21: 15.1 | H21: 15.2 | I21: 14.3 | J21: 14.9 | K21: 16 | L21: 15 | M21: 15.6 | N21: 14.5 | O21: 14.8 | P21: 14.8 | Q21: 16 | R21: 17.2 | S21: 15.3 | T21: 17.5 | U21: 16.7 | V21: 17 | W21: 16.1 | X21: 15.6 | Y21: 16.4 | Z21: 15.8 | AA21: 15.5
A22: Inner Regional | B22: Males | C22: Crude rate (per 100,000) | D22: 21.3 | E22: 20.5 | F22: 19.1 | G22: 17.7 | H22: 17.1 | I22: 16.8 | J22: 16.6 | K22: 19.6 | L22: 18.9 | M22: 20 | N22: 18.5 | O22: 21.7 | P22: 19.7 | Q22: 24.6 | R22: 23.1 | S22: 23.8 | T22: 24.4 | U22: 24 | V22: 25.9 | W22: 23.5 | X22: 25 | Y22: 25.5 | Z22: 24.7 | AA22: 24.5
A23: Outer Regional | B23: Males | C23: Crude rate (per 100,000) | D23: 24.3 | E23: 23.7 | F23: 21.5 | G23: 21.3 | H23: 21.5 | I23: 19.7 | J23: 22.8 | K23: 20.7 | L23: 20.7 | M23: 21.3 | N23: 20.5 | O23: 20.1 | P23: 23.8 | Q23: 27.3 | R23: 29.7 | S23: 27.6 | T23: 29.2 | U23: 29.7 | V23: 31 | W23: 30.4 | X23: 29.4 | Y23: 26.1 | Z23: 26.5 | AA23: 27.6
A24: Remote | B24: Males | C24: Crude rate (per 100,000) | D24: 22.1 | E24: 32 | F24: 21.5 | G24: 28.1 | H24: 24.2 | I24: 35.1 | J24: 23.3 | K24: 21.1 | L24: 13.9 | M24: 28.1 | N24: 30.4 | O24: 27.8 | P24: 27.7 | Q24: 26.2 | R24: 30.5 | S24: 20.2 | T24: 27.4 | U24: 32 | V24: 25.4 | W24: 23.9 | X24: 32.8 | Y24: 37.7 | Z24: 31.7 | AA24: 38.4
A25: Very Remote | B25: Males | C25: Crude rate (per 100,000) | D25: 44 | E25: 36.7 | F25: 29.4 | G25: 42.5 | H25: 29.6 | I25: 36.5 | J25: 39.3 | K25: 29.7 | L25: 34.2 | M25: 30.6 | N25: 32.6 | O25: 32.3 | P25: 28.9 | Q25: 28.7 | R25: 25.1 | S25: 35.9 | T25: 34.6 | U25: 29.3 | V25: 33.5 | W25: 30.9 | X25: 33.1 | Y25: 31 | Z25: 31.7 | AA25: 40
... A30: Remote | B30: Females | C30: Crude rate (per 100,000) | D30: 4.4 | E30: 5.8 | F30: 1.5 | G30: 4.4 | H30: 7.3 | I30: 5.8 | J30: 5.8 | K30: 3.6 | L30: 3.6 | M30: 5 | N30: 9.2 | O30: 9.8 | P30: 12.5 | Q30: 9.8 | R30: 10.5 | S30: 7 | T30: 6.3 | U30: 6.3 | V30: 8.4 | W30: 10.4 | X30: 7.6 | Y30: 6.2 | Z30: 6.8 | AA30: 6.8
A31: Very Remote | B31: Females | C31: Crude rate (per 100,000) | D31: 6.7 | E31: 8.9 | F31: n.p. | G31: 5.6 | H31: 5.6 | I31: 5.6 | J31: 10 | K31: 12 | L31: 7.6 | M31: 8.6 | N31: 14.8 | O31: 15.8 | P31: 11.6 | Q31: 19.1 | R31: 8.6 | S31: 19.3 | T31: 16.2 | U31: 10.8 | V31: 18.4 | W31: 17.3 | X31: 11.9 | Y31: 15 | Z31: 8.5 | AA31: 9.5
A32: Total Australia | B32: Females | C32: Crude rate (per 100,000) | D32: 5.4 | E32: 5.1 | F32: n.p. | G32: 4.4 | H32: 4.4 | I32: 4.8 | J32: 5.1 | K32: 4.8 | L32: 5.1 | M32: 5.1 | N32: 5.2 | O32: 5.7 | P32: 5.8 | Q32: 6.1 | R32: 6.4 | S32: 6.1 | T32: 6.8 | U32: 6.1 | V32: 6.5 | W32: 5.9 | X32: 6.2 | Y32: 6.4 | Z32: 6.1 | AA32: 5.7
A33: Major Cities | B33: Persons | C33: Crude rate (per 100,000) | D33: 11.9 | E33: 10.8 | F33: 10.6 | G33: 9.6 | H33: 9.6 | I33: 9.4 | J33: 10 | K33: 10.3 | L33: 9.9 | M33: 10.3 | N33: 9.7 | O33: 10 | P33: 10.2 | Q33: 10.9 | R33: 11.6 | S33: 10.4 | T33: 11.9 | U33: 11.3 | V33: 11.4 | W33: 10.7 | X33: 10.5 | Y33: 11.1 | Z33: 10.6 | AA33: 10.2
A34: Inner Regional | B34: Persons | C34: Crude rate (per 100,000) | D34: 13.3 | E34: 12.9 | F34: 11.8 | G34: 11.1 | H34: 10.9 | I34: 11 | J34: 10.7 | K34: 11.7 | L34: 12.1 | M34: 12.3 | N34: 11.6 | O34: 14.1 | P34: 12.2 | Q34: 15.1 | R34: 14.9 | S34: 15.4 | T34: 15.7 | U34: 15 | V34: 16.5 | W34: 14.8 | X34: 16.3 | Y34: 16.2 | Z34: 15.9 | AA34: 15.5
A35: Outer Regional | B35: Persons | C35: Crude rate (per 100,000) | D35: 15.2 | E35: 14.7 | F35: 12.8 | G35: 12.9 | H35: 13.5 | I35: 12.2 | J35: 13.8 | K35: 13.5 | L35: 12.7 | M35: 14.1 | N35: 13.1 | O35: 12.9 | P35: 15.1 | Q35: 16.2 | R35: 18.5 | S35: 17.4 | T35: 18.4 | U35: 17.9 | V35: 19.8 | W35: 18.9 | X35: 18.7 | Y35: 16.5 | Z35: 17.3 | AA35: 18
A36: Remote | B36: Persons | C36: Crude rate (per 100,000) | D36: 13.8 | E36: 19.6 | F36: 12 | G36: 16.9 | H36: 16.2 | I36: 21.3 | J36: 15 | K36: 12.9 | L36: 9 | M36: 17.3 | N36: 20.4 | O36: 19.3 | P36: 20.6 | Q36: 18.4 | R36: 21 | S36: 13.9 | T36: 17.3 | U36: 19.6 | V36: 17.2 | W36: 17.4 | X36: 20.7 | Y36: 22.5 | Z36: 19.7 | AA36: 23.2
A37: Very Remote | B37: Persons | C37: Crude rate (per 100,000) | D37: 26.7 | E37: 23.8 | F37: 17.2 | G37: 25.2 | H37: 18.3 | I37: 22 | J37: 25.7 | K37: 21.6 | L37: 22.1 | M37: 20.7 | N37: 24.6 | O37: 24.9 | P37: 21.1 | Q37: 24.4 | R37: 17.6 | S37: 28.2 | T37: 26 | U37: 20.7 | V37: 26.4 | W37: 24.5 | X37: 23 | Y37: 23.4 | Z37: 20.7 | AA37: 25.6
A38: Total Australia | B38: Persons | C38: Crude rate (per 100,000) | D38: 12.7 | E38: 11.9 | F38: 11.2 | G38: 10.5 | H38: 10.4 | I38: 10.4 | J38: 10.7 | K38: 11 | L38: 10.8 | M38: 11.3 | N38: 10.7 | O38: 11.3 | P38: 11.4 | Q38: 12.5 | R38: 13 | S38: 12.1 | T38: 13.4 | U38: 12.8 | V38: 13.3 | W38: 12.4 | X38: 12.5 | Y38: 12.8 | Z38: 12.4 | AA38: 12.2
A39: Major Cities | B39: Males | C39: Number | D39: 1233 | E39: 1124 | F39: 1112 | G39: 1037 | H39: 1058 | I39: 1012 | J39: 1080 | K39: 1182 | L39: 1134 | M39: 1206 | N39: 1134 | O39: 1180 | P39: 1210 | Q39: 1329 | R39: 1455 | S39: 1315 | T39: 1531 | U39: 1490 | V39: 1546 | W39: 1475 | X39: 1429 | Y39: 1527 | Z39: 1509 | AA39: 1520
A40: Inner Regional | B40: Males | C40: Number | D40: 378 | E40: 367 | F40: 346 | G40: 325 | H40: 317 | I40: 315 | J40: 316 | K40: 378 | L40: 371 | M40: 399 | N40: 373 | O40: 442 | P40: 405 | Q40: 512 | R40: 485 | S40: 504 | T40: 523 | U40: 522 | V40: 571 | W40: 525 | X40: 567 | Y40: 584 | Z40: 573 | AA40: 577
A41: Outer Regional | B41: Males | C41: Number | D41: 225 | E41: 221 | F41: 201 | G41: 200 | H41: 203 | I41: 188 | J41: 219 | K41: 202 | L41: 204 | M41: 212 | N41: 205 | O41: 203 | P41: 242 | Q41: 279 | R41: 304 | S41: 283 | T41: 301 | U41: 308 | V41: 323 | W41: 319 | X41: 311 | Y41: 278 | Z41: 285 | AA41: 299
A42: Remote | B42: Males | C42: Number | D42: 34 | E42: 49 | F42: 33 | G42: 43 | H42: 37 | I42: 54 | J42: 36 | K42: 33 | L42: 22 | M42: 45 | N42: 49 | O42: 45 | P42: 45 | Q42: 42 | R42: 48 | S42: 31 | T42: 42 | U42: 49 | V42: 39 | W42: 37 | X42: 51 | Y42: 59 | Z42: 50 | AA42: 61
A43: Very Remote | B43: Males | C43: Number | D43: 46 | E43: 38 | F43: 30 | G43: 43 | H43: 30 | I43: 37 | J43: 41 | K43: 32 | L43: 38 | M43: 35 | N43: 38 | O43: 38 | P43: 34 | Q43: 33 | R43: 28 | S43: 39 | T43: 37 | U43: 31 | V43: 35 | W43: 32 | X43: 34 | Y43: 32 | Z43: 33 | AA43: 42
A44: Total Australia | B44: Males | C44: Number | D44: 1936 | E44: 1817 | F44: 1737 | G44: 1661 | H44: 1658 | I44: 1624 | J44: 1699 | K44: 1833 | L44: 1785 | M44: 1914 | N44: 1812 | O44: 1929 | P44: 1958 | Q44: 2221 | R44: 2336 | S44: 2192 | T44: 2454 | U44: 2438 | V44: 2546 | W44: 2416 | X44: 2416 | Y44: 2507 | Z44: 2479 | AA44: 2529
... A56: Total Australia | B56: Persons | C56: Number | D56: 2457 | E56: 2320 | F56: 2214 | G56: 2098 | H56: 2102 | I56: 2118 | J56: 2229 | K56: 2341 | L56: 2337 | M56: 2480 | N56: 2393 | O56: 2579 | P56: 2629 | Q56: 2937 | R56: 3100 | S56: 2939 | T56: 3292 | U56: 3205 | V56: 3377 | W56: 3184 | X56: 3220 | Y56: 3340 | Z56: 3300 | AA56: 3307
A57: n.p. not available for publication but included in totals where applicable, unless otherwise indicated.
A59: Notes
A60: 1. Data cells with small values have been randomly assigned to protect the confidentiality of individuals. As a result, some totals will not equal the sum of their components. Cells with a zero value have not been affected by confidentialisation.
A61: 2. Deaths are counted according to year the death was registered by the Registries of Births, Deaths and Marriages (RBDM), not necessarily the year in which the death occurred.
A62: 3. Crude rates are per 100,000 population as at 30 June of the same year.
A63: 4. Age-standardised rates are per 100,000 standard population as detailed in the Explanatory notes.
A64: 5. Rates based on small numbers are volatile and unreliable. Age-standardised death rates based on less than 20 deaths and crude rates based on a very low death count are not published and appear as 'n.p.'.
A65: 6. For data by remoteness: Geography is based on area of usual residence. Deaths registered in 2001–2023 have been aligned to geography based on the Australian Statistical Geography Standard (ASGS) Edition 3 Remoteness Area structure. Correspondence files are sourced from Australian Statistical Geography Standard (ASGS) Edition 3.
A66: 7. Australia total includes deaths where place of usual residence was overseas, no fixed abode, offshore and migratory, and undefined (unknown/missing).
A67: 8. Deaths registered between 2006 and 2021 are based on the final version of cause of death data; deaths registered in 2022 are based on revised data; deaths registered in 2023 are based on preliminary revised data, and deaths registered in 2024 are based on preliminary data. Revised and preliminary data are subject to further revision by the ABS. Deaths registered prior to 2006 were not subject to a revisions process. Comparisons over time should be done with caution.

Sheet Table NMD 6
A1: Table NMD 6: Suicide by Primary Health Network, 2001 to 2024
A2: State/territory | B2: PHN name | C2: PHN code | D2: Measure | E2: 2001 | F2: 2002 | G2: 2003 | H2: 2004 | I2: 2005 | J2: 2006 | K2: 2007 | L2: 2008 | M2: 2009 | N2: 2010 | O2: 2011 | P2: 2012 | Q2: 2013 | R2: 2014 | S2: 2015 | T2: 2016 | U2: 2017 | V2: 2018 | W2: 2019 | X2: 2020 | Y2: 2021 | Z2: 2022 | AA2: 2023 | AB2: 2024
A3: NSW | B3: Central and Eastern Sydney | C3: PHN101 | D3: Age-standardised rate (per 100,000) | E3: 10.2 | F3: 8.7 | G3: 9.3 | H3: 8.3 | I3: 8.3 | J3: 8.2 | K3: 9.5 | L3: 7.8 | M3: 7.4 | N3: 9.9 | O3: 7.7 | P3: 7.5 | Q3: 8.5 | R3: 10.7 | S3: 9.3 | T3: 7.5 | U3: 10.2 | V3: 10.3 | W3: 8.9 | X3: 9.2 | Y3: 9.6 | Z3: 8.2 | AA3: 9.4 | AB3: 9
A4: NSW | B4: Northern Sydney | C4: PHN102 | D4: Age-standardised rate (per 100,000) | E4: 9.5 | F4: 9 | G4: 7.7 | H4: 6.5 | I4: 6 | J4: 5.9 | K4: 8.4 | L4: 6.7 | M4: 8.4 | N4: 8.2 | O4: 6.4 | P4: 7.4 | Q4: 8.2 | R4: 8.8 | S4: 7.5 | T4: 6.6 | U4: 8.5 | V4: 8.2 | W4: 7.6 | X4: 8.6 | Y4: 6.6 | Z4: 8.1 | AA4: 8.6 | AB4: 7.6
A5: NSW | B5: Western Sydney | C5: PHN103 | D5: Age-standardised rate (per 100,000) | E5: 9.4 | F5: 9.7 | G5: 7.3 | H5: 9.1 | I5: 8.1 | J5: 6.1 | K5: 7.5 | L5: 10.1 | M5: 5.9 | N5: 5.5 | O5: 6.1 | P5: 9.5 | Q5: 6.7 | R5: 8.4 | S5: 7.8 | T5: 8.2 | U5: 6.4 | V5: 8.2 | W5: 6.3 | X5: 6.2 | Y5: 6.9 | Z5: 8.8 | AA5: 6.2 | AB5: 6.2
A6: NSW | B6: Nepean Blue Mountains | C6: PHN104 | D6: Age-standardised rate (per 100,000) | E6: 15 | F6: 8 | G6: 12.7 | H6: 12.2 | I6: 9.2 | J6: 9.4 | K6: 11.8 | L6: 7.4 | M6: 12.9 | N6: 9.7 | O6: 9.6 | P6: 9.4 | Q6: 8.6 | R6: 13.8 | S6: 12.8 | T6: 12.8 | U6: 15.4 | V6: 13 | W6: 8.9 | X6: 11.3 | Y6: 10.4 | Z6: 11.4 | AA6: 10.2 | AB6: 11.9
A7: NSW | B7: South Western Sydney | C7: PHN105 | D7: Age-standardised rate (per 100,000) | E7: 9.2 | F7: 8.6 | G7: 9.8 | H7: 7.8 | I7: 8.3 | J7: 9.6 | K7: 8 | L7: 7 | M7: 8 | N7: 7.9 | O7: 7.6 | P7: 7.3 | Q7: 7.4 | R7: 8.9 | S7: 8.9 | T7: 7.5 | U7: 9.1 | V7: 9.8 | W7: 9.6 | X7: 7.3 | Y7: 6.9 | Z7: 8.8 | AA7: 8.1 | AB7: 7.4
A8: NSW | B8: South Eastern NSW | C8: PHN106 | D8: Age-standardised rate (per 100,000) | E8: 15.1 | F8: 12.8 | G8: 10.3 | H8: 9.7 | I8: 9.7 | J8: 9.8 | K8: 8.6 | L8: 12.8 | M8: 8.7 | N8: 14.1 | O8: 12.2 | P8: 12.2 | Q8: 11.4 | R8: 10.3 | S8: 13.9 | T8: 13 | U8: 14.9 | V8: 15 | W8: 16.5 | X8: 13 | Y8: 13.7 | Z8: 16 | AA8: 11.5 | AB8: 14
A9: NSW | B9: Western NSW | C9: PHN107 | D9: Age-standardised rate (per 100,000) | E9: 14.8 | F9: 14.3 | G9: 9.8 | H9: 10.5 | I9: 9.8 | J9: 8.5 | K9: n.p. | L9: 10.3 | M9: 9.8 | N9: 11.2 | O9: 8.8 | P9: 8.7 | Q9: 14.1 | R9: 13 | S9: 12.8 | T9: 13.4 | U9: 14.7 | V9: 16.9 | W9: 17.4 | X9: 18.7 | Y9: 19.9 | Z9: 16.4 | AA9: 21 | AB9: 17.2
A10: NSW | B10: Hunter New England and Central Coast | C10: PHN108 | D10: Age-standardised rate (per 100,000) | E10: 15.9 | F10: 13 | G10: 11 | H10: 10.5 | I10: 7.7 | J10: 10.6 | K10: 9.3 | L10: 9.1 | M10: 10.6 | N10: 9.8 | O10: 8.9 | P10: 13.9 | Q10: 12.3 | R10: 12.5 | S10: 14.8 | T10: 13.8 | U10: 15.1 | V10: 14.7 | W10: 17.2 | X10: 15.1 | Y10: 13.7 | Z10: 14.9 | AA10: 14.2 | AB10: 13.9
A11: NSW | B11: North Coast | C11: PHN109 | D11: Age-standardised rate (per 100,000) | E11: 14.5 | F11: 13.7 | G11: 11.2 | H11: 9 | I11: 9.9 | J11: 6.9 | K11: 8.9 | L11: 12.5 | M11: 11.3 | N11: 10 | O11: 10 | P11: 14.9 | Q11: 13.2 | R11: 16.2 | S11: 17.3 | T11: 17.8 | U11: 16.4 | V11: 16.4 | W11: 20.5 | X11: 17.4 | Y11: 22.6 | Z11: 13.9 | AA11: 16.6 | AB11: 16.5
A12: NSW | B12: Murrumbidgee | C12: PHN110 | D12: Age-standardised rate (per 100,000) | E12: 11.1 | F12: 9.8 | G12: 12.1 | H12: n.p. | I12: n.p. | J12: 12 | K12: 12.6 | L12: 8.2 | M12: 9.8 | N12: 10 | O12: 12 | P12: 11.8 | Q12: 10 | R12: 12.9 | S12: 15.8 | T12: 20.4 | U12: 20.2 | V12: 14.4 | W12: 16.5 | X12: 18.6 | Y12: 20.8 | Z12: 17 | AA12: 15.9 | AB12: 13.6
A13: Vic | B13: North Western Melbourne | C13: PHN201 | D13: Age-standardised rate (per 100,000) | E13: 9.7 | F13: 10 | G13: 9.3 | H13: 8.9 | I13: 9 | J13: 8.6 | K13: 8.5 | L13: 10.9 | M13: 9.1 | N13: 8.4 | O13: 7.3 | P13: 8 | Q13: 8.5 | R13: 9.4 | S13: 9.8 | T13: 9.5 | U13: 8.9 | V13: 8.7 | W13: 8.8 | X13: 8.5 | Y13: 7.3 | Z13: 10.6 | AA13: 9.1 | AB13: 9
A14: Vic | B14: Eastern Melbourne | C14: PHN202 | D14: Age-standardised rate (per 100,000) | E14: 10.2 | F14: 10.5 | G14: 10.1 | H14: 9.4 | I14: 8.8 | J14: 8 | K14: 8 | L14: 7.9 | M14: 7.4 | N14: 8.4 | O14: 7.4 | P14: 7.3 | Q14: 8 | R14: 9.2 | S14: 8.8 | T14: 8.1 | U14: 9.7 | V14: 8.5 | W14: 9.8 | X14: 8.3 | Y14: 8.6 | Z14: 8.8 | AA14: 9 | AB14: 8.4
A15: Vic | B15: South Eastern Melbourne | C15: PHN203 | D15: Age-standardised rate (per 100,000) | E15: 12.9 | F15: 10.7 | G15: 11.6 | H15: 10.1 | I15: 9.4 | J15: 9.2 | K15: 9 | L15: 10 | M15: 12.2 | N15: 10.4 | O15: 10.9 | P15: 9.5 | Q15: 8.7 | R15: 10.6 | S15: 12 | T15: 11.1 | U15: 12 | V15: 10.4 | W15: 10.3 | X15: 9.7 | Y15: 10.3 | Z15: 10.2 | AA15: 11.3 | AB15: 10
A16: Vic | B16: Gippsland | C16: PHN204 | D16: Age-standardised rate (per 100,000) | E16: 13.8 | F16: 13.7 | G16: 15.5 | H16: 16.6 | I16: 9.7 | J16: 11.6 | K16: 8.8 | L16: 15.1 | M16: 12.8 | N16: 11.5 | O16: 16.1 | P16: 12.2 | Q16: 12 | R16: 16 | S16: 15 | T16: 13.4 | U16: 13.7 | V16: 14.6 | W16: 16.8 | X16: 16.5 | Y16: 21.9 | Z16: 17.3 | AA16: 15.7 | AB16: 15.6
A17: Vic | B17: Murray | C17: PHN205 | D17: Age-standardised rate (per 100,000) | E17: 10.5 | F17: 12.5 | G17: 12.3 | H17: 12.3 | I17: 15.5 | J17: 11 | K17: 13.3 | L17: 11.2 | M17: 12.9 | N17: 11.4 | O17: 12.2 | P17: 11.1 | Q17: 11.6 | R17: 13.7 | S17: 15.4 | T17: 16.2 | U17: 15.4 | V17: 14.5 | W17: 17.8 | X17: 13.1 | Y17: 14.4 | Z17: 16.6 | AA17: 16.4 | AB17: 17
A18: Vic | B18: Western Victoria | C18: PHN206 | D18: Age-standardised rate (per 100,000) | E18: 12.4 | F18: 10.9 | G18: 11.3 | H18: 11.6 | I18: 12.4 | J18: 10.9 | K18: 11.2 | L18: 12.4 | M18: 14.1 | N18: 15.1 | O18: 9.6 | P18: 11.1 | Q18: 11.8 | R18: 16.5 | S18: 12.8 | T18: 12.7 | U18: 13.9 | V18: 13.4 | W18: 14.8 | X18: 13.1 | Y18: 12 | Z18: 14.7 | AA18: 13.2 | AB18: 15
A19: Qld | B19: Brisbane North | C19: PHN301 | D19: Age-standardised rate (per 100,000) | E19: 11.1 | F19: 12.6 | G19: 12.7 | H19: 10 | I19: 10.4 | J19: 9.1 | K19: 10.1 | L19: 10.1 | M19: 8.9 | N19: 9.7 | O19: 12.8 | P19: 11.6 | Q19: 13.3 | R19: 11 | S19: 13.4 | T19: 12.1 | U19: 13.5 | V19: 13.3 | W19: 13.6 | X19: 13.7 | Y19: 11.7 | Z19: 10.9 | AA19: 12.1 | AB19: 11.6
A20: Qld | B20: Brisbane South | C20: PHN302 | D20: Age-standardised rate (per 100,000) | E20: 11.6 | F20: 9.2 | G20: 13.3 | H20: 11.6 | I20: 9.4 | J20: 11 | K20: 10.1 | L20: 12.3 | M20: 10.9 | N20: 12.4 | O20: 10.6 | P20: 11.5 | Q20: 13.3 | R20: 11.1 | S20: 12.7 | T20: 11.4 | U20: 14.4 | V20: 14.4 | W20: 13.1 | X20: 12.9 | Y20: 11.1 | Z20: 12.8 | AA20: 12.1 | AB20: 10.7
A21: Qld | B21: Gold Coast | C21: PHN303 | D21: Age-standardised rate (per 100,000) | E21: 10.5 | F21: 11.8 | G21: 11.4 | H21: 9.5 | I21: 11 | J21: 11.1 | K21: 13 | L21: 14.2 | M21: 12.7 | N21: 13.1 | O21: 14.2 | P21: 14 | Q21: 13.4 | R21: 13.5 | S21: 15.1 | T21: 11.6 | U21: 17.9 | V21: 15.4 | W21: 12.8 | X21: 11.4 | Y21: 15.1 | Z21: 13.2 | AA21: 10.3 | AB21: 14.3
A22: Qld | B22: Darling Downs and West Moreton | C22: PHN304 | D22: Age-standardised rate (per 100,000) | E22: 12 | F22: 15.3 | G22: 11.5 | H22: 7.6 | I22: 10.4 | J22: 14.6 | K22: 13 | L22: 14.2 | M22: 15 | N22: 12.9 | O22: 12.5 | P22: 16 | Q22: 17.3 | R22: 15.4 | S22: 15.5 | T22: 15.4 | U22: 15.7 | V22: 16.3 | W22: 22.2 | X22: 20.9 | Y22: 18.9 | Z22: 16.3 | AA22: 17.9 | AB22: 13
A23: Qld | B23: Western Queensland | C23: PHN305 | D23: Age-standardised rate (per 100,000) | E23: n.p. | F23: n.p. | G23: n.p. | H23: n.p. | I23: n.p. | J23: n.p. | K23: n.p. | L23: n.p. | M23: n.p. | N23: n.p. | O23: n.p. | P23: n.p. | Q23: n.p. | R23: n.p. | S23: n.p. | T23: 35.4 | U23: n.p. | V23: n.p. | W23: n.p. | X23: n.p. | Y23: n.p. | Z23: n.p. | AA23: n.p. | AB23: n.p.
A24: Qld | B24: Central Queensland, Wide Bay, Sunshine Coast | C24: PHN306 | D24: Age-standardised rate (per 100,000) | E24: 16.9 | F24: 20.3 | G24: 13.7 | H24: 13.6 | I24: 12.7 | J24: 12.6 | K24: 14.5 | L24: 12.9 | M24: 14 | N24: 14.8 | O24: 11.8 | P24: 14.8 | Q24: 11.9 | R24: 16.2 | S24: 19 | T24: 16 | U24: 19.7 | V24: 19.8 | W24: 15.2 | X24: 15.7 | Y24: 17.7 | Z24: 19 | AA24: 17.6 | AB24: 14.8
A25: Qld | B25: Northern Queensland | C25: PHN307 | D25: Age-standardised rate (per 100,000) | E25: 19.5 | F25: 20.8 | G25: 11.5 | H25: 15.9 | I25: 16.4 | J25: 15.4 | K25: 16.2 | L25: 16.9 | M25: 12.7 | N25: 17.4 | O25: 15.2 | P25: 15.7 | Q25: 17.9 | R25: 18 | S25: 21.4 | T25: 18.6 | U25: 19.9 | V25: 19 | W25: 21.2 | X25: 18.3 | Y25: 20.1 | Z25: 19 | AA25: 16.3 | AB25: 20.7
A26: SA | B26: Adelaide | C26: PHN401 | D26: Age-standardised rate (per 100,000) | E26: 13.2 | F26: 11 | G26: 12.1 | H26: 10.7 | I26: 14.8 | J26: 11.5 | K26: 12.7 | L26: 10.4 | M26: 13 | N26: 11.5 | O26: 11.8 | P26: 10.9 | Q26: 11.6 | R26: 14.3 | S26: 12.7 | T26: 13.1 | U26: 11.6 | V26: 11.6 | W26: 12.8 | X26: 11.7 | Y26: 12.3 | Z26: 11.9 | AA26: 11.7 | AB26: 11.4
A27: SA | B27: Country SA | C27: PHN402 | D27: Age-standardised rate (per 100,000) | E27: 14.8 | F27: 11.2 | G27: 14.2 | H27: 13.3 | I27: 14.4 | J27: 10.7 | K27: 13 | L27: 12.8 | M27: 9.2 | N27: 11.3 | O27: 14.7 | P27: 13.8 | Q27: 12.6 | R27: 14.2 | S27: 14.9 | T27: 13.2 | U27: 16.3 | V27: 12.1 | W27: 16.6 | X27: 15.3 | Y27: 12.6 | Z27: 16.7 | AA27: 12.8 | AB27: 13.6
A28: WA | B28: Perth North | C28: PHN501 | D28: Age-standardised rate (per 100,000) | E28: 14.4 | F28: 11.4 | G28: 11.3 | H28: 8.5 | I28: 8.9 | J28: 8.4 | K28: 11.3 | L28: 12 | M28: 11.1 | N28: 11.3 | O28: 10.9 | P28: 13.8 | Q28: 12.5 | R28: 11.7 | S28: 13.1 | T28: 11.5 | U28: 15.4 | V28: 13.1 | W28: 14.6 | X28: 11.9 | Y28: 12.5 | Z28: 13.2 | AA28: 11.7 | AB28: 11.7
A29: WA | B29: Perth South | C29: PHN502 | D29: Age-standardised rate (per 100,000) | E29: 13.6 | F29: 12.3 | G29: 11.3 | H29: 10.8 | I29: 10 | J29: 12.8 | K29: 11.1 | L29: 15.4 | M29: 11.3 | N29: 14.2 | O29: 10.5 | P29: 14.2 | Q29: 12.4 | R29: 14.5 | S29: 16.2 | T29: 13 | U29: 15.1 | V29: 12.5 | W29: 14.4 | X29: 12.8 | Y29: 11.6 | Z29: 12.5 | AA29: 13 | AB29: 12.2
A30: WA | B30: Country WA | C30: PHN503 | D30: Age-standardised rate (per 100,000) | E30: 14.7 | F30: 14.3 | G30: 11.7 | H30: 10.6 | I30: 11.9 | J30: 16.9 | K30: 17.4 | L30: 14.5 | M30: 15.3 | N30: 16.6 | O30: 20.5 | P30: 17.9 | Q30: 16.5 | R30: 18.8 | S30: 19.6 | T30: 22.3 | U30: 18.3 | V30: 20 | W30: 18.6 | X30: 20.5 | Y30: 22.3 | Z30: 17.3 | AA30: 22.5 | AB30: 20.7
A31: Tas | B31: Tasmania | C31: PHN601 | D31: Age-standardised rate (per 100,000) | E31: 14 | F31: 15 | G31: 14.4 | H31: 18.6 | I31: 15 | J31: 14.6 | K31: 13.4 | L31: 15 | M31: 15.4 | N31: 13 | O31: 14.1 | P31: 13.2 | Q31: 13.8 | R31: 12.6 | S31: 16.2 | T31: 17.1 | U31: 14.9 | V31: 14.2 | W31: 18.4 | X31: 15.2 | Y31: 13.1 | Z31: 14.4 | AA31: 14.7 | AB31: 13.1
A32: NT | B32: Northern Territory | C32: PHN701 | D32: Age-standardised rate (per 100,000) | E32: 20.7 | F32: 26.6 | G32: 23.3 | H32: 24.4 | I32: 22.5 | J32: 15.2 | K32: 29.3 | L32: 17.5 | M32: 17.4 | N32: 18.8 | O32: 18.2 | P32: 18.1 | Q32: 14.2 | R32: 21.4 | S32: 19.1 | T32: 18.5 | U32: 20.2 | V32: 18.7 | W32: 19.9 | X32: 18.2 | Y32: 19 | Z32: 20.1 | AA32: 17.2 | AB32: 19.3
A33: ACT | B33: Australian Capital Territory | C33: PHN801 | D33: Age-standardised rate (per 100,000) | E33: 13.9 | F33: 8 | G33: 10 | H33: 8 | I33: 10.4 | J33: 9.1 | K33: 9.5 | L33: 10.1 | M33: 8.9 | N33: 11.3 | O33: 9.3 | P33: 6.2 | Q33: 9.6 | R33: 9.5 | S33: 11.1 | T33: 7.2 | U33: 14.2 | V33: 11.6 | W33: 11.9 | X33: 13.1 | Y33: 13.7 | Z33: 11.5 | AA33: 8.1 | AB33: 7.6
A34: Australia | B34: Total | C34: AUST | D34: Age-standardised rate (per 100,000) | E34: 12.742413 | F34: 11.894706 | G34: 11.198916 | H34: 10.478018 | I34: 10.363343 | J34: 10.24261 | K34: 10.608124 | L34: 10.947696 | M34: 10.651016 | N34: 11.155254 | O34: 10.540164 | P34: 11.214762 | Q34: 11.208746 | R34: 12.341687 | S34: 12.900405 | T34: 12 | U34: 13.2 | V34: 12.7 | W34: 13.2 | X34: 12.2 | Y34: 12.3 | Z34: 12.6 | AA34: 12.1 | AB34: 11.8
A35: NSW | B35: Central and Eastern Sydney | C35: PHN101 | D35: Crude rate (per 100,000) | E35: 10.9 | F35: 9.4 | G35: 9.8 | H35: 8.7 | I35: 8.9 | J35: 8.6 | K35: 10.1 | L35: 8.1 | M35: 7.7 | N35: 10.5 | O35: 8.4 | P35: 7.8 | Q35: 9 | R35: 11.1 | S35: 9.4 | T35: 7.8 | U35: 10.8 | V35: 11 | W35: 9.7 | X35: 9.9 | Y35: 10.6 | Z35: 9.3 | AA35: 9.8 | AB35: 9.9
... A98: Australia | B98: Total | C98: AUST | D98: Number | E98: 2457 | F98: 2320 | G98: 2214 | H98: 2098 | I98: 2102 | J98: 2118 | K98: 2229 | L98: 2341 | M98: 2337 | N98: 2480 | O98: 2393 | P98: 2579 | Q98: 2629 | R98: 2937 | S98: 3100 | T98: 2939 | U98: 3292 | V98: 3205 | W98: 3377 | X98: 3184 | Y98: 3220 | Z98: 3340 | AA98: 3300 | AB98: 3307
A99: n.p. not available for publication but included in totals where applicable, unless otherwise indicated.
A101: Notes
A102: 1. Data cells with small values have been randomly assigned to protect the confidentiality of individuals. As a result, some totals will not equal the sum of their components. Cells with a zero value have not been affected by confidentialisation.
A103: 2. Deaths are counted according to year the death was registered by the Registries of Births, Deaths and Marriages (RBDM), not necessarily the year in which the death occurred.
A104: 3. Crude rates are per 100,000 population as at 30 June of the same year.
A105: 4. Age-standardised rates are per 100,000 standard population as detailed in the Explanatory notes.
A106: 5. Rates based on small numbers are volatile and unreliable. Age-standardised death rates based on less than 20 deaths and crude rates based on a very low death count are not published and appear as 'n.p.'.
A107: 6. For data by Primary Health Network (PHN): Geography is based on area of usual residence – Statistical Local Area Level 2 (SA2) – classified according to the PHN 2023 structure. Correspondence files are sourced from Australian Statistical Geography Standard (ASGS) Edition 3.
A108: 7. Australia total includes deaths where place of usual residence was overseas, no fixed abode, offshore and migratory, and undefined (unknown/missing).
A109: 8. Deaths registered between 2006 and 2021 are based on the final version of cause of death data; deaths registered in 2022 are based on revised data; deaths registered in 2023 are based on preliminary revised data, and deaths registered in 2024 are based on preliminary data. Revised and preliminary data are subject to further revision by the ABS. Deaths registered prior to 2006 were not subject to a revisions process. Comparisons over time should be done with caution.

Sheet Table NMD 7
A1: Table NMD 7: Suicide by Statistical Area 4 and sex, 2014–2018 to 2020–2024
A2: State/territory | B2: SA4 | C2: SA4 name | D2: Sex | E2: 5 year period | F2: Population (last year only) | G2: Deaths | H2: SA4 CR (per 100,000) | I2: State CR (per 100,000) | J2: Australia CR (per 100,000) | K2: SA4 ASR (per 100,000) | L2: State ASR (per 100,000) | M2: Australia ASR (per 100,000)
A3: New South Wales | B3: 101 | C3: Capital Region | D3: Males | E3: 2014–2018 | F3: 115452 | G3: 143 | H3: 25.5 | I3: 17.3 | J3: 19.4 | K3: 25.7 | L3: 17.1 | M3: 19.3
A4: New South Wales | B4: 102 | C4: Central Coast | D4: Males | E4: 2014–2018 | F4: 167631 | G4: 167 | H4: 20.3 | I4: 17.3 | J4: 19.4 | K4: 20.6 | L4: 17.1 | M4: 19.3
A5: New South Wales | B5: 103 | C5: Central West | D5: Males | E5: 2014–2018 | F5: 106591 | G5: 133 | H5: 25.3 | I5: 17.3 | J5: 19.4 | K5: 25.7 | L5: 17.1 | M5: 19.3
A6: New South Wales | B6: 104 | C6: Coffs Harbour - Grafton | D6: Males | E6: 2014–2018 | F6: 69860 | G6: 86 | H6: 25.2 | I6: 17.3 | J6: 19.4 | K6: 26.9 | L6: 17.1 | M6: 19.3
A7: New South Wales | B7: 105 | C7: Far West and Orana | D7: Males | E7: 2014–2018 | F7: 58648 | G7: 62 | H7: 21.3 | I7: 17.3 | J7: 19.4 | K7: 21.5 | L7: 17.1 | M7: 19.3
A8: New South Wales | B8: 106 | C8: Hunter Valley exc Newcastle | D8: Males | E8: 2014–2018 | F8: 139127 | G8: 150 | H8: 22.4 | I8: 17.3 | J8: 19.4 | K8: 23.3 | L8: 17.1 | M8: 19.3
A9: New South Wales | B9: 107 | C9: Illawarra | D9: Males | E9: 2014–2018 | F9: 152607 | G9: 122 | H9: 16.3 | I9: 17.3 | J9: 19.4 | K9: 16.9 | L9: 17.1 | M9: 19.3
A10: New South Wales | B10: 108 | C10: Mid North Coast | D10: Males | E10: 2014–2018 | F10: 108587 | G10: 140 | H10: 26.5 | I10: 17.3 | J10: 19.4 | K10: 29.9 | L10: 17.1 | M10: 19.3
A11: New South Wales | B11: 109 | C11: Murray | D11: Males | E11: 2014–2018 | F11: 59654 | G11: 71 | H11: 24.3 | I11: 17.3 | J11: 19.4 | K11: 25.4 | L11: 17.1 | M11: 19.3
A12: New South Wales | B12: 110 | C12: New England and North West | D12: Males | E12: 2014–2018 | F12: 92641 | G12: 118 | H12: 25.8 | I12: 17.3 | J12: 19.4 | K12: 26.4 | L12: 17.1 | M12: 19.3
A13: New South Wales | B13: 111 | C13: Newcastle and Lake Macquarie | D13: Males | E13: 2014–2018 | F13: 186795 | G13: 184 | H13: 20.2 | I13: 17.3 | J13: 19.4 | K13: 20.2 | L13: 17.1 | M13: 19.3
A14: New South Wales | B14: 112 | C14: Richmond - Tweed | D14: Males | E14: 2014–2018 | F14: 122495 | G14: 149 | H14: 24.8 | I14: 17.3 | J14: 19.4 | K14: 25.8 | L14: 17.1 | M14: 19.3
... A94: New South Wales | B94: 104 | C94: Coffs Harbour - Grafton | D94: Females | E94: 2014–2018 | F94: 72334 | G94: 32 | H94: 9 | I94: 5.4 | J94: 6.3 | K94: 9.9 | L94: 5.3 | M94: 6.2
A95: New South Wales | B95: 105 | C95: Far West and Orana | D95: Females | E95: 2014–2018 | F95: 58915 | G95: 15 | H95: 5.1 | I95: 5.4 | J95: 6.3 | K95: n.p. | L95: 5.3 | M95: 6.2
A96: New South Wales | B96: 106 | C96: Hunter Valley exc Newcastle | D96: Females | E96: 2014–2018 | F96: 139098 | G96: 37 | H96: 5.5 | I96: 5.4 | J96: 6.3 | K96: 5.8 | L96: 5.3 | M96: 6.2
A97: New South Wales | B97: 107 | C97: Illawarra | D97: Females | E97: 2014–2018 | F97: 155606 | G97: 40 | H97: 5.2 | I97: 5.4 | J97: 6.3 | K97: 5.4 | L97: 5.3 | M97: 6.2
A98: New South Wales | B98: 108 | C98: Mid North Coast | D98: Females | E98: 2014–2018 | F98: 113150 | G98: 30 | H98: 5.4 | I98: 5.4 | J98: 6.3 | K98: 5.1 | L98: 5.3 | M98: 6.2
A99: New South Wales | B99: 109 | C99: Murray | D99: Females | E99: 2014–2018 | F99: 60649 | G99: 21 | H99: 7 | I99: 5.4 | J99: 6.3 | K99: 7.8 | L99: 5.3 | M99: 6.2
A100: New South Wales | B100: 110 | C100: New England and North West | D100: Females | E100: 2014–2018 | F100: 94686 | G100: 24 | H100: 5.1 | I100: 5.4 | J100: 6.3 | K100: 5 | L100: 5.3 | M100: 6.2
A101: New South Wales | B101: 111 | C101: Newcastle and Lake Macquarie | D101: Females | E101: 2014–2018 | F101: 191779 | G101: 63 | H101: 6.7 | I101: 5.4 | J101: 6.3 | K101: 6.8 | L101: 5.3 | M101: 6.2
A102: New South Wales | B102: 112 | C102: Richmond - Tweed | D102: Females | E102: 2014–2018 | F102: 128607 | G102: 53 | H102: 8.4 | I102: 5.4 | J102: 6.3 | K102: 8.5 | L102: 5.3 | M102: 6.2
A103: New South Wales | B103: 113 | C103: Riverina | D103: Females | E103: 2014–2018 | F103: 80627 | G103: 18 | H103: 4.5 | I103: 5.4 | J103: 6.3 | K103: n.p. | L103: 5.3 | M103: 6.2
A104: New South Wales | B104: 114 | C104: Southern Highlands and Shoalhaven | D104: Females | E104: 2014–2018 | F104: 78507 | G104: 24 | H104: 6.3 | I104: 5.4 | J104: 6.3 | K104: 7 | L104: 5.3 | M104: 6.2
A105: New South Wales | B105: 115 | C105: Sydney - Baulkham Hills and Hawkesbury | D105: Females | E105: 2014–2018 | F105: 123582 | G105: 26 | H105: 4.4 | I105: 5.4 | J105: 6.3 | K105: 4.4 | L105: 5.3 | M105: 6.2
A106: New South Wales | B106: 116 | C106: Sydney - Blacktown | D106: Females | E106: 2014–2018 | F106: 185667 | G106: 31 | H106: 3.5 | I106: 5.4 | J106: 6.3 | K106: 3.6 | L106: 5.3 | M106: 6.2
A107: New South Wales | B107: 117 | C107: Sydney - City and Inner South | D107: Females | E107: 2014–2018 | F107: 168300 | G107: 65 | H107: 8 | I107: 5.4 | J107: 6.3 | K107: 8.2 | L107: 5.3 | M107: 6.2
A108: New South Wales | B108: 118 | C108: Sydney - Eastern Suburbs | D108: Females | E108: 2014–2018 | F108: 144511 | G108: 55 | H108: 7.6 | I108: 5.4 | J108: 6.3 | K108: 7.3 | L108: 5.3 | M108: 6.2
A109: New South Wales | B109: 119 | C109: Sydney - Inner South West | D109: Females | E109: 2014–2018 | F109: 306549 | G109: 72 | H109: 4.8 | I109: 5.4 | J109: 6.3 | K109: 4.6 | L109: 5.3 | M109: 6.2
A110: New South Wales | B110: 120 | C110: Sydney - Inner West | D110: Females | E110: 2014–2018 | F110: 159342 | G110: 38 | H110: 4.8 | I110: 5.4 | J110: 6.3 | K110: 4.7 | L110: 5.3 | M110: 6.2
A111: New South Wales | B111: 121 | C111: Sydney - North Sydney and Hornsby | D111: Females | E111: 2014–2018 | F111: 222901 | G111: 51 | H111: 4.7 | I111: 5.4 | J111: 6.3 | K111: 4.5 | L111: 5.3 | M111: 6.2
A112: New South Wales | B112: 122 | C112: Sydney - Northern Beaches | D112: Females | E112: 2014–2018 | F112: 136299 | G112: 27 | H112: 4 | I112: 5.4 | J112: 6.3 | K112: 3.7 | L112: 5.3 | M112: 6.2
A113: New South Wales | B113: 123 | C113: Sydney - Outer South West | D113: Females | E113: 2014–2018 | F113: 143003 | G113: 31 | H113: 4.6 | I113: 5.4 | J113: 6.3 | K113: 4.6 | L113: 5.3 | M113: 6.2
A114: New South Wales | B114: 124 | C114: Sydney - Outer West and Blue Mountains | D114: Females | E114: 2014–2018 | F114: 163990 | G114: 43 | H114: 5.4 | I114: 5.4 | J114: 6.3 | K114: 5.2 | L114: 5.3 | M114: 6.2
A115: New South Wales | B115: 125 | C115: Sydney - Parramatta | D115: Females | E115: 2014–2018 | F115: 239018 | G115: 47 | H115: 4.1 | I115: 5.4 | J115: 6.3 | K115: 4 | L115: 5.3 | M115: 6.2
... A118: New South Wales | B118: 128 | C118: Sydney - Sutherland | D118: Females | E118: 2014–2018 | F118: 115483 | G118: 28 | H118: 4.9 | I118: 5.4 | J118: 6.3 | K118: 4.5 | L118: 5.3 | M118: 6.2
A119: Victoria | B119: 201 | C119: Ballarat | D119: Females | E119: 2014–2018 | F119: 83826 | G119: 19 | H119: 4.7 | I119: 5.7 | J119: 6.3 | K119: n.p. | L119: 5.6 | M119: 6.2
A120: Victoria | B120: 202 | C120: Bendigo | D120: Females | E120: 2014–2018 | F120: 81593 | G120: 38 | H120: 9.6 | I120: 5.7 | J120: 6.3 | K120: 10.1 | L120: 5.6 | M120: 6.2
A121: Victoria | B121: 203 | C121: Geelong | D121: Females | E121: 2014–2018 | F121: 154208 | G121: 42 | H121: 5.8 | I121: 5.7 | J121: 6.3 | K121: 5.6 | L121: 5.6 | M121: 6.2
A122: Victoria | B122: 204 | C122: Hume | D122: Females | E122: 2014–2018 | F122: 89273 | G122: 32 | H122: 7.4 | I122: 5.7 | J122: 6.3 | K122: 7.2 | L122: 5.6 | M122: 6.2
A123: Victoria | B123: 205 | C123: Latrobe - Gippsland | D123: Females | E123: 2014–2018 | F123: 143910 | G123: 28 | H123: 4 | I123: 5.7 | J123: 6.3 | K123: 4.1 | L123: 5.6 | M123: 6.2
A124: Victoria | B124: 206 | C124: Melbourne - Inner | D124: Females | E124: 2014–2018 | F124: 338296 | G124: 107 | H124: 6.6 | I124: 5.7 | J124: 6.3 | K124: 6 | L124: 5.6 | M124: 6.2
A125: Victoria | B125: 207 | C125: Melbourne - Inner East | D125: Females | E125: 2014–2018 | F125: 199703 | G125: 52 | H125: 5.3 | I125: 5.7 | J125: 6.3 | K125: 5.2 | L125: 5.6 | M125: 6.2
A126: Victoria | B126: 208 | C126: Melbourne - Inner South | D126: Females | E126: 2014–2018 | F126: 224059 | G126: 68 | H126: 6.2 | I126: 5.7 | J126: 6.3 | K126: 5.8 | L126: 5.6 | M126: 6.2
A127: Victoria | B127: 209 | C127: Melbourne - North East | D127: Females | E127: 2014–2018 | F127: 271859 | G127: 86 | H127: 6.6 | I127: 5.7 | J127: 6.3 | K127: 6.3 | L127: 5.6 | M127: 6.2
A128: Victoria | B128: 210 | C128: Melbourne - North West | D128: Females | E128: 2014–2018 | F128: 203188 | G128: 32 | H128: 3.4 | I128: 5.7 | J128: 6.3 | K128: 3.4 | L128: 5.6 | M128: 6.2
A129: Victoria | B129: 211 | C129: Melbourne - Outer East | D129: Females | E129: 2014–2018 | F129: 268172 | G129: 73 | H129: 5.5 | I129: 5.7 | J129: 6.3 | K129: 5.3 | L129: 5.6 | M129: 6.2
A130: Victoria | B130: 212 | C130: Melbourne - South East | D130: Females | E130: 2014–2018 | F130: 415964 | G130: 91 | H130: 4.6 | I130: 5.7 | J130: 6.3 | K130: 4.7 | L130: 5.6 | M130: 6.2
A131: Victoria | B131: 213 | C131: Melbourne - West | D131: Females | E131: 2014–2018 | F131: 406078 | G131: 82 | H131: 4.3 | I131: 5.7 | J131: 6.3 | K131: 4.3 | L131: 5.6 | M131: 6.2
