Workbook

Sheet Contents
B3: Suicide and Self-harm Monitoring
B4: National Mortality Database – Suicide (ICD-10 X60–X84, Y87.0)
B5: Published: 1 April 2026
B7: Contents
B8: ='Table NMD 1'!A1 -> Table NMD 1: Suicide by sex, 1907 to 2024
B9: ='Table NMD 2'!A1 -> Table NMD 2: Suicide by sex and 5-year age group, 1968 to 2024
B11: ='Table NMD 3a'!A1 -> Table NMD 3a: Suicide by sex, registration year and state and territory, 1979 to 2024
B12: ='Table NMD 3b'!A1 -> Table NMD 3b: Suicide by sex, year of occurrence and state and territory, 1979 to 2024
B13: ='Table NMD 4a'!A1 -> Table NMD 4a: Suicide by state and territory, and age group, 2001–2005 to 2020–2024
B14: ='Table NMD 4b'!A1 -> Table NMD 4b: Suicide by year of occurence and state and territory, and age group, 2001–2005 to 2020–2024
B16: ='Table NMD 5'!A1 -> Table NMD 5: Suicide by Remoteness area and sex, 2001 to 2024
B17: ='Table NMD 6'!A1 -> Table NMD 6: Suicide by Primary Health Network, 2001 to 2024
B18: ='Table NMD 7'!A1 -> Table NMD 7: Suicide by Statistical Area 4 and sex, 2014–2018 to 2020–2024
B19: ='Table NMD 8'!A1 -> Table NMD 8: Suicide by Statistical Area 3, 2014–2018 to 2020–2024
B21: ='Table NMD 9a'!A1 -> Table NMD 9a: Suicide by Indigenous status and sex, 2011 to 2024
B22: ='Table NMD 9b'!A1 -> Table NMD 9b: Suicide by year of occurrence, Indigenous status, and sex, 2011 to 2024
B23: ='Table NMD 10'!A1 -> Table NMD 10: Suicide by Indigenous status and age group, 2011–2015 to 2020–2024
B24: ='Table NMD 11'!A1 -> Table NMD 11: Suicide by Indigenous status,state and territory, and sex, 2011–2015 to 2020–2024
B25: ='Table NMD 12'!A1 -> Table NMD 12: Suicide by Indigenous status, state and territory, and age group, 2011–2015 to 2020–2024
B27: ='Table NMD 13a'!A1 -> Table NMD 13a: Suicide among children and young people, 2001 to 2024
B28: ='Table NMD 13b'!A1 -> Table NMD 13b: Suicide among children and young people, by year of occurrence, 2001 to 2024
B30: ='Table NMD 14'!A1 -> Table NMD 14: Suicide by mechanism and sex, 1907 to 2024
B31: ='Table NMD 15'!A1 -> Table NMD 15: Suicide by mechanism and socioeconomic area (IRSAD), 2011 to 2024
B33: ='Table NMD 16'!A1 -> Table NMD 16: Deaths of despair: Suicide, alcohol and other drug-related deaths by sex, 1997 to 2024
B34: ='Table NMD 17'!A1 -> Table NMD 17: Suicide and most frequent psychosocial risk factors, by sex and age group, 2017 to 2024
B36: ='Explanatory notes'!A1 -> Explanatory notes

Sheet Explanatory notes
A1: Explanatory notes
A3: Data source
A4: Deaths data is from the Australian Bureau of Statistics (Causes of Death, Australia, 2024 and Intentional self-harm (suicide) deaths, 2024) and the AIHW National Mortality Database..
A5: Cause of Death Unit Record File data are provided to the AIHW by the Registries of Births, Deaths and Marriages and the National Coronial Information System (managed by the Victorian Department of Justice) and include cause of death coded by the Australian Bureau of Statistics (ABS). The data are maintained by the AIHW in the National Mortality Database.
A7: Notes
A8: 1. Information about deaths is collected on death certificates and certified by either a medical practitioner or a coroner. Registration of deaths is compulsory in Australia and is the responsibility of each state and territory Registrar of Births, Deaths and Marriages under jurisdiction-specific legislation. On behalf of the Registrars, deaths data are assembled, coded and published by statistical agencies. These agencies have varied since 1900 and have included state based statistical offices, the Commonwealth Statistician's Office and the Commonwealth Bureau of Census and Statistics, now known as the Australian Bureau of Statistics (ABS). Causes of Death Unit Record File data are provided to the AIHW by the Australian Coordinating Registry on behalf of the jurisdictional Registries of Births, Deaths and Marriages and the National Coronial Information System (managed by the Victorian Department of Justice) and include cause of death coded by the ABS. The data are maintained by the AIHW in the National Mortality Database
A9: 2. Interpret data derived from Victorian coroner referred deaths with caution. Refer to Historical considerations in the Data Quality section of the ABS Causes of Death Methodology for more detail.
A10: 3. Causes of death are coded by the ABS to the International Statistical Classification of Diseases and Related Health Problems (ICD).
A11: 4. Deaths in this workbook are counted according to year of registration of death, except for NMD 3b, 4b, 9b and 13b which are counted according to the year in which the death occurred. Deaths registered up to August 2025 that occurred in earlier years have been included. Interpret year of occurrence data for 2024 with caution as it is expected to increase with further revisions.
A12: 5. Deaths registered between 2006 and 2021 are based on the final version of cause of death data; deaths registered in 2022 are based on revised data; deaths registered in 2023 are based on preliminary revised data, and deaths registered in 2024 are based on preliminary data. Revised and preliminary data are subject to further revision by the ABS. Deaths registered prior to 2006 were not subject to a revisions process.
A13: 6. For data by geographies other than Australia, cells with small values have been randomly assigned to protect the confidentiality of individuals. As a result, some totals will not equal the sum of their components. Cells with a zero value have not been affected by confidentialisation.
A14: 7. For data by state, the state is based on area of usual residence.
... A25: Where to get more information
A26: AIHW life expectancy and deaths webpage | B26: https://www.aihw.gov.au/reports-statistics/health-conditions-disability-deaths/life-expectancy-deaths/overview
A27: AIHW Australia's health | B27: https://www.aihw.gov.au/reports/australias-health/australias-health-2024-in-brief/summary
A28: AIHW data request tool | B28: http://datarequest.aihw.gov.au
A30: Methods
A31: Classification and coding
A32: Data for Suicide (X60–X84, Y87.0) are from the ICD-10 chapter All external causes of morbidity and mortality (V01–Y98).
A33: Suicide deaths by firearms
A34: ICD version and years | B34: ICD codes
A35: ICD-7 1958–1967 | B35: E976
A36: ICD-8 1968–1978 | B36: E955
A37: ICD-9 1979–1996 | B37: E955
A38: ICD-10 1997–present | B38: X72–X75
A40: Suicide deaths by gas
A41: ICD version and years | B41: ICD codes
A42: ICD-7 1958–1967 | B42: E972, E973
A43: ICD-8 1968–1978 | B43: E951, E952
A44: ICD-9 1979–1996 | B44: E951, E952
A45: ICD-10 1997–present | B45: X67
A47: Suicide deaths by hanging
A48: ICD version and years | B48: ICD codes
A49: ICD-7 1958–1967 | B49: E974
A50: ICD-8 1968–1978 | B50: E953
A51: ICD-9 1979–1996 | B51: E953
A52: ICD-10 1997–present | B52: X70
A54: Suicide deaths by poisoning (except gas)
A55: ICD version and years | B55: ICD codes
A56: ICD-7 1958–1967 | B56: E970, E971
...

Sheet Table NMD 1
A1: Table NMD 1: Suicide by sex, 1907 to 2024
A2: Sex | B2: Measure | C2: 1907 | D2: 1908 | E2: 1909 | F2: 1910 | G2: 1911 | H2: 1912 | I2: 1913 | J2: 1914 | K2: 1915 | L2: 1916 | M2: 1917 | N2: 1918 | O2: 1919 | P2: 1920 | Q2: 1921 | R2: 1922 | S2: 1923 | T2: 1924 | U2: 1925 | V2: 1926 | W2: 1927 | X2: 1928 | Y2: 1929 | Z2: 1930 | AA2: 1931 | AB2: 1932 | AC2: 1933 | AD2: 1934 | AE2: 1935 | AF2: 1936 | AG2: 1937 | AH2: 1938 | AI2: 1939 | AJ2: 1940 | AK2: 1941 | AL2: 1942 | AM2: 1943 | AN2: 1944 | AO2: 1945 | AP2: 1946 | AQ2: 1947 | AR2: 1948 | AS2: 1949 | AT2: 1950 | AU2: 1951 | AV2: 1952 | AW2: 1953 | AX2: 1954 | AY2: 1955 | AZ2: 1956 | BA2: 1957 | BB2: 1958 | BC2: 1959 | BD2: 1960 | BE2: 1961 | BF2: 1962 | BG2: 1963 | BH2: 1964 | BI2: 1965 | BJ2: 1966 | BK2: 1967 | BL2: 1968 | BM2: 1969 | BN2: 1970 | BO2: 1971 | BP2: 1972 | BQ2: 1973 | BR2: 1974 | BS2: 1975 | BT2: 1976 | BU2: 1977 | BV2: 1978 | BW2: 1979 | BX2: 1980 | BY2: 1981 | BZ2: 1982 | CA2: 1983 | CB2: 1984 | CC2: 1985 | CD2: 1986 | CE2: 1987 | CF2: 1988 | CG2: 1989 | CH2: 1990 | CI2: 1991 | CJ2: 1992 | CK2: 1993 | CL2: 1994 | CM2: 1995 | CN2: 1996 | CO2: 1997 | CP2: 1998 | CQ2: 1999 | CR2: 2000 | CS2: 2001 | CT2: 2002 | CU2: 2003 | CV2: 2004 | CW2: 2005 | CX2: 2006 | CY2: 2007 | CZ2: 2008 | DA2: 2009 | DB2: 2010 | DC2: 2011 | DD2: 2012 | DE2: 2013 | DF2: 2014 | DG2: 2015 | DH2: 2016 | DI2: 2017 | DJ2: 2018 | DK2: 2019 | DL2: 2020 | DM2: 2021 | DN2: 2022 | DO2: 2023 | DP2: 2024
A3: Males | B3: Age-standardised rate (per 100,000) | C3: 26.694265 | D3: 25.347353 | E3: 25.010777 | F3: 26.719395 | G3: 26.071404 | H3: 27.995992 | I3: 27.996913 | J3: 28.098961 | K3: 29.062544 | L3: 24.975613 | M3: 21.219313 | N3: 21.191652 | O3: 21.370183 | P3: 26.355633 | Q3: 23.799437 | R3: 21.355633 | S3: 21.745575 | T3: 23.282278 | U3: 25.24886 | V3: 24.415377 | W3: 24.359454 | X3: 26.032767 | Y3: 23.85409 | Z3: 29.811501 | AA3: 26.48876 | AB3: 22.309652 | AC3: 22.562128 | AD3: 23.47082 | AE3: 21.996594 | AF3: 21.754291 | AG3: 19.855349 | AH3: 19.520225 | AI3: 20.364503 | AJ3: 18.610279 | AK3: 15.693309 | AL3: 13.931795 | AM3: 12.82597 | AN3: 11.967415 | AO3: 12.789059 | AP3: 16.132097 | AQ3: 17.133364 | AR3: 17.934263 | AS3: 17.775001 | AT3: 16.711891 | AU3: 16.46323 | AV3: 18.656603 | AW3: 18.622697 | AX3: 18.922246 | AY3: 18.073519 | AZ3: 18.609603 | BA3: 20.795828 | BB3: 22.028405 | BC3: 19.485666 | BD3: 17.962066 | BE3: 20.151751 | BF3: 22.510274 | BG3: 24.964694 | BH3: 23.276663 | BI3: 22.334844 | BJ3: 21.257443 | BK3: 23.020759 | BL3: 20.428645 | BM3: 20.329184 | BN3: 20.642159 | BO3: 20.943251 | BP3: 19.289951 | BQ3: 17.952658 | BR3: 18.241194 | BS3: 17.633651 | BT3: 17.966023 | BU3: 18.137791 | BV3: 17.462612 | BW3: 18.174717 | BX3: 18.118688 | BY3: 18.726711 | BZ3: 18.950561 | CA3: 18.594096 | CB3: 18.06271 | CC3: 19.067239 | CD3: 20.245839 | CE3: 23.30122 | CF3: 21.905895 | CG3: 20.554625 | CH3: 21.004965 | CI3: 22.152448 | CJ3: 21.349795 | CK3: 19.665193 | CL3: 21.093427 | CM3: 21.21226 | CN3: 21.615502 | CO3: 23.716 | CP3: 23.35793 | CQ3: 21.734338 | CR3: 20.019379 | CS3: 20.470846 | CT3: 18.984416 | CU3: 17.914424 | CV3: 16.964809 | CW3: 16.662653 | CX3: 16.026471 | CY3: 16.451598 | CZ3: 17.369796 | DA3: 16.529996 | DB3: 17.494787 | DC3: 16.207465 | DD3: 17.027363 | DE3: 16.950009 | DF3: 18.929527 | DG3: 19.732924 | DH3: 18.2 | DI3: 20 | DJ3: 19.6 | DK3: 20.1 | DL3: 18.8 | DM3: 18.6 | DN3: 19.2 | DO3: 18.4 | DP3: 18.3
A4: Females | B4: Age-standardised rate (per 100,000) | C4: 5.2225526 | D4: 4.6663325 | E4: 5.3075624 | F4: 4.935708 | G4: 5.4595906 | H4: 5.9598204 | I4: 6.7097411 | J4: 5.4410025 | K4: 6.1458059 | L4: 5.3257542 | M4: 4.2691815 | N4: 4.3094657 | O4: 5.0908007 | P4: 5.4207142 | Q4: 4.9756697 | R4: 3.8935525 | S4: 4.4418698 | T4: 4.9115584 | U4: 5.2539461 | V4: 5.3120337 | W4: 5.48648 | X4: 5.4117468 | Y4: 5.1353571 | Z4: 5.3375197 | AA4: 4.8957077 | AB4: 5.4508141 | AC4: 5.2482939 | AD4: 6.0809172 | AE4: 6.0015048 | AF4: 5.8091363 | AG4: 4.8440062 | AH4: 5.3361395 | AI4: 5.6116563 | AJ4: 5.5060401 | AK4: 4.8138302 | AL4: 4.7986872 | AM4: 4.2982244 | AN4: 5.1720909 | AO4: 5.0525089 | AP4: 6.5053852 | AQ4: 5.6890429 | AR4: 4.6348263 | AS4: 4.7311627 | AT4: 5.1095135 | AU4: 5.1762631 | AV4: 5.9149543 | AW4: 6.8001233 | AX4: 6.1415848 | AY4: 6.0971864 | AZ4: 6.5881852 | BA4: 7.7236067 | BB4: 6.9059945 | BC4: 6.6482262 | BD4: 7.1324818 | BE4: 7.6333047 | BF4: 9.9760138 | BG4: 12.312248 | BH4: 11.473692 | BI4: 12.456308 | BJ4: 12.245685 | BK4: 12.87561 | BL4: 9.8679963 | BM4: 9.1154496 | BN4: 8.7525472 | BO4: 10.372478 | BP4: 9.3999766 | BQ4: 8.3078944 | BR4: 8.2511342 | BS4: 7.9707631 | BT4: 6.575649 | BU4: 6.97465 | BV4: 7.2636636 | BW4: 7.216113 | BX4: 6.1273034 | BY4: 6.1124579 | BZ4: 6.6564651 | CA4: 5.855702 | CB4: 5.5553882 | CC4: 5.3392604 | CD4: 5.9597151 | CE4: 5.9579705 | CF4: 5.8507864 | CG4: 5.3618237 | CH4: 5.0875138 | CI4: 6.0340796 | CJ4: 5.4525793 | CK4: 4.5033011 | CL4: 4.8390468 | CM4: 5.5240063 | CN4: 5.0769008 | CO4: 6.2353565 | CP4: 5.6590783 | CQ4: 5.1608142 | CR4: 5.2257249 | CS4: 5.3139942 | CT4: 5.0622573 | CU4: 4.7761143 | CV4: 4.2968555 | CW4: 4.32536 | CX4: 4.7070475 | CY4: 4.9815443 | CZ4: 4.7328407 | DA4: 4.9728135 | DB4: 5.0235761 | DC4: 5.0731557 | DD4: 5.638106 | DE4: 5.674347 | DF4: 5.985993 | DG4: 6.324892 | DH4: 6 | DI4: 6.7 | DJ4: 6 | DK4: 6.4 | DL4: 5.9 | DM4: 6.2 | DN4: 6.2 | DO4: 6 | DP4: 5.5
A5: Persons | B5: Age-standardised rate (per 100,000) | C5: 16.897077 | D5: 15.9156 | E5: 15.924692 | F5: 16.638067 | G5: 16.540979 | H5: 17.740636 | I5: 18.049054 | J5: 17.424925 | K5: 18.192453 | L5: 15.668806 | M5: 13.180967 | N5: 13.113674 | O5: 13.495548 | P5: 16.150356 | Q5: 14.704741 | R5: 12.8082 | S5: 13.332684 | T5: 14.315569 | U5: 15.42596 | V5: 15.079887 | W5: 15.137119 | X5: 15.838832 | Y5: 14.711001 | Z5: 17.774605 | AA5: 15.793355 | AB5: 13.967363 | AC5: 14.002804 | AD5: 14.788682 | AE5: 14.001185 | AF5: 13.737964 | AG5: 12.308968 | AH5: 12.352514 | AI5: 12.909599 | AJ5: 11.997551 | AK5: 10.128715 | AL5: 9.2840039 | AM5: 8.4048523 | AN5: 8.4353776 | AO5: 8.7855317 | AP5: 11.152086 | AQ5: 11.230728 | AR5: 11.075658 | AS5: 11.036013 | AT5: 10.691523 | AU5: 10.729937 | AV5: 12.151944 | AW5: 12.509082 | AX5: 12.319427 | AY5: 11.869765 | AZ5: 12.477878 | BA5: 14.095458 | BB5: 14.247864 | BC5: 12.866888 | BD5: 12.404555 | BE5: 13.795942 | BF5: 16.081199 | BG5: 18.426935 | BH5: 17.158907 | BI5: 17.263176 | BJ5: 16.507831 | BK5: 17.713757 | BL5: 14.912091 | BM5: 14.437913 | BN5: 14.49454 | BO5: 15.389407 | BP5: 14.137003 | BQ5: 12.955598 | BR5: 13.034838 | BS5: 12.562975 | BT5: 12.080079 | BU5: 12.378062 | BV5: 12.196159 | BW5: 12.56176 | BX5: 11.927211 | BY5: 12.175014 | BZ5: 12.531695 | CA5: 11.930234 | CB5: 11.593733 | CC5: 12.024086 | CD5: 12.88848 | CE5: 14.338835 | CF5: 13.652583 | CG5: 12.759001 | CH5: 12.8436 | CI5: 13.887799 | CJ5: 13.227907 | CK5: 11.887204 | CL5: 12.787268 | CM5: 13.192907 | CN5: 13.162858 | CO5: 14.774333 | CP5: 14.36616 | CQ5: 13.238778 | CR5: 12.429349 | CS5: 12.742413 | CT5: 11.894706 | CU5: 11.198916 | CV5: 10.478018 | CW5: 10.363343 | CX5: 10.24261 | CY5: 10.608124 | CZ5: 10.947696 | DA5: 10.651016 | DB5: 11.155254 | DC5: 10.540164 | DD5: 11.214762 | DE5: 11.208746 | DF5: 12.341687 | DG5: 12.900405 | DH5: 12 | DI5: 13.2 | DJ5: 12.7 | DK5: 13.2 | DL5: 12.2 | DM5: 12.3 | DN5: 12.6 | DO5: 12.1 | DP5: 11.8
A6: Males | B6: Crude rate (per 100,000) | C6: . . | D6: . . | E6: . . | F6: . . | G6: . . | H6: . . | I6: . . | J6: . . | K6: . . | L6: . . | M6: . . | N6: . . | O6: . . | P6: . . | Q6: . . | R6: . . | S6: . . | T6: . . | U6: . . | V6: . . | W6: . . | X6: . . | Y6: . . | Z6: . . | AA6: . . | AB6: . . | AC6: . . | AD6: . . | AE6: . . | AF6: . . | AG6: . . | AH6: . . | AI6: . . | AJ6: . . | AK6: . . | AL6: . . | AM6: . . | AN6: . . | AO6: . . | AP6: . . | AQ6: . . | AR6: . . | AS6: . . | AT6: . . | AU6: . . | AV6: . . | AW6: . . | AX6: . . | AY6: . . | AZ6: . . | BA6: . . | BB6: . . | BC6: . . | BD6: . . | BE6: . . | BF6: . . | BG6: . . | BH6: . . | BI6: . . | BJ6: . . | BK6: . . | BL6: 16.9 | BM6: 16.6 | BN6: 17.1 | BO6: 17.5 | BP6: 16.2 | BQ6: 15.3 | BR6: 15.6 | BS6: 15.1 | BT6: 15.6 | BU6: 15.9 | BV6: 15.7 | BW6: 16.5 | BX6: 16.3 | BY6: 16.9 | BZ6: 17.4 | CA6: 17 | CB6: 16.8 | CC6: 18.1 | CD6: 19.1 | CE6: 21.8 | CF6: 21 | CG6: 19.8 | CH6: 20.4 | CI6: 21.4 | CJ6: 20.9 | CK6: 19.2 | CL6: 20.6 | CM6: 20.9 | CN6: 21.3 | CO6: 23.4 | CP6: 23.3 | CQ6: 21.4 | CR6: 19.7 | CS6: 20.2 | CT6: 18.8 | CU6: 17.7 | CV6: 16.8 | CW6: 16.5 | CX6: 16 | CY6: 16.4 | CZ6: 17.3 | DA6: 16.5 | DB6: 17.5 | DC6: 16.3 | DD6: 17.1 | DE6: 17 | DF6: 19 | DG6: 19.8 | DH6: 18.3 | DI6: 20.1 | DJ6: 19.7 | DK6: 20.2 | DL6: 19 | DM6: 18.9 | DN6: 19.4 | DO6: 18.7 | DP6: 18.7
A7: Females | B7: Crude rate (per 100,000) | C7: . . | D7: . . | E7: . . | F7: . . | G7: . . | H7: . . | I7: . . | J7: . . | K7: . . | L7: . . | M7: . . | N7: . . | O7: . . | P7: . . | Q7: . . | R7: . . | S7: . . | T7: . . | U7: . . | V7: . . | W7: . . | X7: . . | Y7: . . | Z7: . . | AA7: . . | AB7: . . | AC7: . . | AD7: . . | AE7: . . | AF7: . . | AG7: . . | AH7: . . | AI7: . . | AJ7: . . | AK7: . . | AL7: . . | AM7: . . | AN7: . . | AO7: . . | AP7: . . | AQ7: . . | AR7: . . | AS7: . . | AT7: . . | AU7: . . | AV7: . . | AW7: . . | AX7: . . | AY7: . . | AZ7: . . | BA7: . . | BB7: . . | BC7: . . | BD7: . . | BE7: . . | BF7: . . | BG7: . . | BH7: . . | BI7: . . | BJ7: . . | BK7: . . | BL7: 8.5 | BM7: 7.8 | BN7: 7.6 | BO7: 9 | BP7: 8.2 | BQ7: 7.3 | BR7: 7.2 | BS7: 6.9 | BT7: 5.8 | BU7: 6.2 | BV7: 6.5 | BW7: 6.6 | BX7: 5.5 | BY7: 5.5 | BZ7: 6 | CA7: 5.4 | CB7: 5.2 | CC7: 5 | CD7: 5.6 | CE7: 5.7 | CF7: 5.6 | CG7: 5.2 | CH7: 5 | CI7: 5.9 | CJ7: 5.4 | CK7: 4.5 | CL7: 4.8 | CM7: 5.5 | CN7: 5 | CO7: 6.2 | CP7: 5.7 | CQ7: 5.2 | CR7: 5.2 | CS7: 5.4 | CT7: 5.1 | CU7: 4.8 | CV7: 4.4 | CW7: 4.4 | CX7: 4.8 | CY7: 5.1 | CZ7: 4.8 | DA7: 5.1 | DB7: 5.1 | DC7: 5.2 | DD7: 5.7 | DE7: 5.8 | DF7: 6.1 | DG7: 6.4 | DH7: 6.1 | DI7: 6.8 | DJ7: 6.1 | DK7: 6.5 | DL7: 5.9 | DM7: 6.2 | DN7: 6.4 | DO7: 6.1 | DP7: 5.7
A8: Persons | B8: Crude rate (per 100,000) | C8: . . | D8: . . | E8: . . | F8: . . | G8: . . | H8: . . | I8: . . | J8: . . | K8: . . | L8: . . | M8: . . | N8: . . | O8: . . | P8: . . | Q8: . . | R8: . . | S8: . . | T8: . . | U8: . . | V8: . . | W8: . . | X8: . . | Y8: . . | Z8: . . | AA8: . . | AB8: . . | AC8: . . | AD8: . . | AE8: . . | AF8: . . | AG8: . . | AH8: . . | AI8: . . | AJ8: . . | AK8: . . | AL8: . . | AM8: . . | AN8: . . | AO8: . . | AP8: . . | AQ8: . . | AR8: . . | AS8: . . | AT8: . . | AU8: . . | AV8: . . | AW8: . . | AX8: . . | AY8: . . | AZ8: . . | BA8: . . | BB8: . . | BC8: . . | BD8: . . | BE8: . . | BF8: . . | BG8: . . | BH8: . . | BI8: . . | BJ8: . . | BK8: . . | BL8: 12.7 | BM8: 12.2 | BN8: 12.4 | BO8: 13.3 | BP8: 12.2 | BQ8: 11.3 | BR8: 11.4 | BS8: 11 | BT8: 10.7 | BU8: 11 | BV8: 11.1 | BW8: 11.6 | BX8: 10.9 | BY8: 11.2 | BZ8: 11.7 | CA8: 11.2 | CB8: 11 | CC8: 11.6 | CD8: 12.4 | CE8: 13.8 | CF8: 13.3 | CG8: 12.5 | CH8: 12.7 | CI8: 13.7 | CJ8: 13.1 | CK8: 11.8 | CL8: 12.7 | CM8: 13.2 | CN8: 13.1 | CO8: 14.8 | CP8: 14.4 | CQ8: 13.2 | CR8: 12.4 | CS8: 12.7 | CT8: 11.9 | CU8: 11.2 | CV8: 10.5 | CW8: 10.4 | CX8: 10.4 | CY8: 10.7 | CZ8: 11 | DA8: 10.8 | DB8: 11.3 | DC8: 10.7 | DD8: 11.3 | DE8: 11.4 | DF8: 12.5 | DG8: 13 | DH8: 12.1 | DI8: 13.4 | DJ8: 12.8 | DK8: 13.3 | DL8: 12.4 | DM8: 12.5 | DN8: 12.8 | DO8: 12.4 | DP8: 12.2
A9: Males | B9: Number | C9: 385 | D9: 413 | E9: 398 | F9: 432 | G9: 446 | H9: 514 | I9: 516 | J9: 534 | K9: 537 | L9: 466 | M9: 408 | N9: 408 | O9: 440 | P9: 516 | Q9: 510 | R9: 441 | S9: 492 | T9: 534 | U9: 569 | V9: 583 | W9: 598 | X9: 635 | Y9: 644 | Z9: 791 | AA9: 689 | AB9: 598 | AC9: 633 | AD9: 643 | AE9: 612 | AF9: 611 | AG9: 573 | AH9: 574 | AI9: 602 | AJ9: 568 | AK9: 463 | AL9: 432 | AM9: 376 | AN9: 362 | AO9: 394 | AP9: 513 | AQ9: 546 | AR9: 578 | AS9: 599 | AT9: 567 | AU9: 608 | AV9: 694 | AW9: 698 | AX9: 724 | AY9: 701 | AZ9: 751 | BA9: 844 | BB9: 910 | BC9: 827 | BD9: 778 | BE9: 901 | BF9: 1011 | BG9: 1143 | BH9: 1071 | BI9: 1075 | BJ9: 1017 | BK9: 1125 | BL9: 1022 | BM9: 1025 | BN9: 1076 | BO9: 1150 | BP9: 1085 | BQ9: 1036 | BR9: 1073 | BS9: 1050 | BT9: 1098 | BU9: 1128 | BV9: 1126 | BW9: 1198 | BX9: 1199 | BY9: 1259 | BZ9: 1318 | CA9: 1308 | CB9: 1309 | CC9: 1428 | CD9: 1531 | CE9: 1773 | CF9: 1730 | CG9: 1658 | CH9: 1735 | CI9: 1847 | CJ9: 1820 | CK9: 1687 | CL9: 1830 | CM9: 1873 | CN9: 1931 | CO9: 2145 | CP9: 2150 | CQ9: 2002 | CR9: 1864 | CS9: 1936 | CT9: 1817 | CU9: 1737 | CV9: 1661 | CW9: 1658 | CX9: 1624 | CY9: 1699 | CZ9: 1833 | DA9: 1785 | DB9: 1914 | DC9: 1812 | DD9: 1929 | DE9: 1958 | DF9: 2221 | DG9: 2336 | DH9: 2192 | DI9: 2454 | DJ9: 2438 | DK9: 2546 | DL9: 2416 | DM9: 2416 | DN9: 2507 | DO9: 2479 | DP9: 2529
A10: Females | B10: Number | C10: 76 | D10: 84 | E10: 97 | F10: 84 | G10: 98 | H10: 118 | I10: 131 | J10: 109 | K10: 122 | L10: 111 | M10: 94 | N10: 90 | O10: 106 | P10: 120 | Q10: 111 | R10: 92 | S10: 107 | T10: 119 | U10: 131 | V10: 128 | W10: 142 | X10: 142 | Y10: 141 | Z10: 152 | AA10: 138 | AB10: 156 | AC10: 157 | AD10: 183 | AE10: 179 | AF10: 178 | AG10: 148 | AH10: 169 | AI10: 179 | AJ10: 175 | AK10: 161 | AL10: 162 | AM10: 140 | AN10: 178 | AO10: 173 | AP10: 219 | AQ10: 200 | AR10: 159 | AS10: 174 | AT10: 193 | AU10: 197 | AV10: 225 | AW10: 261 | AX10: 245 | AY10: 245 | AZ10: 270 | BA10: 326 | BB10: 297 | BC10: 288 | BD10: 314 | BE10: 348 | BF10: 458 | BG10: 575 | BH10: 549 | BI10: 610 | BJ10: 607 | BK10: 653 | BL10: 505 | BM10: 477 | BN10: 475 | BO10: 588 | BP10: 540 | BQ10: 492 | BR10: 494 | BS10: 478 | BT10: 406 | BU10: 438 | BV10: 469 | BW10: 479 | BX10: 408 | BY10: 413 | BZ10: 459 | CA10: 418 | CB10: 403 | CC10: 399 | CD10: 451 | CE10: 467 | CF10: 467 | CG10: 438 | CH10: 426 | CI10: 513 | CJ10: 474 | CK10: 394 | CL10: 428 | CM10: 495 | CN10: 462 | CO10: 577 | CP10: 533 | CQ10: 490 | CR10: 503 | CS10: 521 | CT10: 503 | CU10: 477 | CV10: 437 | CW10: 444 | CX10: 494 | CY10: 530 | CZ10: 508 | DA10: 552 | DB10: 566 | DC10: 581 | DD10: 650 | DE10: 671 | DF10: 716 | DG10: 764 | DH10: 747 | DI10: 838 | DJ10: 767 | DK10: 831 | DL10: 768 | DM10: 804 | DN10: 833 | DO10: 821 | DP10: 778
A11: Persons | B11: Number | C11: 461 | D11: 497 | E11: 495 | F11: 516 | G11: 544 | H11: 632 | I11: 647 | J11: 643 | K11: 659 | L11: 577 | M11: 502 | N11: 498 | O11: 546 | P11: 636 | Q11: 621 | R11: 533 | S11: 599 | T11: 653 | U11: 700 | V11: 711 | W11: 740 | X11: 777 | Y11: 785 | Z11: 943 | AA11: 827 | AB11: 754 | AC11: 790 | AD11: 826 | AE11: 791 | AF11: 789 | AG11: 721 | AH11: 743 | AI11: 781 | AJ11: 743 | AK11: 624 | AL11: 594 | AM11: 516 | AN11: 540 | AO11: 567 | AP11: 732 | AQ11: 746 | AR11: 737 | AS11: 773 | AT11: 760 | AU11: 805 | AV11: 919 | AW11: 959 | AX11: 969 | AY11: 946 | AZ11: 1021 | BA11: 1170 | BB11: 1207 | BC11: 1115 | BD11: 1092 | BE11: 1249 | BF11: 1469 | BG11: 1718 | BH11: 1620 | BI11: 1685 | BJ11: 1624 | BK11: 1778 | BL11: 1527 | BM11: 1502 | BN11: 1551 | BO11: 1738 | BP11: 1625 | BQ11: 1528 | BR11: 1567 | BS11: 1528 | BT11: 1504 | BU11: 1566 | BV11: 1595 | BW11: 1677 | BX11: 1607 | BY11: 1672 | BZ11: 1777 | CA11: 1726 | CB11: 1712 | CC11: 1827 | CD11: 1982 | CE11: 2240 | CF11: 2197 | CG11: 2096 | CH11: 2161 | CI11: 2360 | CJ11: 2294 | CK11: 2081 | CL11: 2258 | CM11: 2368 | CN11: 2393 | CO11: 2722 | CP11: 2683 | CQ11: 2492 | CR11: 2367 | CS11: 2457 | CT11: 2320 | CU11: 2214 | CV11: 2098 | CW11: 2102 | CX11: 2118 | CY11: 2229 | CZ11: 2341 | DA11: 2337 | DB11: 2480 | DC11: 2393 | DD11: 2579 | DE11: 2629 | DF11: 2937 | DG11: 3100 | DH11: 2939 | DI11: 3292 | DJ11: 3205 | DK11: 3377 | DL11: 3184 | DM11: 3220 | DN11: 3340 | DO11: 3300 | DP11: 3307
A12: Males | B12: Median age at death (years) | C12: . . | D12: . . | E12: . . | F12: . . | G12: . . | H12: . . | I12: . . | J12: . . | K12: . . | L12: . . | M12: . . | N12: . . | O12: . . | P12: . . | Q12: . . | R12: . . | S12: . . | T12: . . | U12: . . | V12: . . | W12: . . | X12: . . | Y12: . . | Z12: . . | AA12: . . | AB12: . . | AC12: . . | AD12: . . | AE12: . . | AF12: . . | AG12: . . | AH12: . . | AI12: . . | AJ12: . . | AK12: . . | AL12: . . | AM12: . . | AN12: . . | AO12: . . | AP12: . . | AQ12: . . | AR12: . . | AS12: . . | AT12: . . | AU12: . . | AV12: . . | AW12: . . | AX12: . . | AY12: . . | AZ12: . . | BA12: . . | BB12: . . | BC12: . . | BD12: . . | BE12: . . | BF12: . . | BG12: . . | BH12: 46 | BI12: 45 | BJ12: 47 | BK12: 45 | BL12: 46 | BM12: 44 | BN12: 45 | BO12: 44 | BP12: 44 | BQ12: 44 | BR12: 44 | BS12: 43 | BT12: 41.5 | BU12: 42 | BV12: 39 | BW12: 39 | BX12: 39 | BY12: 40 | BZ12: 38 | CA12: 38 | CB12: 38.5 | CC12: 36 | CD12: 38 | CE12: 39 | CF12: 37 | CG12: 36 | CH12: 36 | CI12: 37 | CJ12: 37 | CK12: 37 | CL12: 38 | CM12: 37 | CN12: 38 | CO12: 37 | CP12: 36 | CQ12: 38 | CR12: 39 | CS12: 39 | CT12: 39 | CU12: 40 | CV12: 41 | CW12: 41 | CX12: 43 | CY12: 41 | CZ12: 42 | DA12: 43 | DB12: 43 | DC12: 43 | DD12: 45 | DE12: 44 | DF12: 44 | DG12: 45 | DH12: 43 | DI12: 44 | DJ12: 44 | DK12: 44 | DL12: 44 | DM12: 46 | DN12: 46 | DO12: 46 | DP12: 47
A13: Females | B13: Median age at death (years) | C13: . . | D13: . . | E13: . . | F13: . . | G13: . . | H13: . . | I13: . . | J13: . . | K13: . . | L13: . . | M13: . . | N13: . . | O13: . . | P13: . . | Q13: . . | R13: . . | S13: . . | T13: . . | U13: . . | V13: . . | W13: . . | X13: . . | Y13: . . | Z13: . . | AA13: . . | AB13: . . | AC13: . . | AD13: . . | AE13: . . | AF13: . . | AG13: . . | AH13: . . | AI13: . . | AJ13: . . | AK13: . . | AL13: . . | AM13: . . | AN13: . . | AO13: . . | AP13: . . | AQ13: . . | AR13: . . | AS13: . . | AT13: . . | AU13: . . | AV13: . . | AW13: . . | AX13: . . | AY13: . . | AZ13: . . | BA13: . . | BB13: . . | BC13: . . | BD13: . . | BE13: . . | BF13: . . | BG13: . . | BH13: 47 | BI13: 47 | BJ13: 46 | BK13: 47 | BL13: 47 | BM13: 47 | BN13: 47 | BO13: 45 | BP13: 45 | BQ13: 47 | BR13: 47 | BS13: 46.5 | BT13: 48 | BU13: 46 | BV13: 46 | BW13: 45 | BX13: 41.5 | BY13: 45 | BZ13: 47 | CA13: 47 | CB13: 43 | CC13: 45 | CD13: 43 | CE13: 42 | CF13: 43 | CG13: 44 | CH13: 43 | CI13: 42 | CJ13: 41 | CK13: 41.5 | CL13: 41 | CM13: 41 | CN13: 40 | CO13: 41 | CP13: 39 | CQ13: 40 | CR13: 40 | CS13: 41 | CT13: 43 | CU13: 41 | CV13: 43 | CW13: 44 | CX13: 44 | CY13: 44 | CZ13: 43 | DA13: 44 | DB13: 43 | DC13: 42.5 | DD13: 43 | DE13: 45 | DF13: 43 | DG13: 45 | DH13: 45 | DI13: 46 | DJ13: 45 | DK13: 44 | DL13: 43 | DM13: 43 | DN13: 45 | DO13: 44 | DP13: 45
A14: Persons | B14: Median age at death (years) | C14: . . | D14: . . | E14: . . | F14: . . | G14: . . | H14: . . | I14: . . | J14: . . | K14: . . | L14: . . | M14: . . | N14: . . | O14: . . | P14: . . | Q14: . . | R14: . . | S14: . . | T14: . . | U14: . . | V14: . . | W14: . . | X14: . . | Y14: . . | Z14: . . | AA14: . . | AB14: . . | AC14: . . | AD14: . . | AE14: . . | AF14: . . | AG14: . . | AH14: . . | AI14: . . | AJ14: . . | AK14: . . | AL14: . . | AM14: . . | AN14: . . | AO14: . . | AP14: . . | AQ14: . . | AR14: . . | AS14: . . | AT14: . . | AU14: . . | AV14: . . | AW14: . . | AX14: . . | AY14: . . | AZ14: . . | BA14: . . | BB14: . . | BC14: . . | BD14: . . | BE14: . . | BF14: . . | BG14: . . | BH14: 46 | BI14: 46 | BJ14: 46 | BK14: 46 | BL14: 46 | BM14: 45 | BN14: 46 | BO14: 45 | BP14: 44 | BQ14: 45 | BR14: 45 | BS14: 44 | BT14: 44 | BU14: 43 | BV14: 42 | BW14: 41 | BX14: 40 | BY14: 41 | BZ14: 41 | CA14: 40 | CB14: 39 | CC14: 38 | CD14: 39 | CE14: 40 | CF14: 38 | CG14: 38 | CH14: 37 | CI14: 38 | CJ14: 38 | CK14: 38 | CL14: 38 | CM14: 37 | CN14: 38 | CO14: 38 | CP14: 37 | CQ14: 38 | CR14: 39 | CS14: 39 | CT14: 40 | CU14: 40 | CV14: 41 | CW14: 41 | CX14: 43 | CY14: 42 | CZ14: 42 | DA14: 43 | DB14: 43 | DC14: 43 | DD14: 44 | DE14: 44 | DF14: 44 | DG14: 45 | DH14: 44 | DI14: 44 | DJ14: 45 | DK14: 44 | DL14: 44 | DM14: 45 | DN14: 46 | DO14: 46 | DP14: 46
A15: Rate ratio | B15: Rate ratio (male:female) | C15: 5.1 | D15: 5.4 | E15: 4.7 | F15: 5.4 | G15: 4.8 | H15: 4.7 | I15: 4.2 | J15: 5.2 | K15: 4.7 | L15: 4.7 | M15: 5 | N15: 4.9 | O15: 4.2 | P15: 4.9 | Q15: 4.8 | R15: 5.5 | S15: 4.9 | T15: 4.7 | U15: 4.8 | V15: 4.6 | W15: 4.4 | X15: 4.8 | Y15: 4.6 | Z15: 5.6 | AA15: 5.4 | AB15: 4.1 | AC15: 4.3 | AD15: 3.9 | AE15: 3.7 | AF15: 3.7 | AG15: 4.1 | AH15: 3.7 | AI15: 3.6 | AJ15: 3.4 | AK15: 3.3 | AL15: 2.9 | AM15: 3 | AN15: 2.3 | AO15: 2.5 | AP15: 2.5 | AQ15: 3 | AR15: 3.9 | AS15: 3.8 | AT15: 3.3 | AU15: 3.2 | AV15: 3.2 | AW15: 2.7 | AX15: 3.1 | AY15: 3 | AZ15: 2.8 | BA15: 2.7 | BB15: 3.2 | BC15: 2.9 | BD15: 2.5 | BE15: 2.6 | BF15: 2.3 | BG15: 2 | BH15: 2 | BI15: 1.8 | BJ15: 1.7 | BK15: 1.8 | BL15: 2.1 | BM15: 2.2 | BN15: 2.4 | BO15: 2 | BP15: 2.1 | BQ15: 2.2 | BR15: 2.2 | BS15: 2.2 | BT15: 2.7 | BU15: 2.6 | BV15: 2.4 | BW15: 2.5 | BX15: 3 | BY15: 3.1 | BZ15: 2.8 | CA15: 3.2 | CB15: 3.3 | CC15: 3.6 | CD15: 3.4 | CE15: 3.9 | CF15: 3.7 | CG15: 3.8 | CH15: 4.1 | CI15: 3.7 | CJ15: 3.9 | CK15: 4.4 | CL15: 4.4 | CM15: 3.8 | CN15: 4.3 | CO15: 3.8 | CP15: 4.1 | CQ15: 4.2 | CR15: 3.8 | CS15: 3.9 | CT15: 3.8 | CU15: 3.8 | CV15: 3.9 | CW15: 3.9 | CX15: 3.4 | CY15: 3.3 | CZ15: 3.7 | DA15: 3.3 | DB15: 3.5 | DC15: 3.2 | DD15: 3 | DE15: 3 | DF15: 3.2 | DG15: 3.1 | DH15: 3 | DI15: 3 | DJ15: 3.2 | DK15: 3.1 | DL15: 3.2 | DM15: 3 | DN15: 3.1 | DO15: 3.1 | DP15: 3.3
A16: . . Not applicable
A18: Notes
A19: 1. Deaths are counted according to year the death was registered by the Registries of Births, Deaths and Marriages (RBDM), not necessarily the year in which the death occurred.
A20: 2. Crude rates are per 100,000 population as at 30 June of the same year. Crude rates are available from 1968 onward.
A21: 3. Age-standardised rates are per 100,000 standard population as detailed in the Explanatory notes.
A22: 4. Median age at death is available for years 1964 onward; median age at death is calculated based on the median of age at death in single years.
A23: 5. Rate ratio (male:female): represents the age-standardised death rate for males divided by the age-standardised death rate for females. A ratio of 1 means that males and females have the same death rate; a ratio of greater than 1 means that the rate is higher for males compared with females; a ratio of less than 1 means that the rate is lower for males compared with females.
A24: 6. Deaths registered between 2006 and 2021 are based on the final version of cause of death data; deaths registered in 2022 are based on revised data; deaths registered in 2023 are based on preliminary revised data, and deaths registered in 2024 are based on preliminary data. Revised and preliminary data are subject to further revision by the ABS. Deaths registered prior to 2006 were not subject to a revisions process. Comparisons over time should be done with caution.

Sheet Table NMD 2
A1: Table NMD 2: Suicide by sex and 5-year age group, 1968 to 2024
A2: Sex | B2: Age group | C2: Measure | D2: 1968 | E2: 1969 | F2: 1970 | G2: 1971 | H2: 1972 | I2: 1973 | J2: 1974 | K2: 1975 | L2: 1976 | M2: 1977 | N2: 1978 | O2: 1979 | P2: 1980 | Q2: 1981 | R2: 1982 | S2: 1983 | T2: 1984 | U2: 1985 | V2: 1986 | W2: 1987 | X2: 1988 | Y2: 1989 | Z2: 1990 | AA2: 1991 | AB2: 1992 | AC2: 1993 | AD2: 1994 | AE2: 1995 | AF2: 1996 | AG2: 1997 | AH2: 1998 | AI2: 1999 | AJ2: 2000 | AK2: 2001 | AL2: 2002 | AM2: 2003 | AN2: 2004 | AO2: 2005 | AP2: 2006 | AQ2: 2007 | AR2: 2008 | AS2: 2009 | AT2: 2010 | AU2: 2011 | AV2: 2012 | AW2: 2013 | AX2: 2014 | AY2: 2015 | AZ2: 2016 | BA2: 2017 | BB2: 2018 | BC2: 2019 | BD2: 2020 | BE2: 2021 | BF2: 2022 | BG2: 2023 | BH2: 2024
A3: Males | B3: 0–14 | C3: Age-specific rate (per 100,000) | D3: 0.4 | E3: 0.3 | F3: n.p. | G3: 0.4 | H3: n.p. | I3: n.p. | J3: 0.3 | K3: 0.5 | L3: n.p. | M3: 0.3 | N3: 0.3 | O3: n.p. | P3: n.p. | Q3: n.p. | R3: 0.6 | S3: 0.4 | T3: 0.5 | U3: n.p. | V3: 0.6 | W3: 0.6 | X3: 0.3 | Y3: 0.4 | Z3: 0.3 | AA3: 0.3 | AB3: 0.3 | AC3: n.p. | AD3: n.p. | AE3: 0.3 | AF3: 0.4 | AG3: 0.4 | AH3: 0.3 | AI3: 0.5 | AJ3: 0.3 | AK3: 0.3 | AL3: n.p. | AM3: 0.3 | AN3: 0.3 | AO3: 0.3 | AP3: 0.3 | AQ3: 0.4 | AR3: 0.4 | AS3: 0 | AT3: 0.4 | AU3: 0.3 | AV3: 0.3 | AW3: 0.7 | AX3: 0.3 | AY3: 0.2 | AZ3: 0.5 | BA3: 0.7 | BB3: 0.5 | BC3: 0.4 | BD3: 0.6 | BE3: 0.6 | BF3: 0.3 | BG3: 0.5 | BH3: 0.2
A4: Males | B4: 5–14 | C4: Age-specific rate (per 100,000) | D4: 0.6 | E4: 0.5 | F4: n.p. | G4: 0.6 | H4: n.p. | I4: n.p. | J4: 0.4 | K4: 0.8 | L4: n.p. | M4: 0.5 | N4: 0.5 | O4: n.p. | P4: n.p. | Q4: n.p. | R4: 0.9 | S4: 0.5 | T4: 0.7 | U4: n.p. | V4: 0.9 | W4: 0.9 | X4: 0.5 | Y4: 0.6 | Z4: 0.5 | AA4: 0.5 | AB4: 0.4 | AC4: n.p. | AD4: n.p. | AE4: 0.4 | AF4: 0.5 | AG4: 0.6 | AH4: 0.4 | AI4: 0.7 | AJ4: 0.5 | AK4: 0.4 | AL4: n.p. | AM4: 0.4 | AN4: 0.5 | AO4: 0.5 | AP4: 0.5 | AQ4: 0.6 | AR4: 0.6 | AS4: 0 | AT4: 0.6 | AU4: 0.5 | AV4: 0.4 | AW4: 1.1 | AX4: 0.5 | AY4: 0.3 | AZ4: 0.7 | BA4: 1 | BB4: 0.8 | BC4: 0.6 | BD4: 0.9 | BE4: 0.8 | BF4: 0.5 | BG4: 0.8 | BH4: 0.3
A5: Males | B5: 15–19 | C5: Age-specific rate (per 100,000) | D5: 9 | E5: 5.4 | F5: 8.4 | G5: 13 | H5: 8.3 | I5: 8 | J5: 11.2 | K5: 8.9 | L5: 10.1 | M5: 10.9 | N5: 10.3 | O5: 12.7 | P5: 9.9 | Q5: 10.9 | R5: 10.5 | S5: 9.3 | T5: 10.3 | U5: 16.6 | V5: 13.2 | W5: 17.2 | X5: 21 | Y5: 18.4 | Z5: 17.8 | AA5: 19 | AB5: 18.5 | AC5: 16.8 | AD5: 18.7 | AE5: 15.1 | AF5: 17.5 | AG5: 18.8 | AH5: 17.7 | AI5: 14.7 | AJ5: 13.2 | AK5: 13.9 | AL5: 14.1 | AM5: 12.8 | AN5: 7.6 | AO5: 9.5 | AP5: 11.3 | AQ5: 11.5 | AR5: 9.8 | AS5: 10.2 | AT5: 12.1 | AU5: 10.8 | AV5: 9.6 | AW5: 15.2 | AX5: 12.6 | AY5: 12.4 | AZ5: 13.5 | BA5: 15 | BB5: 17.8 | BC5: 16.4 | BD5: 17.5 | BE5: 13.7 | BF5: 9.7 | BG5: 11.4 | BH5: 9.6
A6: Males | B6: 20–24 | C6: Age-specific rate (per 100,000) | D6: 12.4 | E6: 16.6 | F6: 16.7 | G6: 18.4 | H6: 20 | I6: 21.2 | J6: 20.4 | K6: 18.7 | L6: 20.1 | M6: 20.3 | N6: 25 | O6: 23.7 | P6: 25.3 | Q6: 25.2 | R6: 28 | S6: 27.3 | T6: 26.9 | U6: 31.2 | V6: 29.2 | W6: 31.9 | X6: 35.2 | Y6: 29.7 | Z6: 36.5 | AA6: 34.4 | AB6: 35 | AC6: 32.1 | AD6: 34.6 | AE6: 34.9 | AF6: 33.6 | AG6: 43.1 | AH6: 37.2 | AI6: 32.4 | AJ6: 26.9 | AK6: 27.7 | AL6: 24.5 | AM6: 23.6 | AN6: 20.3 | AO6: 23.1 | AP6: 20.2 | AQ6: 19.8 | AR6: 19.8 | AS6: 16.3 | AT6: 16.4 | AU6: 19.6 | AV6: 17.4 | AW6: 18.5 | AX6: 21.3 | AY6: 22.7 | AZ6: 23.7 | BA6: 22.4 | BB6: 23.8 | BC6: 24.7 | BD6: 25.2 | BE6: 22.2 | BF6: 20.8 | BG6: 18.8 | BH6: 16.5
A7: Males | B7: 25–29 | C7: Age-specific rate (per 100,000) | D7: 15.8 | E7: 21.8 | F7: 20.7 | G7: 19.7 | H7: 17.4 | I7: 15 | J7: 15.8 | K7: 19.8 | L7: 19.7 | M7: 21.1 | N7: 23.8 | O7: 22.6 | P7: 22.8 | Q7: 22.5 | R7: 29.4 | S7: 26.5 | T7: 22.4 | U7: 30.3 | V7: 28.6 | W7: 31 | X7: 29.8 | Y7: 32.3 | Z7: 32.8 | AA7: 29.3 | AB7: 32.6 | AC7: 29.3 | AD7: 30.1 | AE7: 34.3 | AF7: 33.4 | AG7: 40.7 | AH7: 43.2 | AI7: 37.5 | AJ7: 32.8 | AK7: 32.6 | AL7: 31.4 | AM7: 26.6 | AN7: 25.5 | AO7: 22.9 | AP7: 17.8 | AQ7: 22.1 | AR7: 21.7 | AS7: 20.8 | AT7: 17.4 | AU7: 21 | AV7: 19.8 | AW7: 18.7 | AX7: 19.9 | AY7: 22.9 | AZ7: 21.3 | BA7: 24.7 | BB7: 23.4 | BC7: 24.6 | BD7: 23 | BE7: 24.7 | BF7: 24.5 | BG7: 23.6 | BH7: 22.3
A8: Males | B8: 30–34 | C8: Age-specific rate (per 100,000) | D8: 22.3 | E8: 21 | F8: 19.5 | G8: 20.9 | H8: 19.5 | I8: 15.7 | J8: 16.6 | K8: 19.7 | L8: 21.5 | M8: 18.2 | N8: 18.6 | O8: 23.3 | P8: 22.3 | Q8: 21.1 | R8: 20.3 | S8: 21.8 | T8: 25.5 | U8: 22.8 | V8: 28 | W8: 26.5 | X8: 26.7 | Y8: 27.6 | Z8: 25.3 | AA8: 30.4 | AB8: 28.3 | AC8: 28.2 | AD8: 28.5 | AE8: 32.8 | AF8: 31.9 | AG8: 34.8 | AH8: 39.6 | AI8: 33.7 | AJ8: 34.2 | AK8: 36 | AL8: 31 | AM8: 30.4 | AN8: 29.5 | AO8: 27.8 | AP8: 20.8 | AQ8: 24.9 | AR8: 26 | AS8: 22.9 | AT8: 23.1 | AU8: 22.1 | AV8: 22.7 | AW8: 20 | AX8: 27.2 | AY8: 25.4 | AZ8: 27.5 | BA8: 27.7 | BB8: 23.9 | BC8: 26.4 | BD8: 23.6 | BE8: 23.6 | BF8: 25.5 | BG8: 23.4 | BH8: 20
A9: Males | B9: 35–39 | C9: Age-specific rate (per 100,000) | D9: 26.4 | E9: 25.4 | F9: 24.1 | G9: 25.7 | H9: 24.7 | I9: 23.5 | J9: 19.7 | K9: 19.8 | L9: 23.5 | M9: 19.7 | N9: 22.8 | O9: 21.4 | P9: 22 | Q9: 20.8 | R9: 19.7 | S9: 19.2 | T9: 19.1 | U9: 19.5 | V9: 21.7 | W9: 26.9 | X9: 23.9 | Y9: 24.7 | Z9: 26.1 | AA9: 34.2 | AB9: 26.8 | AC9: 22.2 | AD9: 25.1 | AE9: 31 | AF9: 32.3 | AG9: 29.3 | AH9: 36.8 | AI9: 30 | AJ9: 31.4 | AK9: 32.6 | AL9: 30.5 | AM9: 25.7 | AN9: 24.1 | AO9: 22.9 | AP9: 24.7 | AQ9: 27.1 | AR9: 26.2 | AS9: 25.2 | AT9: 28.8 | AU9: 22 | AV9: 26 | AW9: 21.8 | AX9: 25.2 | AY9: 27.9 | AZ9: 25.1 | BA9: 27.7 | BB9: 27.7 | BC9: 28.1 | BD9: 24.2 | BE9: 25.5 | BF9: 24.8 | BG9: 22 | BH9: 25.8
A10: Males | B10: 40–44 | C10: Age-specific rate (per 100,000) | D10: 28 | E10: 32.5 | F10: 27.9 | G10: 24.5 | H10: 27.1 | I10: 26 | J10: 24.2 | K10: 24.7 | L10: 23.9 | M10: 26.6 | N10: 21.4 | O10: 25.5 | P10: 25.6 | Q10: 26.7 | R10: 20.7 | S10: 19.5 | T10: 21.2 | U10: 26 | V10: 25.8 | W10: 29.2 | X10: 28.3 | Y10: 20 | Z10: 24.8 | AA10: 26.4 | AB10: 23 | AC10: 20.5 | AD10: 27.4 | AE10: 24.4 | AF10: 26.6 | AG10: 31.6 | AH10: 29.8 | AI10: 28.9 | AJ10: 29.3 | AK10: 28.4 | AL10: 28 | AM10: 26.1 | AN10: 27.4 | AO10: 26.9 | AP10: 22.2 | AQ10: 22.4 | AR10: 28.5 | AS10: 26 | AT10: 29 | AU10: 23.5 | AV10: 25.8 | AW10: 26.7 | AX10: 31.1 | AY10: 30.8 | AZ10: 27.7 | BA10: 32.3 | BB10: 26 | BC10: 29.5 | BD10: 27.1 | BE10: 23.2 | BF10: 27.9 | BG10: 27.6 | BH10: 28.8
A11: Males | B11: 45–49 | C11: Age-specific rate (per 100,000) | D11: 27.3 | E11: 29.4 | F11: 29.5 | G11: 31.2 | H11: 31.1 | I11: 30.3 | J11: 30.4 | K11: 24.8 | L11: 25.3 | M11: 29.1 | N11: 23.9 | O11: 29 | P11: 24.5 | Q11: 23.9 | R11: 23.7 | S11: 19.1 | T11: 20 | U11: 22.1 | V11: 22.6 | W11: 24.6 | X11: 25.4 | Y11: 24.3 | Z11: 20.9 | AA11: 25.1 | AB11: 27.8 | AC11: 25.9 | AD11: 24.4 | AE11: 24.3 | AF11: 23.2 | AG11: 23.6 | AH11: 25.6 | AI11: 25.1 | AJ11: 23.1 | AK11: 25.5 | AL11: 23.3 | AM11: 27 | AN11: 18.5 | AO11: 24.6 | AP11: 26.4 | AQ11: 21.9 | AR11: 26 | AS11: 25.6 | AT11: 29.1 | AU11: 25.8 | AV11: 27.1 | AW11: 24.3 | AX11: 25.7 | AY11: 32.6 | AZ11: 23.5 | BA11: 33.7 | BB11: 29.5 | BC11: 32.3 | BD11: 25.7 | BE11: 23.6 | BF11: 33.1 | BG11: 28.1 | BH11: 29.1
A12: Males | B12: 50–54 | C12: Age-specific rate (per 100,000) | D12: 29.7 | E12: 26.9 | F12: 39 | G12: 37.4 | H12: 28.6 | I12: 24.3 | J12: 27 | K12: 22.7 | L12: 25.2 | M12: 30.3 | N12: 22.9 | O12: 25.1 | P12: 20.4 | Q12: 25.5 | R12: 19.9 | S12: 23.4 | T12: 25.3 | U12: 20.5 | V12: 23.6 | W12: 31.2 | X12: 23.4 | Y12: 23.4 | Z12: 22.1 | AA12: 27.4 | AB12: 23.3 | AC12: 20.4 | AD12: 25.3 | AE12: 23.5 | AF12: 22.3 | AG12: 25.4 | AH12: 25 | AI12: 24.1 | AJ12: 22 | AK12: 21.6 | AL12: 22.2 | AM12: 17.3 | AN12: 19.3 | AO12: 20.9 | AP12: 21 | AQ12: 21.6 | AR12: 21.3 | AS12: 22.8 | AT12: 22.7 | AU12: 20.3 | AV12: 24.5 | AW12: 24.6 | AX12: 30.1 | AY12: 32 | AZ12: 24.4 | BA12: 22.3 | BB12: 28.1 | BC12: 27.1 | BD12: 26.2 | BE12: 28.1 | BF12: 28.5 | BG12: 27.7 | BH12: 30.2
A13: Males | B13: 55–59 | C13: Age-specific rate (per 100,000) | D13: 41.6 | E13: 24.8 | F13: 34.3 | G13: 27.7 | H13: 30.4 | I13: 24.7 | J13: 23.6 | K13: 25.2 | L13: 23.3 | M13: 18.4 | N13: 23.8 | O13: 23.7 | P13: 25.4 | Q13: 25.1 | R13: 23.8 | S13: 23.5 | T13: 24.6 | U13: 22.1 | V13: 25.5 | W13: 34.4 | X13: 22.4 | Y13: 25.9 | Z13: 26.7 | AA13: 22.9 | AB13: 21.4 | AC13: 21.9 | AD13: 23.2 | AE13: 26.7 | AF13: 22.3 | AG13: 22.7 | AH13: 19.7 | AI13: 21.9 | AJ13: 16.4 | AK13: 20 | AL13: 15.4 | AM13: 15.2 | AN13: 14.9 | AO13: 15.1 | AP13: 18.3 | AQ13: 17.1 | AR13: 20.6 | AS13: 18.6 | AT13: 21 | AU13: 19.8 | AV13: 21.1 | AW13: 21.5 | AX13: 27.1 | AY13: 21.5 | AZ13: 22.4 | BA13: 27.3 | BB13: 29.5 | BC13: 26.5 | BD13: 23.3 | BE13: 26.2 | BF13: 25.7 | BG13: 32.1 | BH13: 29.8
A14: Males | B14: 60–64 | C14: Age-specific rate (per 100,000) | D14: 32.8 | E14: 28.1 | F14: 27.6 | G14: 29.3 | H14: 21.8 | I14: 26.1 | J14: 25.7 | K14: 21.1 | L14: 19.9 | M14: 22.6 | N14: 22.3 | O14: 22.9 | P14: 22.3 | Q14: 23.6 | R14: 25.3 | S14: 25.7 | T14: 23.5 | U14: 21.5 | V14: 23.6 | W14: 24.5 | X14: 25.2 | Y14: 19.7 | Z14: 22.8 | AA14: 19.6 | AB14: 24.8 | AC14: 24.1 | AD14: 23.1 | AE14: 19.6 | AF14: 25 | AG14: 22.2 | AH14: 20.3 | AI14: 19.3 | AJ14: 16.6 | AK14: 18 | AL14: 17.5 | AM14: 15.2 | AN14: 17.3 | AO14: 14.5 | AP14: 16.5 | AQ14: 17.6 | AR14: 15.7 | AS14: 20.2 | AT14: 19.3 | AU14: 16.5 | AV14: 17.6 | AW14: 18.9 | AX14: 21.4 | AY14: 19.7 | AZ14: 21.6 | BA14: 20.8 | BB14: 24 | BC14: 24.2 | BD14: 23.9 | BE14: 22.6 | BF14: 21.8 | BG14: 20.6 | BH14: 25.2
A15: Males | B15: 65–69 | C15: Age-specific rate (per 100,000) | D15: 29 | E15: 37.9 | F15: 28.6 | G15: 31.1 | H15: 31.3 | I15: 31.9 | J15: 29.6 | K15: 27.4 | L15: 28 | M15: 27.6 | N15: 20 | O15: 20.1 | P15: 22.8 | Q15: 28 | R15: 29.7 | S15: 27.4 | T15: 25.7 | U15: 21.3 | V15: 23.3 | W15: 23.3 | X15: 24.3 | Y15: 23.1 | Z15: 25.2 | AA15: 21.2 | AB15: 25.6 | AC15: 22.5 | AD15: 22.9 | AE15: 18.9 | AF15: 20.3 | AG15: 22.9 | AH15: 26.1 | AI15: 19 | AJ15: 17.3 | AK15: 18.9 | AL15: 18.7 | AM15: 18 | AN15: 19.7 | AO15: 12.6 | AP15: 14.7 | AQ15: 15.4 | AR15: 20 | AS15: 14.9 | AT15: 13.7 | AU15: 17.3 | AV15: 15.2 | AW15: 16.8 | AX15: 16.9 | AY15: 19.2 | AZ15: 16.1 | BA15: 22 | BB15: 16.3 | BC15: 18.1 | BD15: 18.2 | BE15: 19.3 | BF15: 21.1 | BG15: 19.6 | BH15: 19
A16: Males | B16: 70–74 | C16: Age-specific rate (per 100,000) | D16: 37.1 | E16: 34.4 | F16: 35.2 | G16: 35.4 | H16: 26.5 | I16: 29.2 | J16: 32.8 | K16: 31.6 | L16: 34.8 | M16: 32.3 | N16: 25 | O16: 26.1 | P16: 21.2 | Q16: 25 | R16: 25.6 | S16: 32 | T16: 23.1 | U16: 28.8 | V16: 32 | W16: 35.7 | X16: 32.4 | Y16: 32.5 | Z16: 27.5 | AA16: 24.9 | AB16: 29.7 | AC16: 24.4 | AD16: 24.7 | AE16: 20.1 | AF16: 24.7 | AG16: 24.6 | AH16: 17.1 | AI16: 26.3 | AJ16: 21.5 | AK16: 21.2 | AL16: 16.9 | AM16: 21.7 | AN16: 21.5 | AO16: 16.5 | AP16: 19 | AQ16: 14.3 | AR16: 17.9 | AS16: 14.9 | AT16: 16.9 | AU16: 14.6 | AV16: 18.9 | AW16: 17.8 | AX16: 16.8 | AY16: 19.2 | AZ16: 15.1 | BA16: 19.1 | BB16: 17.2 | BC16: 18.3 | BD16: 17.4 | BE16: 19.6 | BF16: 20 | BG16: 18.3 | BH16: 19.8
... A20: Males | B20: Total | C20: Crude rate (per 100,000) | D20: 16.9 | E20: 16.6 | F20: 17.1 | G20: 17.5 | H20: 16.2 | I20: 15.3 | J20: 15.6 | K20: 15.1 | L20: 15.6 | M20: 15.9 | N20: 15.7 | O20: 16.5 | P20: 16.3 | Q20: 16.9 | R20: 17.4 | S20: 17 | T20: 16.8 | U20: 18.1 | V20: 19.1 | W20: 21.8 | X20: 21 | Y20: 19.8 | Z20: 20.4 | AA20: 21.4 | AB20: 20.9 | AC20: 19.2 | AD20: 20.6 | AE20: 20.9 | AF20: 21.3 | AG20: 23.4 | AH20: 23.3 | AI20: 21.4 | AJ20: 19.7 | AK20: 20.2 | AL20: 18.8 | AM20: 17.7 | AN20: 16.8 | AO20: 16.5 | AP20: 16 | AQ20: 16.4 | AR20: 17.3 | AS20: 16.5 | AT20: 17.5 | AU20: 16.3 | AV20: 17.1 | AW20: 17 | AX20: 19 | AY20: 19.8 | AZ20: 18.3 | BA20: 20.1 | BB20: 19.7 | BC20: 20.2 | BD20: 19 | BE20: 18.9 | BF20: 19.4 | BG20: 18.7 | BH20: 18.7
A21: Females | B21: 0–14 | C21: Age-specific rate (per 100,000) | D21: 0 | E21: 0 | F21: n.p. | G21: n.p. | H21: n.p. | I21: 0 | J21: n.p. | K21: n.p. | L21: n.p. | M21: n.p. | N21: 0 | O21: n.p. | P21: n.p. | Q21: n.p. | R21: 0 | S21: n.p. | T21: 0 | U21: n.p. | V21: n.p. | W21: n.p. | X21: n.p. | Y21: n.p. | Z21: 0 | AA21: n.p. | AB21: n.p. | AC21: n.p. | AD21: n.p. | AE21: 0 | AF21: 0.4 | AG21: 0.4 | AH21: n.p. | AI21: 0.4 | AJ21: n.p. | AK21: n.p. | AL21: n.p. | AM21: 0.4 | AN21: n.p. | AO21: n.p. | AP21: n.p. | AQ21: n.p. | AR21: n.p. | AS21: n.p. | AT21: 0.2 | AU21: 0.4 | AV21: 0.5 | AW21: 0.3 | AX21: 0.7 | AY21: 0.4 | AZ21: 0.3 | BA21: 0.4 | BB21: 0.4 | BC21: 0.4 | BD21: 0.5 | BE21: 0.8 | BF21: 0.2 | BG21: 0.6 | BH21: 0.5
A22: Females | B22: 5–14 | C22: Age-specific rate (per 100,000) | D22: 0 | E22: 0 | F22: n.p. | G22: n.p. | H22: n.p. | I22: 0 | J22: n.p. | K22: n.p. | L22: n.p. | M22: n.p. | N22: 0 | O22: n.p. | P22: n.p. | Q22: n.p. | R22: 0 | S22: n.p. | T22: 0 | U22: n.p. | V22: n.p. | W22: n.p. | X22: n.p. | Y22: n.p. | Z22: 0 | AA22: n.p. | AB22: n.p. | AC22: n.p. | AD22: n.p. | AE22: 0 | AF22: 0.6 | AG22: 0.5 | AH22: n.p. | AI22: 0.5 | AJ22: n.p. | AK22: n.p. | AL22: n.p. | AM22: 0.5 | AN22: n.p. | AO22: n.p. | AP22: n.p. | AQ22: n.p. | AR22: n.p. | AS22: n.p. | AT22: 0.4 | AU22: 0.7 | AV22: 0.7 | AW22: 0.4 | AX22: 1.1 | AY22: 0.6 | AZ22: 0.5 | BA22: 0.5 | BB22: 0.7 | BC22: 0.6 | BD22: 0.7 | BE22: 1.1 | BF22: 0.3 | BG22: 0.9 | BH22: 0.8
A23: Females | B23: 15–19 | C23: Age-specific rate (per 100,000) | D23: 1.5 | E23: 3 | F23: 2.6 | G23: 5.2 | H23: 4.4 | I23: 4.6 | J23: 4.4 | K23: 2.5 | L23: 2.6 | M23: 3.2 | N23: 3.8 | O23: 3.6 | P23: 2.3 | Q23: 2.4 | R23: 1.7 | S23: 1.9 | T23: 2.4 | U23: 3.6 | V23: 3 | W23: 6.2 | X23: 3.8 | Y23: 1.9 | Z23: 5 | AA23: 3.2 | AB23: 4.8 | AC23: 3 | AD23: 2.7 | AE23: 4.7 | AF23: 4.2 | AG23: 5.3 | AH23: 5.6 | AI23: 4.3 | AJ23: 6.4 | AK23: 3.8 | AL23: 4.1 | AM23: 3.6 | AN23: 4.8 | AO23: 3.6 | AP23: 4.3 | AQ23: 4.6 | AR23: 3.6 | AS23: 3.9 | AT23: 3.7 | AU23: 5.1 | AV23: 8.3 | AW23: 5.7 | AX23: 5.4 | AY23: 7.9 | AZ23: 5.1 | BA23: 7.1 | BB23: 7 | BC23: 6.6 | BD23: 6.1 | BE23: 7.1 | BF23: 6.5 | BG23: 6.7 | BH23: 4
A24: Females | B24: 20–24 | C24: Age-specific rate (per 100,000) | D24: 6.6 | E24: 5 | F24: 6.9 | G24: 6.8 | H24: 7 | I24: 7.9 | J24: 4.4 | K24: 5.4 | L24: 5.5 | M24: 5.4 | N24: 6.4 | O24: 7.9 | P24: 6.6 | Q24: 6.4 | R24: 4.7 | S24: 4.8 | T24: 6.3 | U24: 6.2 | V24: 7.8 | W24: 5.8 | X24: 5.2 | Y24: 5 | Z24: 3.9 | AA24: 9.4 | AB24: 6.5 | AC24: 5.1 | AD24: 5.7 | AE24: 7.8 | AF24: 4.4 | AG24: 9 | AH24: 7.3 | AI24: 6.9 | AJ24: 5.4 | AK24: 6 | AL24: 4.5 | AM24: 3.8 | AN24: 5.5 | AO24: 4.7 | AP24: 5.5 | AQ24: 4.7 | AR24: 4.7 | AS24: 4.9 | AT24: 7 | AU24: 7.2 | AV24: 6.3 | AW24: 6.7 | AX24: 7.3 | AY24: 6.6 | AZ24: 8 | BA24: 6.8 | BB24: 6.2 | BC24: 8.4 | BD24: 7.1 | BE24: 9.3 | BF24: 9.2 | BG24: 7.1 | BH24: 5.8
A25: Females | B25: 25–29 | C25: Age-specific rate (per 100,000) | D25: 10.1 | E25: 8.4 | F25: 9.1 | G25: 11 | H25: 8.6 | I25: 7.8 | J25: 8.8 | K25: 7 | L25: 4.3 | M25: 6.6 | N25: 7.2 | O25: 7.9 | P25: 7.3 | Q25: 5.9 | R25: 9 | S25: 6.8 | T25: 6.3 | U25: 6.1 | V25: 6.7 | W25: 6.4 | X25: 6.2 | Y25: 6.9 | Z25: 5.9 | AA25: 8 | AB25: 6.1 | AC25: 5.6 | AD25: 6.4 | AE25: 7.2 | AF25: 7 | AG25: 8.2 | AH25: 7.7 | AI25: 7.6 | AJ25: 7.9 | AK25: 7.9 | AL25: 6.9 | AM25: 6.1 | AN25: 4.5 | AO25: 6.4 | AP25: 5.1 | AQ25: 5.8 | AR25: 5 | AS25: 6.4 | AT25: 6.4 | AU25: 5 | AV25: 5.1 | AW25: 5.6 | AX25: 6.5 | AY25: 6.7 | AZ25: 7.5 | BA25: 7.6 | BB25: 6.9 | BC25: 8.5 | BD25: 8.3 | BE25: 7.9 | BF25: 8.5 | BG25: 8.2 | BH25: 9.8
A26: Females | B26: 30–34 | C26: Age-specific rate (per 100,000) | D26: 11.7 | E26: 9.8 | F26: 6.4 | G26: 14.3 | H26: 8.3 | I26: 8.1 | J26: 7.3 | K26: 8.5 | L26: 7.8 | M26: 6.3 | N26: 7.4 | O26: 6.9 | P26: 6.4 | Q26: 5.8 | R26: 5.1 | S26: 6 | T26: 6.8 | U26: 3.2 | V26: 5.8 | W26: 5.7 | X26: 8.2 | Y26: 6.8 | Z26: 8.1 | AA26: 6.7 | AB26: 8 | AC26: 5.5 | AD26: 5.7 | AE26: 6.9 | AF26: 6.5 | AG26: 7.9 | AH26: 7.5 | AI26: 8.6 | AJ26: 6.9 | AK26: 7.2 | AL26: 7.4 | AM26: 9.2 | AN26: 6.3 | AO26: 4.8 | AP26: 5.3 | AQ26: 6.7 | AR26: 7.3 | AS26: 7.2 | AT26: 6.3 | AU26: 5.7 | AV26: 6.9 | AW26: 5.7 | AX26: 7.5 | AY26: 6.7 | AZ26: 8.6 | BA26: 7.6 | BB26: 6.6 | BC26: 6.2 | BD26: 8.2 | BE26: 7 | BF26: 7.8 | BG26: 6.9 | BH26: 7.5
A27: Females | B27: 35–39 | C27: Age-specific rate (per 100,000) | D27: 14.2 | E27: 12.1 | F27: 12.1 | G27: 12.6 | H27: 13.5 | I27: 12.1 | J27: 10.8 | K27: 10.2 | L27: 5.9 | M27: 10 | N27: 9.6 | O27: 8.6 | P27: 9.5 | Q27: 8 | R27: 8.2 | S27: 7.3 | T27: 7.1 | U27: 7.1 | V27: 7.7 | W27: 7.4 | X27: 7.9 | Y27: 5.4 | Z27: 5.3 | AA27: 6.8 | AB27: 6.6 | AC27: 7.7 | AD27: 7.9 | AE27: 7 | AF27: 8.9 | AG27: 8.7 | AH27: 10.3 | AI27: 6.4 | AJ27: 8.9 | AK27: 9 | AL27: 6.5 | AM27: 7.8 | AN27: 5.6 | AO27: 6.9 | AP27: 7.2 | AQ27: 6.6 | AR27: 7.9 | AS27: 7.1 | AT27: 7.3 | AU27: 7.5 | AV27: 8.3 | AW27: 8.2 | AX27: 9.8 | AY27: 8.8 | AZ27: 7.4 | BA27: 7.1 | BB27: 7.5 | BC27: 9.4 | BD27: 7.6 | BE27: 8.2 | BF27: 8.3 | BG27: 7.4 | BH27: 5.7
A28: Females | B28: 40–44 | C28: Age-specific rate (per 100,000) | D28: 13.5 | E28: 14.9 | F28: 11.3 | G28: 15.5 | H28: 17 | I28: 10.6 | J28: 13.8 | K28: 14.8 | L28: 9.1 | M28: 10.8 | N28: 10.3 | O28: 9.8 | P28: 10.1 | Q28: 9.1 | R28: 8.5 | S28: 6.7 | T28: 6.2 | U28: 4.9 | V28: 7.3 | W28: 7.7 | X28: 7 | Y28: 8.1 | Z28: 6.5 | AA28: 8 | AB28: 7.8 | AC28: 4.2 | AD28: 6.7 | AE28: 8.1 | AF28: 6.7 | AG28: 8.4 | AH28: 8.3 | AI28: 7.9 | AJ28: 9 | AK28: 7.2 | AL28: 9.8 | AM28: 5.9 | AN28: 6.5 | AO28: 5.6 | AP28: 7.5 | AQ28: 7.8 | AR28: 6.9 | AS28: 6.4 | AT28: 7 | AU28: 8.1 | AV28: 8.6 | AW28: 9.5 | AX28: 8.2 | AY28: 8.4 | AZ28: 8.2 | BA28: 10.2 | BB28: 9.8 | BC28: 10.3 | BD28: 8.2 | BE28: 8.7 | BF28: 7.4 | BG28: 8.6 | BH28: 7.3
A29: Females | B29: 45–49 | C29: Age-specific rate (per 100,000) | D29: 16.7 | E29: 16.5 | F29: 16.7 | G29: 19.5 | H29: 16.7 | I29: 14.6 | J29: 12.3 | K29: 16.5 | L29: 13.5 | M29: 14.1 | N29: 14.8 | O29: 11.2 | P29: 9.7 | Q29: 11.7 | R29: 11 | S29: 8.8 | T29: 12.4 | U29: 9.8 | V29: 11.2 | W29: 8.5 | X29: 8.3 | Y29: 6.1 | Z29: 7.1 | AA29: 8 | AB29: 6.1 | AC29: 7.5 | AD29: 6.4 | AE29: 7.8 | AF29: 7.8 | AG29: 7 | AH29: 5.1 | AI29: 8.6 | AJ29: 5.1 | AK29: 7.2 | AL29: 7.4 | AM29: 8.1 | AN29: 7.1 | AO29: 6.3 | AP29: 5 | AQ29: 7 | AR29: 7.2 | AS29: 6.1 | AT29: 8.2 | AU29: 7.3 | AV29: 6.6 | AW29: 8.4 | AX29: 7.9 | AY29: 11.3 | AZ29: 8.4 | BA29: 11.1 | BB29: 8.5 | BC29: 7.7 | BD29: 9.7 | BE29: 8.2 | BF29: 9.4 | BG29: 7.6 | BH29: 8.1
A30: Females | B30: 50–54 | C30: Age-specific rate (per 100,000) | D30: 21.3 | E30: 19 | F30: 12.3 | G30: 18.6 | H30: 19.7 | I30: 14.9 | J30: 15.5 | K30: 13.2 | L30: 14.1 | M30: 10.5 | N30: 11.2 | O30: 14.2 | P30: 8.7 | Q30: 11.1 | R30: 14.2 | S30: 10.3 | T30: 8.6 | U30: 7.5 | V30: 10.3 | W30: 8.7 | X30: 8.2 | Y30: 8.2 | Z30: 6.5 | AA30: 7.5 | AB30: 6.8 | AC30: 6.5 | AD30: 6.6 | AE30: 8.6 | AF30: 7.7 | AG30: 9.5 | AH30: 6.8 | AI30: 6.7 | AJ30: 5.3 | AK30: 8.9 | AL30: 6.7 | AM30: 5.5 | AN30: 5.8 | AO30: 5.9 | AP30: 6.8 | AQ30: 8 | AR30: 8.5 | AS30: 9.3 | AT30: 7.5 | AU30: 6.5 | AV30: 9.2 | AW30: 8.9 | AX30: 9.1 | AY30: 10.1 | AZ30: 10.6 | BA30: 11.4 | BB30: 9.3 | BC30: 8.9 | BD30: 6.5 | BE30: 9.3 | BF30: 9.4 | BG30: 10.5 | BH30: 8.3
A31: Females | B31: 55–59 | C31: Age-specific rate (per 100,000) | D31: 14.4 | E31: 14 | F31: 15.7 | G31: 14.2 | H31: 15.2 | I31: 16.4 | J31: 15.9 | K31: 16.6 | L31: 13.4 | M31: 12.9 | N31: 11.6 | O31: 11.8 | P31: 9.7 | Q31: 10.8 | R31: 9.9 | S31: 10.7 | T31: 8.8 | U31: 8.6 | V31: 8.9 | W31: 10.1 | X31: 7.2 | Y31: 8 | Z31: 6.7 | AA31: 11.2 | AB31: 7.6 | AC31: 5.1 | AD31: 6 | AE31: 7.9 | AF31: 5.2 | AG31: 7.6 | AH31: 7 | AI31: 4.4 | AJ31: 6.2 | AK31: 5.7 | AL31: 6.6 | AM31: 6.5 | AN31: 4.1 | AO31: 4.1 | AP31: 6.8 | AQ31: 7.3 | AR31: 6.1 | AS31: 7.4 | AT31: 6.8 | AU31: 7.9 | AV31: 6.5 | AW31: 7 | AX31: 7.9 | AY31: 9.2 | AZ31: 7 | BA31: 9.9 | BB31: 8.6 | BC31: 9.7 | BD31: 6 | BE31: 7.6 | BF31: 7.4 | BG31: 8 | BH31: 7.6
A32: Females | B32: 60–64 | C32: Age-specific rate (per 100,000) | D32: 21.5 | E32: 15.3 | F32: 18.9 | G32: 17.6 | H32: 13.5 | I32: 12.4 | J32: 13 | K32: 9.3 | L32: 10.8 | M32: 12.4 | N32: 12.1 | O32: 13.2 | P32: 5.5 | Q32: 6.8 | R32: 12.4 | S32: 10.5 | T32: 7.6 | U32: 8 | V32: 7.6 | W32: 7.3 | X32: 10.3 | Y32: 8.9 | Z32: 5.7 | AA32: 8.9 | AB32: 6.6 | AC32: 5 | AD32: 6.7 | AE32: 5.3 | AF32: 5.4 | AG32: 6.6 | AH32: 6.2 | AI32: 5.8 | AJ32: 5.6 | AK32: 4.9 | AL32: 5 | AM32: 5.1 | AN32: 3.8 | AO32: 5.4 | AP32: 6.1 | AQ32: 7.2 | AR32: 3.8 | AS32: 5.5 | AT32: 5 | AU32: 4.2 | AV32: 6.2 | AW32: 7.5 | AX32: 6.1 | AY32: 5.8 | AZ32: 6 | BA32: 7.9 | BB32: 7 | BC32: 7.4 | BD32: 6.5 | BE32: 5.6 | BF32: 6.8 | BG32: 6.3 | BH32: 7.4
A33: Females | B33: 65–69 | C33: Age-specific rate (per 100,000) | D33: 16.2 | E33: 15 | F33: 11.9 | G33: 13.8 | H33: 9.2 | I33: 8 | J33: 14.6 | K33: 10.4 | L33: 7.3 | M33: 9.7 | N33: 11.3 | O33: 9.8 | P33: 7.4 | Q33: 8.7 | R33: 8.6 | S33: 8.9 | T33: 6.9 | U33: 7.2 | V33: 7.6 | W33: 9.8 | X33: 7 | Y33: 10.5 | Z33: 7.7 | AA33: 5.7 | AB33: 6.8 | AC33: 5.6 | AD33: 4 | AE33: 6.5 | AF33: 4.2 | AG33: 7.1 | AH33: 5.8 | AI33: 4.9 | AJ33: 5.8 | AK33: 3.8 | AL33: 4.3 | AM33: 5.5 | AN33: 4.6 | AO33: 5.2 | AP33: 4.9 | AQ33: 4.7 | AR33: 3.8 | AS33: 5.1 | AT33: 3.3 | AU33: 3.5 | AV33: 4.3 | AW33: 5 | AX33: 5.9 | AY33: 4.6 | AZ33: 4.8 | BA33: 5.8 | BB33: 6.3 | BC33: 4.7 | BD33: 4.7 | BE33: 4.7 | BF33: 4.6 | BG33: 5.4 | BH33: 5.1
A34: Females | B34: 70–74 | C34: Age-specific rate (per 100,000) | D34: 7.4 | E34: 10.5 | F34: 17.7 | G34: 16.3 | H34: 12 | I34: 16.2 | J34: 9.2 | K34: 9.7 | L34: 9 | M34: 6.2 | N34: 8.9 | O34: 12 | P34: 6.5 | Q34: 7.5 | R34: 12.4 | S34: 8.3 | T34: 5.9 | U34: 8.1 | V34: 7.6 | W34: 9 | X34: 7.8 | Y34: 8.3 | Z34: 8.1 | AA34: 7.8 | AB34: 7.2 | AC34: 6.3 | AD34: 5.7 | AE34: 4.4 | AF34: 7.1 | AG34: 6.7 | AH34: 6.4 | AI34: 3.6 | AJ34: 6.3 | AK34: 6 | AL34: 4.5 | AM34: 4 | AN34: 3.7 | AO34: 5.6 | AP34: 7.1 | AQ34: 4.5 | AR34: 6.2 | AS34: 4 | AT34: 4.4 | AU34: 5.9 | AV34: 4.7 | AW34: 5.8 | AX34: 6.7 | AY34: 6.5 | AZ34: 5.3 | BA34: 7 | BB34: 4.8 | BC34: 4.6 | BD34: 5.6 | BE34: 5.1 | BF34: 6.7 | BG34: 5.6 | BH34: 6
... A38: Females | B38: Total | C38: Crude rate (per 100,000) | D38: 8.5 | E38: 7.8 | F38: 7.6 | G38: 9 | H38: 8.2 | I38: 7.3 | J38: 7.2 | K38: 6.9 | L38: 5.8 | M38: 6.2 | N38: 6.5 | O38: 6.6 | P38: 5.5 | Q38: 5.5 | R38: 6 | S38: 5.4 | T38: 5.2 | U38: 5 | V38: 5.6 | W38: 5.7 | X38: 5.6 | Y38: 5.2 | Z38: 5 | AA38: 5.9 | AB38: 5.4 | AC38: 4.5 | AD38: 4.8 | AE38: 5.5 | AF38: 5 | AG38: 6.2 | AH38: 5.7 | AI38: 5.2 | AJ38: 5.2 | AK38: 5.4 | AL38: 5.1 | AM38: 4.8 | AN38: 4.4 | AO38: 4.4 | AP38: 4.8 | AQ38: 5.1 | AR38: 4.8 | AS38: 5.1 | AT38: 5.1 | AU38: 5.2 | AV38: 5.7 | AW38: 5.8 | AX38: 6.1 | AY38: 6.4 | AZ38: 6.1 | BA38: 6.8 | BB38: 6.1 | BC38: 6.5 | BD38: 5.9 | BE38: 6.2 | BF38: 6.4 | BG38: 6.1 | BH38: 5.7
A39: Persons | B39: 0–14 | C39: Age-specific rate (per 100,000) | D39: 0.2 | E39: 0.2 | F39: 0.2 | G39: 0.3 | H39: 0.1 | I39: n.p. | J39: 0.2 | K39: 0.3 | L39: 0.2 | M39: 0.2 | N39: 0.2 | O39: n.p. | P39: 0.2 | Q39: 0.1 | R39: 0.3 | S39: 0.2 | T39: 0.2 | U39: 0.2 | V39: 0.4 | W39: 0.4 | X39: 0.2 | Y39: 0.2 | Z39: 0.2 | AA39: 0.2 | AB39: 0.2 | AC39: 0.1 | AD39: 0.2 | AE39: 0.1 | AF39: 0.4 | AG39: 0.4 | AH39: 0.2 | AI39: 0.4 | AJ39: 0.2 | AK39: 0.3 | AL39: 0.2 | AM39: 0.3 | AN39: 0.2 | AO39: 0.3 | AP39: 0.2 | AQ39: 0.3 | AR39: 0.3 | AS39: n.p. | AT39: 0.3 | AU39: 0.4 | AV39: 0.4 | AW39: 0.5 | AX39: 0.5 | AY39: 0.3 | AZ39: 0.4 | BA39: 0.5 | BB39: 0.5 | BC39: 0.4 | BD39: 0.5 | BE39: 0.7 | BF39: 0.3 | BG39: 0.6 | BH39: 0.4
A40: Persons | B40: 5–14 | C40: Age-specific rate (per 100,000) | D40: 0.3 | E40: 0.3 | F40: 0.3 | G40: 0.4 | H40: 0.2 | I40: n.p. | J40: 0.2 | K40: 0.4 | L40: 0.2 | M40: 0.3 | N40: 0.2 | O40: n.p. | P40: 0.2 | Q40: 0.2 | R40: 0.5 | S40: 0.3 | T40: 0.4 | U40: 0.3 | V40: 0.6 | W40: 0.5 | X40: 0.3 | Y40: 0.4 | Z40: 0.2 | AA40: 0.3 | AB40: 0.3 | AC40: 0.2 | AD40: 0.2 | AE40: 0.2 | AF40: 0.5 | AG40: 0.6 | AH40: 0.3 | AI40: 0.6 | AJ40: 0.3 | AK40: 0.4 | AL40: 0.3 | AM40: 0.5 | AN40: 0.3 | AO40: 0.4 | AP40: 0.3 | AQ40: 0.4 | AR40: 0.4 | AS40: n.p. | AT40: 0.5 | AU40: 0.6 | AV40: 0.6 | AW40: 0.8 | AX40: 0.8 | AY40: 0.4 | AZ40: 0.6 | BA40: 0.8 | BB40: 0.7 | BC40: 0.6 | BD40: 0.8 | BE40: 1 | BF40: 0.4 | BG40: 0.9 | BH40: 0.5
A41: Persons | B41: 15–19 | C41: Age-specific rate (per 100,000) | D41: 5.3 | E41: 4.2 | F41: 5.5 | G41: 9.2 | H41: 6.4 | I41: 6.3 | J41: 7.8 | K41: 5.8 | L41: 6.4 | M41: 7.1 | N41: 7.1 | O41: 8.2 | P41: 6.2 | Q41: 6.7 | R41: 6.2 | S41: 5.7 | T41: 6.4 | U41: 10.3 | V41: 8.2 | W41: 11.8 | X41: 12.6 | Y41: 10.3 | Z41: 11.6 | AA41: 11.3 | AB41: 11.8 | AC41: 10.1 | AD41: 10.9 | AE41: 10.1 | AF41: 11 | AG41: 12.2 | AH41: 11.8 | AI41: 9.6 | AJ41: 9.9 | AK41: 9 | AL41: 9.2 | AM41: 8.3 | AN41: 6.2 | AO41: 6.6 | AP41: 7.9 | AQ41: 8.2 | AR41: 6.8 | AS41: 7.2 | AT41: 8 | AU41: 8 | AV41: 9 | AW41: 10.6 | AX41: 9.1 | AY41: 10.2 | AZ41: 9.4 | BA41: 11.1 | BB41: 12.6 | BC41: 11.6 | BD41: 12 | BE41: 10.5 | BF41: 8.2 | BG41: 9.1 | BH41: 6.9
A42: Persons | B42: 20–24 | C42: Age-specific rate (per 100,000) | D42: 9.6 | E42: 10.9 | F42: 11.9 | G42: 12.7 | H42: 13.6 | I42: 14.7 | J42: 12.5 | K42: 12.1 | L42: 12.9 | M42: 12.9 | N42: 15.8 | O42: 15.9 | P42: 16.1 | Q42: 15.9 | R42: 16.5 | S42: 16.2 | T42: 16.8 | U42: 18.9 | V42: 18.7 | W42: 19.1 | X42: 20.4 | Y42: 17.5 | Z42: 20.4 | AA42: 22.1 | AB42: 20.9 | AC42: 18.8 | AD42: 20.4 | AE42: 21.6 | AF42: 19.2 | AG42: 26.3 | AH42: 22.4 | AI42: 19.8 | AJ42: 16.3 | AK42: 17 | AL42: 14.7 | AM42: 13.9 | AN42: 13 | AO42: 14.1 | AP42: 13 | AQ42: 12.4 | AR42: 12.4 | AS42: 10.8 | AT42: 11.8 | AU42: 13.5 | AV42: 12 | AW42: 12.7 | AX42: 14.4 | AY42: 14.8 | AZ42: 16 | BA42: 14.8 | BB42: 15.2 | BC42: 16.8 | BD42: 16.4 | BE42: 16 | BF42: 15.2 | BG42: 13.2 | BH42: 11.3
A43: Persons | B43: 25–29 | C43: Age-specific rate (per 100,000) | D43: 13 | E43: 15.4 | F43: 15.1 | G43: 15.5 | H43: 13.2 | I43: 11.5 | J43: 12.4 | K43: 13.5 | L43: 12.1 | M43: 13.9 | N43: 15.6 | O43: 15.3 | P43: 15.1 | Q43: 14.3 | R43: 19.3 | S43: 16.8 | T43: 14.4 | U43: 18.3 | V43: 17.8 | W43: 18.9 | X43: 18.1 | Y43: 19.7 | Z43: 19.5 | AA43: 18.7 | AB43: 19.4 | AC43: 17.5 | AD43: 18.3 | AE43: 20.8 | AF43: 20.2 | AG43: 24.5 | AH43: 25.4 | AI43: 22.5 | AJ43: 20.3 | AK43: 20.2 | AL43: 19.1 | AM43: 16.4 | AN43: 15 | AO43: 14.7 | AP43: 11.5 | AQ43: 14 | AR43: 13.5 | AS43: 13.8 | AT43: 12 | AU43: 13.1 | AV43: 12.5 | AW43: 12.2 | AX43: 13.3 | AY43: 14.8 | AZ43: 14.4 | BA43: 16.2 | BB43: 15.1 | BC43: 16.6 | BD43: 15.7 | BE43: 16.4 | BF43: 16.6 | BG43: 16 | BH43: 16.1
A44: Persons | B44: 30–34 | C44: Age-specific rate (per 100,000) | D44: 17.1 | E44: 15.6 | F44: 13.1 | G44: 17.7 | H44: 14.1 | I44: 12 | J44: 12.1 | K44: 14.3 | L44: 14.9 | M44: 12.4 | N44: 13.1 | O44: 15.3 | P44: 14.5 | Q44: 13.5 | R44: 12.8 | S44: 14 | T44: 16.2 | U44: 13 | V44: 16.9 | W44: 16.1 | X44: 17.4 | Y44: 17.2 | Z44: 16.7 | AA44: 18.6 | AB44: 18.1 | AC44: 16.9 | AD44: 17.1 | AE44: 19.8 | AF44: 19.2 | AG44: 21.3 | AH44: 23.5 | AI44: 21.1 | AJ44: 20.4 | AK44: 21.5 | AL44: 19.1 | AM44: 19.7 | AN44: 17.8 | AO44: 16.2 | AP44: 13 | AQ44: 15.8 | AR44: 16.6 | AS44: 15 | AT44: 14.7 | AU44: 13.9 | AV44: 14.8 | AW44: 12.9 | AX44: 17.4 | AY44: 16 | AZ44: 18 | BA44: 17.6 | BB44: 15.2 | BC44: 16.2 | BD44: 15.8 | BE44: 15.2 | BF44: 16.5 | BG44: 15.1 | BH44: 13.7
A45: Persons | B45: 35–39 | C45: Age-specific rate (per 100,000) | D45: 20.6 | E45: 19 | F45: 18.3 | G45: 19.3 | H45: 19.2 | I45: 18 | J45: 15.3 | K45: 15.1 | L45: 14.9 | M45: 15 | N45: 16.4 | O45: 15.2 | P45: 15.9 | Q45: 14.6 | R45: 14.1 | S45: 13.4 | T45: 13.2 | U45: 13.4 | V45: 14.8 | W45: 17.2 | X45: 15.9 | Y45: 15.1 | Z45: 15.7 | AA45: 20.5 | AB45: 16.7 | AC45: 14.9 | AD45: 16.5 | AE45: 19 | AF45: 20.6 | AG45: 18.9 | AH45: 23.5 | AI45: 18.1 | AJ45: 20.1 | AK45: 20.7 | AL45: 18.4 | AM45: 16.7 | AN45: 14.8 | AO45: 14.8 | AP45: 15.9 | AQ45: 16.8 | AR45: 17 | AS45: 16.1 | AT45: 18 | AU45: 14.7 | AV45: 17.1 | AW45: 15 | AX45: 17.5 | AY45: 18.3 | AZ45: 16.2 | BA45: 17.3 | BB45: 17.6 | BC45: 18.6 | BD45: 15.8 | BE45: 16.8 | BF45: 16.5 | BG45: 14.6 | BH45: 15.7
A46: Persons | B46: 40–44 | C46: Age-specific rate (per 100,000) | D46: 20.9 | E46: 24.1 | F46: 19.9 | G46: 20.2 | H46: 22.2 | I46: 18.6 | J46: 19.2 | K46: 19.9 | L46: 16.7 | M46: 18.9 | N46: 16 | O46: 17.8 | P46: 18 | Q46: 18.1 | R46: 14.8 | S46: 13.3 | T46: 13.9 | U46: 15.7 | V46: 16.8 | W46: 18.7 | X46: 17.9 | Y46: 14.1 | Z46: 15.8 | AA46: 17.3 | AB46: 15.5 | AC46: 12.4 | AD46: 17.1 | AE46: 16.3 | AF46: 16.6 | AG46: 20 | AH46: 19 | AI46: 18.3 | AJ46: 19.1 | AK46: 17.7 | AL46: 18.9 | AM46: 15.9 | AN46: 16.9 | AO46: 16.2 | AP46: 14.8 | AQ46: 15 | AR46: 17.6 | AS46: 16.1 | AT46: 17.9 | AU46: 15.8 | AV46: 17.1 | AW46: 18 | AX46: 19.5 | AY46: 19.5 | AZ46: 17.9 | BA46: 21.2 | BB46: 17.9 | BC46: 19.8 | BD46: 17.5 | BE46: 15.8 | BF46: 17.5 | BG46: 18 | BH46: 18
...

Sheet Table NMD 3a
A1: Table NMD 3a: Suicide by sex, registration year and state and territory, 1979 to 2024
A2: Sex | B2: Year | C2: Measure | D2: NSW | E2: Vic | F2: Qld | G2: WA | H2: SA | I2: Tas | J2: ACT | K2: NT | L2: Australia
A3: Males | B3: 1979 | C3: Age-standardised rate (per 100,000) | D3: 17 | E3: 17.7 | F3: 21.5 | G3: 14.5 | H3: 21.6 | I3: 21.1 | J3: n.p. | K3: n.p. | L3: 18.2
A4: Males | B4: 1980 | C4: Age-standardised rate (per 100,000) | D4: 17.3 | E4: 18 | F4: 20.9 | G4: 18 | H4: 17.3 | I4: 18.1 | J4: n.p. | K4: n.p. | L4: 18.1
A5: Males | B5: 1981 | C5: Age-standardised rate (per 100,000) | D5: 17.2 | E5: 17.7 | F5: 21.4 | G5: 18.7 | H5: 19.4 | I5: 30 | J5: n.p. | K5: n.p. | L5: 18.7
A6: Males | B6: 1982 | C6: Age-standardised rate (per 100,000) | D6: 17.7 | E6: 18 | F6: 21.2 | G6: 20.8 | H6: 21.6 | I6: 20.8 | J6: n.p. | K6: n.p. | L6: 19
A7: Males | B7: 1983 | C7: Age-standardised rate (per 100,000) | D7: 16.8 | E7: 19.9 | F7: 19.9 | G7: 17.5 | H7: 16.1 | I7: 28.5 | J7: 24.4 | K7: n.p. | L7: 18.6
A8: Males | B8: 1984 | C8: Age-standardised rate (per 100,000) | D8: 15.3 | E8: 18.4 | F8: 21.5 | G8: 20.9 | H8: 19.1 | I8: 19 | J8: 20.6 | K8: n.p. | L8: 18.1
A9: Males | B9: 1985 | C9: Age-standardised rate (per 100,000) | D9: 19.2 | E9: 17.7 | F9: 21.6 | G9: 19.8 | H9: 15 | I9: 25.6 | J9: 22.1 | K9: n.p. | L9: 19.1
A10: Males | B10: 1986 | C10: Age-standardised rate (per 100,000) | D10: 18.2 | E10: 19.3 | F10: 24.8 | G10: 19.9 | H10: 21.1 | I10: 27.6 | J10: 18.2 | K10: n.p. | L10: 20.2
